{"text_format":"1","workbook":"xlsx","n_sheets":8,"sheets":["作成方法について","請負内訳書の記載例","常用内訳書の記載例","合計請求書","請負内訳書","請負内訳書（保留金あり）","請負内訳書 (2ページ　保留金あり)","常用内訳書 "],"not_rendered":{"charts":0,"images":5,"macros":1,"external_links":0,"defined_names":6,"comments":0,"pivot_tables":0},"unopened":[],"bounds":{"document_bytes":16777216,"sheet_cells":100000,"rows_first":2000,"rows_last":500,"rows_between":2000,"halvings":0,"cell_chars":16384,"cell_head_chars":4096},"cells_cut":0,"cells_raw":0,"read":"whole","date_system":"1900"}

{"sheet":"作成方法について","index":0,"n_rows":42,"n_cols":22,"rows_kept":42,"cut":false,"hidden":false,"merged":[[0,0,0,31],[40,11,40,15],[40,16,40,22],[41,11,41,15],[41,16,41,22],[38,11,38,15],[38,17,38,18],[38,19,38,20],[38,21,38,22],[39,11,39,15],[39,16,39,22],[36,11,36,15],[36,17,36,18],[36,19,36,20],[36,21,36,22],[37,11,37,15],[37,17,37,18],[37,19,37,20],[37,21,37,22],[34,2,34,6],[34,8,34,10],[34,12,34,14],[34,15,34,16],[34,18,34,20],[34,21,34,22],[33,2,33,6],[33,8,33,10],[33,12,33,14],[33,15,33,16],[33,18,33,20],[33,21,33,22],[32,2,32,6],[32,8,32,10],[32,12,32,14],[32,15,32,16],[32,18,32,20],[32,21,32,22],[31,2,31,6],[31,8,31,10],[31,12,31,14],[31,15,31,16],[31,18,31,20],[31,21,31,22],[30,2,30,6],[30,8,30,10],[30,12,30,14],[30,15,30,16],[30,18,30,20],[30,21,30,22],[29,2,29,6],[29,8,29,10],[29,12,29,14],[29,15,29,16],[29,18,29,20],[29,21,29,22],[28,2,28,6],[28,8,28,10],[28,12,28,14],[28,15,28,16],[28,18,28,20],[28,21,28,22],[27,2,27,6],[27,8,27,10],[27,12,27,14],[27,15,27,16],[27,18,27,20],[27,21,27,22],[26,2,26,6],[26,8,26,10],[26,12,26,14],[26,15,26,16],[26,18,26,20],[26,21,26,22],[25,2,25,6],[25,8,25,10],[25,12,25,14],[25,15,25,16],[25,18,25,20],[25,21,25,22],[24,1,24,6],[24,8,24,10],[24,12,24,14],[24,15,24,16],[24,18,24,20],[24,21,24,22],[21,4,21,5],[21,15,22,15],[21,17,21,22],[22,4,22,5],[22,10,22,11],[22,12,22,14],[22,17,22,22],[18,3,19,4],[18,5,19,10],[19,16,19,17],[19,19,19,22],[20,16,20,17],[20,19,20,22],[13,15,14,15],[13,16,14,22],[14,3,14,8],[15,16,15,22],[16,3,16,8],[16,16,16,22],[7,2,7,22],[8,16,8,17],[8,18,8,22],[9,16,9,17],[11,3,11,7],[11,15,12,15],[11,16,12,22],[12,3,12,8],[9,18,9,19],[9,20,9,22]]}
["請求書の入力及び提出方法について"]
[]
[]
[]
[]
[]
[]
[null,null,"合　計　請　求　書"]
[null,null,null,null,null,null,null,null,null,null,null,null,null,null,null,null,"請求日",null,"2025-04-30"]
[null,null,null,null,null,null,null,null,null,null,null,null,null,null,null,null,"適格請求書番号",null,"T -",null,"0123456789012"]
[]
[null,null,null," 〒555-0031",null,null,null,null,null,null,null,null,null,null,null,"住所","大阪府大阪市西淀川区出来島〇－〇－〇"]
[null,null,null,"大阪府大阪市西淀川区出来島3-1-18"]
[null,null,null,null,null,null,null,null,null,null,null,null,null,null,null,"社名","西淀川株式会社"]
[null,null,null,"　株式会社　ツバサ建業　　　御中"]
[null,null,null,null,null,null,null,null,null,null,null,null,null,null,null,"TEL","〇〇－△△△△－□□□□"]
[null,null,null,"  下記の通りご請求申し上げます。",null,null,null,null,null,null,null,null,null,null,null,"FAX","〇〇－△△△△－□□□□"]
[]
[null,null,null,"当月総請求額\n（税込）",null,{"$f":"Q42","v":4978455},null,null,null,null,null,null,null,null,null,"【振込先】"]
[null,null,null,null,null,null,null,null,null,null,null,null,null,null,null,"銀行名","〇〇〇銀行",null,"支店名","△△△支店"]
[null,null,null,null,null,null,null,null,null,null,null,null,null,null,null,"預金種類","当座",null,"口座番号",1234567]
[null,null,null,null,null,null,null,null,null,null,null,null,null,null,null,"口座名義","ﾌﾘｶﾞﾅ","ニシヨドガワ（カ"]
[null,null,null,null,null,null,null,null,null,null,"請求書担当者名",null,"西淀　太郎",null,null,null,"名義人","西淀川株式会社"]
[]
[null,"工事名称",null,null,null,null,null,"工事項目\n(請負・常用)","契約金額\n(税抜)",null,null,"出来高\n(％)","請求金額\n（税抜）",null,null,"交通費関連\n(税込)",null,"請求済\n（％）","累計金額\n(税抜)",null,null,"備　　　　考"]
[null,1,"大阪市中央区S造　解体工事",null,null,null,null,"請負",3500000,null,null,{"$f":"IFERROR(M26/I26,\"\")","v":0.35428571428571426},1240000,null,null,null,null,{"$f":"IFERROR(S26/I26,\"\")","v":0.7},2450000]
[null,2,"茨木市RC造　解体工事",null,null,null,null,"請負",60000000,null,null,{"$f":"IFERROR(M27/I27,\"\")","v":0.1},6000000,null,null,null,null,{"$f":"IFERROR(S27/I27,\"\")","v":0},null,null,null,"保留金解除"]
[null,3,"茨木市RC造　解体工事　減額",null,null,null,null,"請負",-3000000,null,null,1,-3000000,null,null,null,null,0,null,null,null,"覚書締結済み"]
[null,4,"神戸市会館　斫り工事",null,null,null,null,"常用",null,null,null,null,243050,null,null,3900]
[null,5,"※尼崎市　撤去工事",null,null,null,null,"常用",null,null,null,null,null,null,null,null,null,null,null,null,null,40000]
[null,6]
[null,7,null,null,null,null,null,null,null,null,null,"",null,null,null,null,null,""]
[null,8,null,null,null,null,null,null,null,null,null,"",null,null,null,null,null,""]
[null,9,null,null,null,null,null,null,null,null,null,"",null,null,null,null,null,""]
[null,10,null,null,null,null,null,null,null,null,null,"",null,null,null,null,null,""]
[]
[null,null,null,null,null,null,null,null,null,null,null,"工事小計(税抜)",null,null,null,null,"(10%)",{"$f":"SUM(M26:O35)","v":4483050},null,"(8%)",null,{"$f":"SUM(V26:W35)","v":40000}]
[null,null,null,null,null,null,null,null,null,null,null,"消費税",null,null,null,null,"(10%)",{"$f":"R37*1.1-R37","v":448305},null,"(8%)",null,{"$f":"V37*1.08-V37","v":3200}]
[null,null,null,null,null,null,null,null,null,null,null,"工事合計(税込)①",null,null,null,null,"(10%)",{"$f":"R37+R38","v":4931355},null,"(8%)",null,{"$f":"V37+V38","v":43200}]
[null,null,null,null,null,null,null,null,null,null,null,"交通費関連合計(税込)②",null,null,null,null,{"$f":"SUM(P26:Q35)","v":3900}]
[null,null,null,null,null,null,null,null,null,null,null,"(内消費税(10%))",null,null,null,null,{"$f":"Q40-(Q40/1.1)","v":354.54545454545496}]
[null,null,null,null,null,null,null,null,null,null,null,"総合計（①+②）",null,null,null,null,{"$f":"R39+V39+Q40","v":4978455}]

{"sheet":"請負内訳書の記載例","index":1,"n_rows":49,"n_cols":26,"rows_kept":49,"cut":false,"hidden":false,"merged":[[45,6,45,11],[45,12,45,13],[45,14,45,16],[45,17,45,20],[45,22,45,23],[48,6,48,11],[48,12,48,13],[48,14,48,16],[48,17,48,20],[48,22,48,23],[46,6,46,11],[46,12,46,13],[46,14,46,16],[46,17,46,20],[46,22,46,23],[47,6,47,11],[47,12,47,13],[47,14,47,16],[47,17,47,20],[47,22,47,23],[43,6,43,11],[43,12,43,13],[43,14,43,16],[43,17,43,20],[43,22,43,23],[44,6,44,11],[44,12,44,13],[44,14,44,16],[44,17,44,20],[44,22,44,23],[41,6,41,11],[41,12,41,13],[41,14,41,16],[41,17,41,20],[41,22,41,23],[38,7,38,10],[38,11,38,20],[42,6,42,11],[42,12,42,13],[42,14,42,16],[42,17,42,20],[42,22,42,23],[40,1,40,5],[40,6,40,11],[40,12,40,16],[40,17,40,20],[36,1,37,6],[36,7,36,10],[36,11,36,20],[36,23,36,25],[37,7,37,10],[37,11,37,14],[37,16,37,20],[37,23,37,25],[40,21,40,23],[40,24,40,25],[29,10,29,13],[29,14,29,19],[29,20,29,22],[29,23,29,25],[33,0,33,26],[35,7,35,9],[35,10,35,16],[35,21,35,22],[35,24,35,25],[27,6,27,11],[27,12,27,13],[27,14,27,16],[27,17,27,20],[27,22,27,23],[27,24,27,25],[26,6,26,11],[26,12,26,13],[26,14,26,16],[26,17,26,20],[26,22,26,23],[26,24,26,25],[25,6,25,11],[25,12,25,13],[25,14,25,16],[25,17,25,20],[25,22,25,23],[25,24,25,25],[24,6,24,11],[24,12,24,13],[24,14,24,16],[24,17,24,20],[24,22,24,23],[24,24,24,25],[23,6,23,11],[23,12,23,13],[23,14,23,16],[23,17,23,20],[23,22,23,23],[23,24,23,25],[22,6,22,11],[22,12,22,13],[22,14,22,16],[22,17,22,20],[22,22,22,23],[22,24,22,25],[21,6,21,11],[21,12,21,13],[21,14,21,16],[21,17,21,20],[21,22,21,23],[21,24,21,25],[20,6,20,11],[20,12,20,13],[20,14,20,16],[20,17,20,20],[20,22,20,23],[20,24,20,25],[19,6,19,11],[19,12,19,13],[19,14,19,16],[19,17,19,20],[19,22,19,23],[19,24,19,25],[18,6,18,11],[18,12,18,13],[18,14,18,16],[18,17,18,20],[18,22,18,23],[18,24,18,25],[17,6,17,11],[17,12,17,13],[17,14,17,16],[17,17,17,20],[17,22,17,23],[17,24,17,25],[16,6,16,11],[16,12,16,13],[16,14,16,16],[16,17,16,20],[16,22,16,23],[16,24,16,25],[15,6,15,11],[15,12,15,13],[15,14,15,16],[15,17,15,20],[15,22,15,23],[15,24,15,25],[14,6,14,11],[14,12,14,13],[14,14,14,16],[14,17,14,20],[14,22,14,23],[14,24,14,25],[13,6,13,11],[13,12,13,13],[13,14,13,16],[13,17,13,20],[13,22,13,23],[13,24,13,25],[12,6,12,11],[12,12,12,13],[12,14,12,16],[12,17,12,20],[12,22,12,23],[12,24,12,25],[9,24,9,25],[7,24,7,25],[8,6,8,11],[8,12,8,13],[8,14,8,16],[8,17,8,20],[8,22,8,23],[8,24,8,25],[11,6,11,11],[11,12,11,13],[11,14,11,16],[11,17,11,20],[11,22,11,23],[11,24,11,25],[10,6,10,11],[10,12,10,13],[10,14,10,16],[10,17,10,20],[10,22,10,23],[10,24,10,25],[5,7,5,10],[5,11,5,20],[7,1,7,5],[7,6,7,11],[7,12,7,16],[7,17,7,20],[7,21,7,23],[9,6,9,11],[9,12,9,13],[9,14,9,16],[9,17,9,20],[9,22,9,23],[0,0,0,26],[2,1,4,6],[2,7,2,9],[2,10,2,16],[2,21,2,22],[2,24,2,25],[3,7,3,10],[3,11,3,20],[3,23,3,25],[4,7,4,10],[4,11,4,14],[4,16,4,20],[4,23,4,25]]}
["請負工事内訳書の記載例　（工事ごとに作成してください）"]
[]
[null,"請負工事内訳書"]
[null,null,null,null,null,null,null,"現場名称：",null,null,null,"大阪市西淀川区RC造　解体撤去工事",null,null,null,null,null,null,null,null,null,null,"請求日","2025-07-31"]
[null,null,null,null,null,null,null,"契約工期：",null,null,null,"2025-04-01",null,null,null,"～","2025-07-31",null,null,null,null,null,"会社名","西淀川株式会社"]
[null,null,null,null,null,null,null,"契約金額(税抜)：",null,null,null,1000000]
[]
[null,"請  求",null,null,null,null,"請負内容",null,null,null,null,null,"請求金額\n(税抜)",null,null,null,null,"累計金額\n(税抜)",null,null,null,"請求後残高金額\n(税抜)",null,null,"備考"]
[null,"第",1,"回",4,"月","解体工事",null,null,null,null,null,{"$f":"IFERROR(ROUNDDOWN(O9/L$6,3),\"\")","v":0.1},null,100000,null,null,{"$f":"IF(O9=\"\",\"\",SUM($O$9:O9))","v":100000},null,null,null,{"$f":"IF(O9=\"\",\"\",(1-$M9:M$31))","v":0.9},{"$f":"IF(O9=\"\",\"\",IF(($L$6-SUM($O$9:O9))=0,\"0 \",$L$6-SUM($O$9:O9)))","v":900000},{"$f":"IF(#REF!=\"\",\"\",IF(($L$6-SUM(#REF!))=0,\"0 \",$L$6-SUM(#REF!)))","v":{"$error":"#REF!"}}]
[null,"第",2,"回",5,"月","解体工事",null,null,null,null,null,{"$f":"IFERROR(ROUNDDOWN(O10/L$6,3),\"\")","v":0.1},null,100000,null,null,{"$f":"IF(O10=\"\",\"\",SUM($O$9:O10))","v":200000},null,null,null,{"$f":"IF(O10=\"\",\"\",(V9-M10))","v":0.8},{"$f":"IF(O10=\"\",\"\",IF(($L$6-SUM($O$9:O10))=0,\"0 \",$L$6-SUM($O$9:O10)))","v":800000},{"$f":"IF(#REF!=\"\",\"\",IF(($L$6-SUM(#REF!))=0,\"0 \",$L$6-SUM(#REF!)))","v":{"$error":"#REF!"}}]
[null,"第",3,"回",6,"月","解体工事",null,null,null,null,null,{"$f":"IFERROR(ROUNDDOWN(O11/L$6,3),\"\")","v":0.2},null,200000,null,null,{"$f":"IF(O11=\"\",\"\",SUM($O$9:O11))","v":400000},null,null,null,{"$f":"IF(O11=\"\",\"\",(V10-M11))","v":0.60000000000000009},{"$f":"IF(O11=\"\",\"\",IF(($L$6-SUM($O$9:O11))=0,\"0 \",$L$6-SUM($O$9:O11)))","v":600000},{"$f":"IF(#REF!=\"\",\"\",IF(($L$6-SUM(#REF!))=0,\"0 \",$L$6-SUM(#REF!)))","v":{"$error":"#REF!"}}]
[null,"第",4,"回",7,"月","解体工事",null,null,null,null,null,0.6,null,600000,null,null,{"$f":"IF(O12=\"\",\"\",SUM($O$9:O12))","v":1000000},null,null,null,null,{"$f":"IF(O12=\"\",\"\",IF(($L$6-SUM($O$9:O12))=0,\"0 \",$L$6-SUM($O$9:O12)))","v":"0 "},{"$f":"IF(#REF!=\"\",\"\",IF(($L$6-SUM(#REF!))=0,\"0 \",$L$6-SUM(#REF!)))","v":{"$error":"#REF!"}}]
[null,"第",5,"回",null,"月",null,null,null,null,null,null,0,null,null,null,null,{"$f":"IF(O13=\"\",\"\",IF(W12=\"0 \",\"\",SUM($O$9:O12)))","v":""},null,null,null,{"$f":"IF(O13=\"\",\"\",(V12-M13))","v":""},{"$f":"IF(O13=\"\",\"\",IF(($L$6-SUM($O$9:O13))=0,\"0 \",$L$6-SUM($O$9:O13)))","v":""},{"$f":"IF(#REF!=\"\",\"\",IF(($L$6-SUM(#REF!))=0,\"0 \",$L$6-SUM(#REF!)))","v":{"$error":"#REF!"}}]
[null,"第",6,"回",null,"月",null,null,null,null,null,null,0,null,null,null,null,{"$f":"IF(O14=\"\",\"\",IF(W13=\"0 \",\"\",SUM($O$9:O13)))","v":""},null,null,null,"",{"$f":"IF(O14=\"\",\"\",IF(($L$6-SUM($O$9:O14))=0,\"0 \",$L$6-SUM($O$9:O14)))","v":""},{"$f":"IF(#REF!=\"\",\"\",IF(($L$6-SUM(#REF!))=0,\"0 \",$L$6-SUM(#REF!)))","v":{"$error":"#REF!"}}]
[null,"第",7,"回",null,"月",null,null,null,null,null,null,0,null,null,null,null,{"$f":"IF(O15=\"\",\"\",IF(W14=\"0 \",\"\",SUM($O$9:O14)))","v":""},null,null,null,"",{"$f":"IF(O15=\"\",\"\",IF(($L$6-SUM($O$9:O15))=0,\"0 \",$L$6-SUM($O$9:O15)))","v":""},{"$f":"IF(#REF!=\"\",\"\",IF(($L$6-SUM(#REF!))=0,\"0 \",$L$6-SUM(#REF!)))","v":{"$error":"#REF!"}}]
[null,"第",8,"回",null,"月",null,null,null,null,null,null,0,null,null,null,null,{"$f":"IF(O16=\"\",\"\",IF(W15=\"0 \",\"\",SUM($O$9:O15)))","v":""},null,null,null,"",{"$f":"IF(O16=\"\",\"\",IF(($L$6-SUM($O$9:O16))=0,\"0 \",$L$6-SUM($O$9:O16)))","v":""},{"$f":"IF(#REF!=\"\",\"\",IF(($L$6-SUM(#REF!))=0,\"0 \",$L$6-SUM(#REF!)))","v":{"$error":"#REF!"}}]
[null,"第",9,"回",null,"月",null,null,null,null,null,null,0,null,null,null,null,{"$f":"IF(O17=\"\",\"\",IF(W16=\"0 \",\"\",SUM($O$9:O16)))","v":""},null,null,null,"",{"$f":"IF(O17=\"\",\"\",IF(($L$6-SUM($O$9:O17))=0,\"0 \",$L$6-SUM($O$9:O17)))","v":""},{"$f":"IF(#REF!=\"\",\"\",IF(($L$6-SUM(#REF!))=0,\"0 \",$L$6-SUM(#REF!)))","v":{"$error":"#REF!"}}]
[null,"第",10,"回",null,"月",null,null,null,null,null,null,0,null,null,null,null,{"$f":"IF(O18=\"\",\"\",IF(W17=\"0 \",\"\",SUM($O$9:O17)))","v":""},null,null,null,"",{"$f":"IF(O18=\"\",\"\",IF(($L$6-SUM($O$9:O18))=0,\"0 \",$L$6-SUM($O$9:O18)))","v":""},{"$f":"IF(#REF!=\"\",\"\",IF(($L$6-SUM(#REF!))=0,\"0 \",$L$6-SUM(#REF!)))","v":{"$error":"#REF!"}}]
[null,"第",11,"回",null,"月",null,null,null,null,null,null,0,null,null,null,null,{"$f":"IF(O19=\"\",\"\",IF(W18=\"0 \",\"\",SUM($O$9:O18)))","v":""},null,null,null,"",{"$f":"IF(O19=\"\",\"\",IF(($L$6-SUM($O$9:O19))=0,\"0 \",$L$6-SUM($O$9:O19)))","v":""},{"$f":"IF(#REF!=\"\",\"\",IF(($L$6-SUM(#REF!))=0,\"0 \",$L$6-SUM(#REF!)))","v":{"$error":"#REF!"}}]
[null,"第",12,"回",null,"月",null,null,null,null,null,null,0,null,null,null,null,{"$f":"IF(O20=\"\",\"\",IF(W19=\"0 \",\"\",SUM($O$9:O19)))","v":""},null,null,null,"",{"$f":"IF(O20=\"\",\"\",IF(($L$6-SUM($O$9:O20))=0,\"0 \",$L$6-SUM($O$9:O20)))","v":""},{"$f":"IF(#REF!=\"\",\"\",IF(($L$6-SUM(#REF!))=0,\"0 \",$L$6-SUM(#REF!)))","v":{"$error":"#REF!"}}]
[null,"第",13,"回",null,"月",null,null,null,null,null,null,0,null,null,null,null,{"$f":"IF(O21=\"\",\"\",IF(W20=\"0 \",\"\",SUM($O$9:O20)))","v":""},null,null,null,"",{"$f":"IF(O21=\"\",\"\",IF(($L$6-SUM($O$9:O21))=0,\"0 \",$L$6-SUM($O$9:O21)))","v":""},{"$f":"IF(#REF!=\"\",\"\",IF(($L$6-SUM(#REF!))=0,\"0 \",$L$6-SUM(#REF!)))","v":{"$error":"#REF!"}}]
[null,"第",14,"回",null,"月",null,null,null,null,null,null,0,null,null,null,null,{"$f":"IF(O22=\"\",\"\",IF(W21=\"0 \",\"\",SUM($O$9:O21)))","v":""},null,null,null,"",{"$f":"IF(O22=\"\",\"\",IF(($L$6-SUM($O$9:O22))=0,\"0 \",$L$6-SUM($O$9:O22)))","v":""},{"$f":"IF(#REF!=\"\",\"\",IF(($L$6-SUM(#REF!))=0,\"0 \",$L$6-SUM(#REF!)))","v":{"$error":"#REF!"}}]
[null,"第",15,"回",null,"月",null,null,null,null,null,null,0,null,null,null,null,{"$f":"IF(O23=\"\",\"\",IF(W22=\"0 \",\"\",SUM($O$9:O22)))","v":""},null,null,null,"",{"$f":"IF(O23=\"\",\"\",IF(($L$6-SUM($O$9:O23))=0,\"0 \",$L$6-SUM($O$9:O23)))","v":""},{"$f":"IF(#REF!=\"\",\"\",IF(($L$6-SUM(#REF!))=0,\"0 \",$L$6-SUM(#REF!)))","v":{"$error":"#REF!"}}]
[null,"第",16,"回",null,"月",null,null,null,null,null,null,0,null,null,null,null,{"$f":"IF(O24=\"\",\"\",IF(W23=\"0 \",\"\",SUM($O$9:O23)))","v":""},null,null,null,"",{"$f":"IF(O24=\"\",\"\",IF(($L$6-SUM($O$9:O24))=0,\"0 \",$L$6-SUM($O$9:O24)))","v":""},{"$f":"IF(#REF!=\"\",\"\",IF(($L$6-SUM(#REF!))=0,\"0 \",$L$6-SUM(#REF!)))","v":{"$error":"#REF!"}}]
[null,"第",17,"回",null,"月",null,null,null,null,null,null,0,null,null,null,null,{"$f":"IF(O25=\"\",\"\",IF(W24=\"0 \",\"\",SUM($O$9:O24)))","v":""},null,null,null,"",{"$f":"IF(O25=\"\",\"\",IF(($L$6-SUM($O$9:O25))=0,\"0 \",$L$6-SUM($O$9:O25)))","v":""},{"$f":"IF(#REF!=\"\",\"\",IF(($L$6-SUM(#REF!))=0,\"0 \",$L$6-SUM(#REF!)))","v":{"$error":"#REF!"}}]
[null,"第",18,"回",null,"月",null,null,null,null,null,null,0,null,null,null,null,{"$f":"IF(O26=\"\",\"\",IF(W25=\"0 \",\"\",SUM($O$9:O25)))","v":""},null,null,null,"",{"$f":"IF(O26=\"\",\"\",IF(($L$6-SUM($O$9:O26))=0,\"0 \",$L$6-SUM($O$9:O26)))","v":""},{"$f":"IF(#REF!=\"\",\"\",IF(($L$6-SUM(#REF!))=0,\"0 \",$L$6-SUM(#REF!)))","v":{"$error":"#REF!"}}]
[null,"第",19,"回",null,"月",null,null,null,null,null,null,0,null,null,null,null,{"$f":"IF(O27=\"\",\"\",IF(W26=\"0 \",\"\",SUM($O$9:O26)))","v":""},null,null,null,"",{"$f":"IF(O27=\"\",\"\",IF(($L$6-SUM($O$9:O27))=0,\"0 \",$L$6-SUM($O$9:O27)))","v":""},{"$f":"IF(#REF!=\"\",\"\",IF(($L$6-SUM(#REF!))=0,\"0 \",$L$6-SUM(#REF!)))","v":{"$error":"#REF!"}}]
[null,"第",20,"回",null,"月",null,null,null,null,null,null,0,null,null,null,null,{"$f":"IF(O28=\"\",\"\",IF(W27=\"0 \",\"\",SUM($O$9:O27)))","v":""},null,null,null,"",{"$f":"IF(O28=\"\",\"\",IF(($L$6-SUM($O$9:O28))=0,\"0 \",$L$6-SUM($O$9:O28)))","v":""},{"$f":"IF(#REF!=\"\",\"\",IF(($L$6-SUM(#REF!))=0,\"0 \",$L$6-SUM(#REF!)))","v":{"$error":"#REF!"}}]
[]
[null,null,null,null,null,null,null,null,null,null,"請求金額累計（税抜）",null,null,null,{"$f":"SUM(O9:Q28)","v":1000000},null,null,null,null,null,"請求後残高金額（税抜）",null,null,{"$f":"IF((L6-O30)=0,\"0 \",L6-O30)","v":"0 "}]
[]
[]
[]
["保留金の契約がある場合の請負工事内訳書の記載例"]
[]
[]
[null,"請負工事内訳書",null,null,null,null,null,"現場名称：",null,null,null,"大阪市西淀川区RC造　解体撤去工事",null,null,null,null,null,null,null,null,null,null,"請求日","2025-08-31"]
[null,null,null,null,null,null,null,"契約工期：",null,null,null,"2025-04-01",null,null,null,"～","2025-07-31",null,null,null,null,null,"会社名","西淀川株式会社"]
[null,null,null,null,null,null,null,"契約金額(税抜)：",null,null,null,1000000]
[]
[null,"請  求",null,null,null,null,"請負内容",null,null,null,null,null,"請求金額\n(税抜)",null,null,null,null,"累計金額\n(税抜)",null,null,null,"請求後残高金額\n(税抜)",null,null,"保留金（10％）"]
[null,"第",1,"回",4,"月","解体工事",null,null,null,null,null,0.1,null,100000,null,null,100000,null,null,null,0.9,900000,{"$error":"#REF!"},"保留金",10000]
[null,"第",2,"回",5,"月","解体工事",null,null,null,null,null,0.1,null,100000,null,null,200000,null,null,null,0.8,800000,{"$error":"#REF!"},"保留金",10000]
[null,"第",3,"回",6,"月","解体工事",null,null,null,null,null,0.2,null,200000,null,null,400000,null,null,null,0.60000000000000009,600000,{"$error":"#REF!"},"保留金",20000]
[null,"第",4,"回",7,"月","解体工事",null,null,null,null,null,0.6,null,600000,null,null,1000000,null,null,null,null,"0 ",{"$error":"#REF!"},"保留金",60000]
[null,"第",5,"回",8,"月",null,null,null,null,null,null,0,null,null,null,null,"",null,null,null,"","",{"$error":"#REF!"},"保留金解除",100000]
[null,"第",6,"回",null,"月",null,null,null,null,null,null,{"$f":"IFERROR(ROUNDDOWN(O47/L$4,3),\"\")","v":""},null,null,null,null,{"$f":"IF(O47=\"\",\"\",IF(W46=\"0 \",\"\",SUM($N$7:O46)))","v":""},null,null,null,{"$f":"IF(O47=\"\",\"\",(V46-M47))","v":""},{"$f":"IF(O47=\"\",\"\",IF(($K$4-SUM($N$7:O47))=0,\"0 \",$K$4-SUM($N$7:O47)))","v":""},{"$f":"IF(#REF!=\"\",\"\",IF(($K$4-SUM(#REF!))=0,\"0 \",$K$4-SUM(#REF!)))","v":{"$error":"#REF!"}},null,{"$f":"IF(Y47=\"保留金\",O47*0.1,IF(Y47=\"保留金解除\",SUM($Y$7:Z46),\"\"))","v":""}]
[null,"第",7,"回",null,"月",null,null,null,null,null,null,"",null,null,null,null,{"$f":"IF(O48=\"\",\"\",IF(W47=\"0 \",\"\",SUM($N$7:O47)))","v":""},null,null,null,"",{"$f":"IF(O48=\"\",\"\",IF(($K$4-SUM($N$7:O48))=0,\"0 \",$K$4-SUM($N$7:O48)))","v":""},{"$f":"IF(#REF!=\"\",\"\",IF(($K$4-SUM(#REF!))=0,\"0 \",$K$4-SUM(#REF!)))","v":{"$error":"#REF!"}},null,{"$f":"IF(Y48=\"保留金\",O48*0.1,IF(Y48=\"保留金解除\",SUM($Y$7:Z47),\"\"))","v":""}]
[null,"第",8,"回",null,"月",null,null,null,null,null,null,"",null,null,null,null,{"$f":"IF(O49=\"\",\"\",IF(W48=\"0 \",\"\",SUM($N$7:O48)))","v":""},null,null,null,"",{"$f":"IF(O49=\"\",\"\",IF(($K$4-SUM($N$7:O49))=0,\"0 \",$K$4-SUM($N$7:O49)))","v":""},{"$f":"IF(#REF!=\"\",\"\",IF(($K$4-SUM(#REF!))=0,\"0 \",$K$4-SUM(#REF!)))","v":{"$error":"#REF!"}},null,{"$f":"IF(Y49=\"保留金\",O49*0.1,IF(Y49=\"保留金解除\",SUM($Y$7:Z48),\"\"))","v":""}]

{"sheet":"常用内訳書の記載例","index":2,"n_rows":35,"n_cols":25,"rows_kept":35,"cut":false,"hidden":false,"merged":[[34,3,34,6],[34,7,34,10],[34,11,34,16],[34,17,34,19],[34,20,34,23],[34,24,34,27],[32,22,32,23],[32,24,32,27],[33,11,33,16],[33,17,33,19],[33,20,33,23],[33,24,33,27],[31,2,31,7],[31,10,31,11],[31,12,31,15],[31,17,31,18],[31,20,31,22],[31,23,31,27],[30,2,30,7],[30,10,30,11],[30,12,30,15],[30,17,30,18],[30,20,30,22],[30,23,30,27],[29,2,29,7],[29,10,29,11],[29,12,29,15],[29,17,29,18],[29,20,29,22],[29,23,29,27],[28,2,28,7],[28,10,28,11],[28,12,28,15],[28,17,28,18],[28,20,28,22],[28,23,28,27],[27,2,27,7],[27,10,27,11],[27,12,27,15],[27,17,27,18],[27,20,27,22],[27,23,27,27],[26,2,26,7],[26,10,26,11],[26,12,26,15],[26,17,26,18],[26,20,26,22],[26,23,26,27],[25,2,25,7],[25,10,25,11],[25,12,25,15],[25,17,25,18],[25,20,25,22],[25,23,25,27],[24,2,24,7],[24,10,24,11],[24,12,24,15],[24,17,24,18],[24,20,24,22],[24,23,24,27],[23,2,23,7],[23,10,23,11],[23,12,23,15],[23,17,23,18],[23,20,23,22],[23,23,23,27],[22,2,22,7],[22,10,22,11],[22,12,22,15],[22,17,22,18],[22,20,22,22],[22,23,22,27],[21,2,21,7],[21,10,21,11],[21,12,21,15],[21,17,21,18],[21,20,21,22],[21,23,21,27],[20,2,20,7],[20,10,20,11],[20,12,20,15],[20,17,20,18],[20,20,20,22],[20,23,20,27],[19,2,19,7],[19,10,19,11],[19,12,19,15],[19,17,19,18],[19,20,19,22],[19,23,19,27],[18,2,18,7],[18,10,18,11],[18,12,18,15],[18,17,18,18],[18,20,18,22],[18,23,18,27],[17,2,17,7],[17,10,17,11],[17,12,17,15],[17,17,17,18],[17,20,17,22],[17,23,17,27],[16,2,16,7],[16,10,16,11],[16,12,16,15],[16,17,16,18],[16,20,16,22],[16,23,16,27],[15,2,15,7],[15,10,15,11],[15,12,15,15],[15,17,15,18],[15,20,15,22],[15,23,15,27],[14,2,14,7],[14,10,14,11],[14,12,14,15],[14,17,14,18],[14,20,14,22],[14,23,14,27],[13,2,13,7],[13,10,13,11],[13,12,13,15],[13,17,13,18],[13,20,13,22],[13,23,13,27],[12,2,12,7],[12,10,12,11],[12,12,12,15],[12,17,12,18],[12,20,12,22],[12,23,12,27],[11,2,11,7],[11,10,11,11],[11,12,11,15],[11,17,11,18],[11,20,11,22],[11,23,11,27],[10,2,10,7],[10,10,10,11],[10,12,10,15],[10,17,10,18],[10,20,10,22],[10,23,10,27],[9,2,9,7],[9,10,9,11],[9,12,9,15],[9,17,9,18],[9,20,9,22],[9,23,9,27],[8,2,8,7],[8,10,8,11],[8,12,8,15],[8,17,8,18],[8,20,8,22],[8,23,8,27],[7,2,7,7],[7,10,7,11],[7,12,7,15],[7,17,7,18],[7,20,7,22],[7,23,7,27],[5,23,5,27],[6,2,6,7],[6,10,6,11],[6,12,6,15],[6,17,6,18],[6,20,6,22],[6,23,6,27],[0,24,0,27],[1,5,1,7],[1,22,1,23],[1,24,1,27],[2,5,2,18],[2,22,2,23],[2,24,2,27],[4,16,4,19],[5,2,5,7],[5,10,5,11],[5,12,5,15],[5,17,5,18],[5,20,5,22],[0,0,2,4],[0,5,0,8],[0,9,0,18]]}
["常用工事内訳書"]
[null,null,null,null,null,"現場名称：",null,null,null,null,null,null,null,null,null,null,null,null,null,null,null,null,"請求日",null,{"$f":"#REF!","v":{"$error":"#REF!"}}]
[null,null,null,null,null,"出来島倉庫解体撤去工事",null,null,null,null,null,null,null,null,null,null,null,null,null,null,null,null,"会社名",null,{"$f":"#REF!","v":{"$error":"#REF!"}}]
[]
[null,null,null,null,null,null,null,null,null,null,null,null,null,null,null,null,"法定福利費"]
["月","日","作業内容・品目",null,null,null,null,null,"数量","単位","単価",null,"金額(税抜)",null,null,null,"人数","単価",null,"金額(税抜)","交通費関連(税込）",null,null,"備考"]
[10,5,"解体工",null,null,null,null,null,1,"名",10000,null,{"$f":"I7*K7","v":10000},null,null,null,1,1000,null,{"$f":"Q7*R7","v":1000},1000,null,null,"駐車場代"]
[null,null,"1台2名",null,null,null,null,null,1,"組",10000,null,{"$f":"I8*K8","v":10000},null,null,null,2,1000,null,{"$f":"Q8*R8","v":2000}]
[null,7,"土工",null,null,null,null,null,1,"名",10000,null,{"$f":"I9*K9","v":10000},null,null,null,null,null,null,{"$f":"Q9*R9","v":0},1320,null,null,"高速代"]
[null,8,"警備",null,null,null,null,null,1,"名",10000,null,10000,null,null,null,null,null,null,0]
[null,null,"警備2級",null,null,null,null,null,1,"名",10000,null,10000,null,null,null,null,null,null,0]
[null,25,"アスガラ運搬",null,null,null,null,null,1,"台",10000,null,10000,null,null,null,null,null,null,0]
[null,null,"アスガラ処分",null,null,null,null,null,12.3,"ｔ",10000,null,123000,null,null,null,null,null,null,0]
[null,null,null,null,null,null,null,null,null,null,null,null,0,null,null,null,null,null,null,0]
[null,null,null,null,null,null,null,null,null,null,null,null,0,null,null,null,null,null,null,0]
[null,null,null,null,null,null,null,null,null,null,null,null,0,null,null,null,null,null,null,0]
[null,null,null,null,null,null,null,null,null,null,null,null,0,null,null,null,null,null,null,0]
[null,null,null,null,null,null,null,null,null,null,null,null,0,null,null,null,null,null,null,0]
[null,null,null,null,null,null,null,null,null,null,null,null,0,null,null,null,null,null,null,0]
[null,null,null,null,null,null,null,null,null,null,null,null,0,null,null,null,null,null,null,0]
[null,null,null,null,null,null,null,null,null,null,null,null,0,null,null,null,null,null,null,0]
[null,null,null,null,null,null,null,null,null,null,null,null,0,null,null,null,null,null,null,0]
[null,null,null,null,null,null,null,null,null,null,null,null,0,null,null,null,null,null,null,0]
[null,null,null,null,null,null,null,null,null,null,null,null,0,null,null,null,null,null,null,0]
[null,null,null,null,null,null,null,null,null,null,null,null,0,null,null,null,null,null,null,0]
[null,null,null,null,null,null,null,null,null,null,null,null,0,null,null,null,null,null,null,0]
[null,null,null,null,null,null,null,null,null,null,null,null,0,null,null,null,null,null,null,0]
[null,null,null,null,null,null,null,null,null,null,null,null,0,null,null,null,null,null,null,0]
[null,null,null,null,null,null,null,null,null,null,null,null,0,null,null,null,null,null,null,0]
[null,null,null,null,null,null,null,null,null,null,null,null,0,null,null,null,null,null,null,0]
[null,null,null,null,null,null,null,null,null,null,null,null,0,null,null,null,null,null,null,0]
[null,null,null,null,null,null,null,null,null,null,null,null,0,null,null,null,null,null,null,0]
[]
[null,null,null,null,null,null,null,null,null,null,null,"常用金額小計(税抜)①",null,null,null,null,null,"法定福利費小計(税抜)②",null,null,"請求金額計(税抜)①+②",null,null,null,"交通費関連小計(税込)"]
[null,null,null,null,null,null,null,null,null,null,null,{"$f":"SUM(M7:P32)","v":183000},null,null,null,null,null,{"$f":"SUM(T7:T32)","v":3000},null,null,{"$f":"SUM(L35:T35)","v":186000},null,null,null,{"$f":"SUM(U7:W32)","v":2320}]

{"sheet":"合計請求書","index":3,"n_rows":35,"n_cols":21,"rows_kept":35,"cut":false,"hidden":false,"merged":[[17,17,17,19],[18,17,18,19],[19,17,19,19],[20,17,20,19],[21,17,21,19],[17,20,17,21],[18,20,18,21],[19,20,19,21],[20,20,20,21],[21,20,21,21],[27,14,27,15],[19,11,19,13],[22,1,22,5],[18,7,18,9],[19,7,19,9],[20,7,20,9],[26,20,26,21],[27,20,27,21],[22,14,22,15],[23,14,23,15],[22,20,22,21],[23,20,23,21],[24,20,24,21],[25,20,25,21],[24,7,24,9],[25,7,25,9],[26,7,26,9],[27,7,27,9],[26,14,26,15],[18,14,18,15],[19,14,19,15],[20,14,20,15],[21,1,21,5],[18,11,18,13],[0,1,0,21],[17,11,17,13],[11,2,12,3],[4,14,5,14],[6,14,7,14],[1,15,1,16],[1,17,1,21],[14,16,14,21],[15,16,15,21],[11,4,12,9],[4,15,5,21],[6,15,7,21],[8,15,8,21],[9,15,9,21],[15,11,15,13],[2,15,2,16],[17,7,17,9],[9,2,9,7],[7,2,7,7],[12,18,12,21],[13,18,13,21],[13,15,13,16],[2,17,2,18],[2,19,2,21],[4,2,4,6],[17,14,17,15],[5,2,5,7],[24,17,24,19],[25,17,25,19],[26,17,26,19],[27,17,27,19],[24,14,24,15],[25,14,25,15],[21,14,21,15],[26,1,26,5],[26,11,26,13],[22,17,22,19],[23,17,23,19],[24,11,24,13],[20,1,20,5],[19,1,19,5],[12,15,12,16],[14,14,15,14],[14,3,14,4],[15,3,15,4],[15,9,15,10],[17,0,17,5],[27,11,27,13],[27,1,27,5],[18,1,18,5],[23,1,23,5],[24,1,24,5],[20,11,20,13],[21,11,21,13],[22,11,22,13],[23,11,23,13],[21,7,21,9],[22,7,22,9],[23,7,23,9],[25,11,25,13],[25,1,25,5],[34,10,34,14],[34,15,34,21],[29,18,29,19],[30,18,30,19],[31,18,31,19],[31,16,31,17],[30,16,30,17],[29,16,29,17],[33,15,33,21],[32,15,32,21],[29,20,29,21],[30,20,30,21],[31,20,31,21],[33,10,33,14],[32,10,32,14],[31,10,31,14],[30,10,30,14],[29,10,29,14]]}
[null,"合　計　請　求　書"]
[null,null,null,null,null,null,null,null,null,null,null,null,null,null,null,"請求日"]
[null,null,null,null,null,null,null,null,null,null,null,null,null,null,null,"適格請求書番号",null,"T -"]
[]
[null,null," 〒555-0031",null,null,null,null,null,null,null,null,null,null,null,"住所"]
[null,null,"大阪府大阪市西淀川区出来島3-1-18"]
[null,null,null,null,null,null,null,null,null,null,null,null,null,null,"社名"]
[null,null,"　株式会社　ツバサ建業　　　御中"]
[null,null,null,null,null,null,null,null,null,null,null,null,null,null,"TEL"]
[null,null,"  下記の通りご請求申し上げます。",null,null,null,null,null,null,null,null,null,null,null,"FAX"]
[]
[null,null,"当月総請求額\n（税込）",null,{"$f":"P35","v":0},null,null,null,null,null,null,null,null,null,"【振込先】"]
[null,null,null,null,null,null,null,null,null,null,null,null,null,null,"銀行名",null,null,"支店名"]
[null,null,null,null,null,null,null,null,null,null,null,null,null,null,"預金種類",null,null,"口座番号"]
[null,null,null,null,null,null,null,null,null,null,null,null,null,null,"口座名義","ﾌﾘｶﾞﾅ"]
[null,null,null,null,null,null,null,null,null,"請求書担当者名",null,null,null,null,null,"名義人"]
[]
["工事名称",null,null,null,null,null,"工事項目\n(請負・常用)","契約金額\n(税抜)",null,null,"出来高\n(％)","請求金額\n（税抜）",null,null,"交通費関連\n(税込)",null,"請求済\n（％）","累計金額\n(税抜)",null,null,"備　　　　考"]
[1,null,null,null,null,null,null,null,null,null,{"$f":"IFERROR(ROUND(L19/H19,3),\"\")","v":""},null,null,null,null,null,{"$f":"IFERROR(ROUNDDOWN(R19/H19,3),\"\")","v":""}]
[2,null,null,null,null,null,null,null,null,null,"",null,null,null,null,null,{"$f":"IFERROR(ROUNDDOWN(R20/H20,3),\"\")","v":""}]
[3,null,null,null,null,null,null,null,null,null,"",null,null,null,null,null,""]
[4,null,null,null,null,null,null,null,null,null,"",null,null,null,null,null,""]
[5,null,null,null,null,null,null,null,null,null,"",null,null,null,null,null,""]
[6,null,null,null,null,null,null,null,null,null,"",null,null,null,null,null,""]
[7,null,null,null,null,null,null,null,null,null,"",null,null,null,null,null,""]
[8,null,null,null,null,null,null,null,null,null,"",null,null,null,null,null,""]
[9,null,null,null,null,null,null,null,null,null,"",null,null,null,null,null,""]
[10,null,null,null,null,null,null,null,null,null,"",null,null,null,null,null,""]
[]
[null,null,null,null,null,null,null,null,null,null,"工事小計(税抜)",null,null,null,null,"(10%)",{"$f":"SUM(L19:N28)","v":0},null,"(8%)",null,{"$f":"SUM(U19:V28)","v":0}]
[null,null,null,null,null,null,null,null,null,null,"消費税",null,null,null,null,"(10%)",{"$f":"Q30*1.1-Q30","v":0},null,"(8%)",null,{"$f":"U30*1.08-U30","v":0}]
[null,null,null,null,null,null,null,null,null,null,"工事合計(税込)①",null,null,null,null,"(10%)",{"$f":"Q30+Q31","v":0},null,"(8%)",null,{"$f":"U30+U31","v":0}]
[null,null,null,null,null,null,null,null,null,null,"交通費関連合計(税込)②",null,null,null,null,{"$f":"SUM(O19:P28)","v":0}]
[null,null,null,null,null,null,null,null,null,null,"(内消費税(10%))",null,null,null,null,{"$f":"P33-(P33/1.1)","v":0}]
[null,null,null,null,null,null,null,null,null,null,"総合計（①+②）",null,null,null,null,{"$f":"Q32+U32+P33","v":0}]

{"sheet":"請負内訳書","index":4,"n_rows":144,"n_cols":24,"rows_kept":144,"cut":false,"hidden":false,"merged":[[135,23,135,24],[136,23,136,24],[137,23,137,24],[138,23,138,24],[139,23,139,24],[140,23,140,24],[129,23,129,24],[130,23,130,24],[131,23,131,24],[132,23,132,24],[133,23,133,24],[134,23,134,24],[123,23,123,24],[124,23,124,24],[125,23,125,24],[126,23,126,24],[127,23,127,24],[128,23,128,24],[106,23,106,24],[107,23,107,24],[108,23,108,24],[109,23,109,24],[110,23,110,24],[111,23,111,24],[121,23,121,24],[100,23,100,24],[101,23,101,24],[102,23,102,24],[103,23,103,24],[104,23,104,24],[105,23,105,24],[94,23,94,24],[95,23,95,24],[96,23,96,24],[97,23,97,24],[98,23,98,24],[99,23,99,24],[77,23,77,24],[78,23,78,24],[79,23,79,24],[80,23,80,24],[81,23,81,24],[82,23,82,24],[71,23,71,24],[72,23,72,24],[73,23,73,24],[74,23,74,24],[75,23,75,24],[76,23,76,24],[65,23,65,24],[66,23,66,24],[67,23,67,24],[68,23,68,24],[69,23,69,24],[70,23,70,24],[48,23,48,24],[49,23,49,24],[50,23,50,24],[51,23,51,24],[52,23,52,24],[53,23,53,24],[63,23,63,24],[42,23,42,24],[43,23,43,24],[44,23,44,24],[45,23,45,24],[46,23,46,24],[47,23,47,24],[36,23,36,24],[37,23,37,24],[38,23,38,24],[39,23,39,24],[40,23,40,24],[41,23,41,24],[19,23,19,24],[20,23,20,24],[21,23,21,24],[22,23,22,24],[23,23,23,24],[24,23,24,24],[13,23,13,24],[14,23,14,24],[15,23,15,24],[16,23,16,24],[17,23,17,24],[18,23,18,24],[7,23,7,24],[8,23,8,24],[9,23,9,24],[10,23,10,24],[11,23,11,24],[12,23,12,24],[141,5,141,10],[141,11,141,12],[141,13,141,15],[141,16,141,19],[141,21,141,22],[137,5,137,10],[137,11,137,12],[137,13,137,15],[137,16,137,19],[137,21,137,22],[138,5,138,10],[138,11,138,12],[138,13,138,15],[138,16,138,19],[138,21,138,22],[135,5,135,10],[135,11,135,12],[135,13,135,15],[143,9,143,12],[143,13,143,18],[143,19,143,21],[143,22,143,24],[141,23,141,24],[139,5,139,10],[139,11,139,12],[139,13,139,15],[139,16,139,19],[139,21,139,22],[140,5,140,10],[140,11,140,12],[140,13,140,15],[140,16,140,19],[140,21,140,22],[135,16,135,19],[135,21,135,22],[136,5,136,10],[136,11,136,12],[136,13,136,15],[136,16,136,19],[136,21,136,22],[133,5,133,10],[133,11,133,12],[133,13,133,15],[133,16,133,19],[133,21,133,22],[134,5,134,10],[134,11,134,12],[134,13,134,15],[134,16,134,19],[134,21,134,22],[131,5,131,10],[131,11,131,12],[131,13,131,15],[131,16,131,19],[131,21,131,22],[132,5,132,10],[132,11,132,12],[132,13,132,15],[132,16,132,19],[132,21,132,22],[129,5,129,10],[129,11,129,12],[129,13,129,15],[129,16,129,19],[129,21,129,22],[130,5,130,10],[130,11,130,12],[130,13,130,15],[130,16,130,19],[130,21,130,22],[127,5,127,10],[127,11,127,12],[127,13,127,15],[127,16,127,19],[127,21,127,22],[128,5,128,10],[128,11,128,12],[128,13,128,15],[128,16,128,19],[128,21,128,22],[125,5,125,10],[125,11,125,12],[125,13,125,15],[125,16,125,19],[125,21,125,22],[126,5,126,10],[126,11,126,12],[126,13,126,15],[126,16,126,19],[126,21,126,22],[123,5,123,10],[123,11,123,12],[123,13,123,15],[123,16,123,19],[123,21,123,22],[124,5,124,10],[124,11,124,12],[124,13,124,15],[124,16,124,19],[124,21,124,22],[122,5,122,10],[122,11,122,12],[122,13,122,15],[122,16,122,19],[122,21,122,22],[122,23,122,24],[118,15,118,19],[118,22,118,24],[119,6,119,9],[119,10,119,19],[119,26,119,29],[121,0,121,4],[121,5,121,10],[121,11,121,15],[121,16,121,19],[121,20,121,22],[116,0,118,5],[116,6,116,8],[116,9,116,15],[116,20,116,21],[116,23,116,24],[117,6,117,9],[117,10,117,19],[117,22,117,24],[118,6,118,9],[118,10,118,13],[112,5,112,10],[112,11,112,12],[112,13,112,15],[112,16,112,19],[112,21,112,22],[114,9,114,12],[114,13,114,18],[114,19,114,21],[114,22,114,24],[112,23,112,24],[110,5,110,10],[110,11,110,12],[110,13,110,15],[110,16,110,19],[110,21,110,22],[111,5,111,10],[111,11,111,12],[111,13,111,15],[111,16,111,19],[111,21,111,22],[108,5,108,10],[108,11,108,12],[108,13,108,15],[108,16,108,19],[108,21,108,22],[109,5,109,10],[109,11,109,12],[109,13,109,15],[109,16,109,19],[109,21,109,22],[106,5,106,10],[106,11,106,12],[106,13,106,15],[106,16,106,19],[106,21,106,22],[107,5,107,10],[107,11,107,12],[107,13,107,15],[107,16,107,19],[107,21,107,22],[104,5,104,10],[104,11,104,12],[104,13,104,15],[104,16,104,19],[104,21,104,22],[105,5,105,10],[105,11,105,12],[105,13,105,15],[105,16,105,19],[105,21,105,22],[102,5,102,10],[102,11,102,12],[102,13,102,15],[102,16,102,19],[102,21,102,22],[103,5,103,10],[103,11,103,12],[103,13,103,15],[103,16,103,19],[103,21,103,22],[100,5,100,10],[100,11,100,12],[100,13,100,15],[100,16,100,19],[100,21,100,22],[101,5,101,10],[101,11,101,12],[101,13,101,15],[101,16,101,19],[101,21,101,22],[98,5,98,10],[98,11,98,12],[98,13,98,15],[98,16,98,19],[98,21,98,22],[99,5,99,10],[99,11,99,12],[99,13,99,15],[99,16,99,19],[99,21,99,22],[96,5,96,10],[96,11,96,12],[96,13,96,15],[96,16,96,19],[96,21,96,22],[97,5,97,10],[97,11,97,12],[97,13,97,15],[97,16,97,19],[97,21,97,22],[94,5,94,10],[94,11,94,12],[94,13,94,15],[94,16,94,19],[94,21,94,22],[95,5,95,10],[95,11,95,12],[95,13,95,15],[95,16,95,19],[95,21,95,22],[93,5,93,10],[93,11,93,12],[93,13,93,15],[93,16,93,19],[93,21,93,22],[93,23,93,24],[89,15,89,19],[89,22,89,24],[90,6,90,9],[90,10,90,19],[90,26,90,29],[92,0,92,4],[92,5,92,10],[92,11,92,15],[92,16,92,19],[92,20,92,22],[87,0,89,5],[87,6,87,8],[87,9,87,15],[87,20,87,21],[87,23,87,24],[88,6,88,9],[88,10,88,19],[88,22,88,24],[89,6,89,9],[89,10,89,13],[92,23,92,24],[83,5,83,10],[83,11,83,12],[83,13,83,15],[83,16,83,19],[83,21,83,22],[85,9,85,12],[85,13,85,18],[85,19,85,21],[85,22,85,24],[83,23,83,24],[81,5,81,10],[81,11,81,12],[81,13,81,15],[81,16,81,19],[81,21,81,22],[82,5,82,10],[82,11,82,12],[82,13,82,15],[82,16,82,19],[82,21,82,22],[79,5,79,10],[79,11,79,12],[79,13,79,15],[79,16,79,19],[79,21,79,22],[80,5,80,10],[80,11,80,12],[80,13,80,15],[80,16,80,19],[80,21,80,22],[77,5,77,10],[77,11,77,12],[77,13,77,15],[77,16,77,19],[77,21,77,22],[78,5,78,10],[78,11,78,12],[78,13,78,15],[78,16,78,19],[78,21,78,22],[75,5,75,10],[75,11,75,12],[75,13,75,15],[75,16,75,19],[75,21,75,22],[76,5,76,10],[76,11,76,12],[76,13,76,15],[76,16,76,19],[76,21,76,22],[73,5,73,10],[73,11,73,12],[73,13,73,15],[73,16,73,19],[73,21,73,22],[74,5,74,10],[74,11,74,12],[74,13,74,15],[74,16,74,19],[74,21,74,22],[71,5,71,10],[71,11,71,12],[71,13,71,15],[71,16,71,19],[71,21,71,22],[72,5,72,10],[72,11,72,12],[72,13,72,15],[72,16,72,19],[72,21,72,22],[69,5,69,10],[69,11,69,12],[69,13,69,15],[69,16,69,19],[69,21,69,22],[70,5,70,10],[70,11,70,12],[70,13,70,15],[70,16,70,19],[70,21,70,22],[67,5,67,10],[67,11,67,12],[67,13,67,15],[67,16,67,19],[67,21,67,22],[68,5,68,10],[68,11,68,12],[68,13,68,15],[68,16,68,19],[68,21,68,22],[65,5,65,10],[65,11,65,12],[65,13,65,15],[65,16,65,19],[65,21,65,22],[66,5,66,10],[66,11,66,12],[66,13,66,15],[66,16,66,19],[66,21,66,22],[64,5,64,10],[64,11,64,12],[64,13,64,15],[64,16,64,19],[64,21,64,22],[64,23,64,24],[60,15,60,19],[60,22,60,24],[61,6,61,9],[61,10,61,19],[61,26,61,29],[63,0,63,4],[63,5,63,10],[63,11,63,15],[63,16,63,19],[63,20,63,22],[58,0,60,5],[58,6,58,8],[58,9,58,15],[58,20,58,21],[58,23,58,24],[59,6,59,9],[59,10,59,19],[59,22,59,24],[60,6,60,9],[60,10,60,13],[54,5,54,10],[54,11,54,12],[54,13,54,15],[54,16,54,19],[54,21,54,22],[56,9,56,12],[56,13,56,18],[56,19,56,21],[56,22,56,24],[54,23,54,24],[52,5,52,10],[52,11,52,12],[52,13,52,15],[52,16,52,19],[52,21,52,22],[53,5,53,10],[53,11,53,12],[53,13,53,15],[53,16,53,19],[53,21,53,22],[50,5,50,10],[50,11,50,12],[50,13,50,15],[50,16,50,19],[50,21,50,22],[51,5,51,10],[51,11,51,12],[51,13,51,15],[51,16,51,19],[51,21,51,22],[48,5,48,10],[48,11,48,12],[48,13,48,15],[48,16,48,19],[48,21,48,22],[49,5,49,10],[49,11,49,12],[49,13,49,15],[49,16,49,19],[49,21,49,22],[46,5,46,10],[46,11,46,12],[46,13,46,15],[46,16,46,19],[46,21,46,22],[47,5,47,10],[47,11,47,12],[47,13,47,15],[47,16,47,19],[47,21,47,22],[44,5,44,10],[44,11,44,12],[44,13,44,15],[44,16,44,19],[44,21,44,22],[45,5,45,10],[45,11,45,12],[45,13,45,15],[45,16,45,19],[45,21,45,22],[42,5,42,10],[42,11,42,12],[42,13,42,15],[42,16,42,19],[42,21,42,22],[43,5,43,10],[43,11,43,12],[43,13,43,15],[43,16,43,19],[43,21,43,22],[40,5,40,10],[40,11,40,12],[40,13,40,15],[40,16,40,19],[40,21,40,22],[41,5,41,10],[41,11,41,12],[41,13,41,15],[41,16,41,19],[41,21,41,22],[38,5,38,10],[38,11,38,12],[38,13,38,15],[38,16,38,19],[38,21,38,22],[39,5,39,10],[39,11,39,12],[39,13,39,15],[39,16,39,19],[39,21,39,22],[36,5,36,10],[36,11,36,12],[36,13,36,15],[36,16,36,19],[36,21,36,22],[37,5,37,10],[37,11,37,12],[37,13,37,15],[37,16,37,19],[37,21,37,22],[35,5,35,10],[35,11,35,12],[35,13,35,15],[35,16,35,19],[35,21,35,22],[35,23,35,24],[31,15,31,19],[31,22,31,24],[32,6,32,9],[32,10,32,19],[32,26,32,29],[34,0,34,4],[34,5,34,10],[34,11,34,15],[34,16,34,19],[34,20,34,22],[29,0,31,5],[29,6,29,8],[29,9,29,15],[29,20,29,21],[29,23,29,24],[30,6,30,9],[30,10,30,19],[30,22,30,24],[31,6,31,9],[31,10,31,13],[34,23,34,24],[25,5,25,10],[25,11,25,12],[25,13,25,15],[25,16,25,19],[25,21,25,22],[27,9,27,12],[27,13,27,18],[27,19,27,21],[27,22,27,24],[25,23,25,24],[23,5,23,10],[23,11,23,12],[23,13,23,15],[23,16,23,19],[23,21,23,22],[24,5,24,10],[24,11,24,12],[24,13,24,15],[24,16,24,19],[24,21,24,22],[21,5,21,10],[21,11,21,12],[21,13,21,15],[21,16,21,19],[21,21,21,22],[22,5,22,10],[22,11,22,12],[22,13,22,15],[22,16,22,19],[22,21,22,22],[19,5,19,10],[19,11,19,12],[19,13,19,15],[19,16,19,19],[19,21,19,22],[20,5,20,10],[20,11,20,12],[20,13,20,15],[20,16,20,19],[20,21,20,22],[17,5,17,10],[17,11,17,12],[17,13,17,15],[17,16,17,19],[17,21,17,22],[18,5,18,10],[18,11,18,12],[18,13,18,15],[18,16,18,19],[18,21,18,22],[15,5,15,10],[15,11,15,12],[15,13,15,15],[15,16,15,19],[15,21,15,22],[16,5,16,10],[16,11,16,12],[16,13,16,15],[16,16,16,19],[16,21,16,22],[13,5,13,10],[13,11,13,12],[13,13,13,15],[13,16,13,19],[13,21,13,22],[14,5,14,10],[14,11,14,12],[14,13,14,15],[14,16,14,19],[14,21,14,22],[11,5,11,10],[11,11,11,12],[11,13,11,15],[11,16,11,19],[11,21,11,22],[12,5,12,10],[12,11,12,12],[12,13,12,15],[12,16,12,19],[12,21,12,22],[9,5,9,10],[9,11,9,12],[9,13,9,15],[9,16,9,19],[9,21,9,22],[10,5,10,10],[10,11,10,12],[10,13,10,15],[10,16,10,19],[10,21,10,22],[7,5,7,10],[7,11,7,12],[7,13,7,15],[7,16,7,19],[7,21,7,22],[8,5,8,10],[8,11,8,12],[8,13,8,15],[8,16,8,19],[8,21,8,22],[6,5,6,10],[6,11,6,12],[6,13,6,15],[6,16,6,19],[6,21,6,22],[6,23,6,24],[2,15,2,19],[2,22,2,24],[3,6,3,9],[3,10,3,19],[3,26,3,29],[5,0,5,4],[5,5,5,10],[5,11,5,15],[5,16,5,19],[5,20,5,22],[0,0,2,5],[0,6,0,8],[0,9,0,15],[0,20,0,21],[0,23,0,24],[1,6,1,9],[1,10,1,19],[1,22,1,24],[2,6,2,9],[2,10,2,13],[5,23,5,24]]}
["請負工事内訳書"]
[null,null,null,null,null,null,"現場名称：",null,null,null,null,null,null,null,null,null,null,null,null,null,null,"請求日",{"$f":"合計請求書!$R$2","v":"00:00:00"}]
[null,null,null,null,null,null,"契約工期：",null,null,null,null,null,null,null,"～",null,null,null,null,null,null,"会社名",{"$f":"合計請求書!$P$7","v":0}]
[null,null,null,null,null,null,"契約金額(税抜)："]
[]
["請  求",null,null,null,null,"請負内容",null,null,null,null,null,"請求金額\n(税抜)",null,null,null,null,"累計金額\n(税抜)",null,null,null,"請求後残高金額\n(税抜)",null,null,"備考"]
["第",1,"回",null,"月",null,null,null,null,null,null,{"$f":"IFERROR(ROUND(N7/K$4,3),\"\")","v":""},null,null,null,null,{"$f":"IF(N7=\"\",\"\",SUM($N$7:N7))","v":""},null,null,null,{"$f":"IF(OR(K4=\"\",N7=\"\"),\"\",IF(V7/$K$4=0,\"\",1-L7))","v":""},{"$f":"IF(OR(N7=\"\",$K$4=\"\"),\"\",IF(($K$4-SUM($N$7:N7))=0,\"0 \",$K$4-SUM($N$7:N7)))","v":""},{"$f":"IF(#REF!=\"\",\"\",IF(($K$4-SUM(#REF!))=0,\"0 \",$K$4-SUM(#REF!)))","v":{"$error":"#REF!"}}]
["第",2,"回",null,"月",null,null,null,null,null,null,"",null,null,null,null,{"$f":"IF(N8=\"\",\"\",SUM($N$7:N8))","v":""},null,null,null,{"$f":"IF(OR($K$4=\"\",N8=\"\"),\"\",IF(V8/$K$4=0,\"\",ROUND(V8/$K$4,3)))","v":""},{"$f":"IF(OR(N8=\"\",$K$4=\"\"),\"\",IF(($K$4-SUM($N$7:N8))=0,\"0 \",$K$4-SUM($N$7:N8)))","v":""},{"$f":"IF(#REF!=\"\",\"\",IF(($K$4-SUM(#REF!))=0,\"0 \",$K$4-SUM(#REF!)))","v":{"$error":"#REF!"}}]
["第",3,"回",null,"月",null,null,null,null,null,null,"",null,null,null,null,{"$f":"IF(N9=\"\",\"\",SUM($N$7:N9))","v":""},null,null,null,"",{"$f":"IF(OR(N9=\"\",$K$4=\"\"),\"\",IF(($K$4-SUM($N$7:N9))=0,\"0 \",$K$4-SUM($N$7:N9)))","v":""},{"$f":"IF(#REF!=\"\",\"\",IF(($K$4-SUM(#REF!))=0,\"0 \",$K$4-SUM(#REF!)))","v":{"$error":"#REF!"}}]
["第",4,"回",null,"月",null,null,null,null,null,null,"",null,null,null,null,{"$f":"IF(N10=\"\",\"\",SUM($N$7:N10))","v":""},null,null,null,"",{"$f":"IF(OR(N10=\"\",$K$4=\"\"),\"\",IF(($K$4-SUM($N$7:N10))=0,\"0 \",$K$4-SUM($N$7:N10)))","v":""},{"$f":"IF(#REF!=\"\",\"\",IF(($K$4-SUM(#REF!))=0,\"0 \",$K$4-SUM(#REF!)))","v":{"$error":"#REF!"}}]
["第",5,"回",null,"月",null,null,null,null,null,null,"",null,null,null,null,{"$f":"IF(N11=\"\",\"\",SUM($N$7:N11))","v":""},null,null,null,"",{"$f":"IF(OR(N11=\"\",$K$4=\"\"),\"\",IF(($K$4-SUM($N$7:N11))=0,\"0 \",$K$4-SUM($N$7:N11)))","v":""},{"$f":"IF(#REF!=\"\",\"\",IF(($K$4-SUM(#REF!))=0,\"0 \",$K$4-SUM(#REF!)))","v":{"$error":"#REF!"}}]
["第",6,"回",null,"月",null,null,null,null,null,null,"",null,null,null,null,{"$f":"IF(N12=\"\",\"\",SUM($N$7:N12))","v":""},null,null,null,"",{"$f":"IF(OR(N12=\"\",$K$4=\"\"),\"\",IF(($K$4-SUM($N$7:N12))=0,\"0 \",$K$4-SUM($N$7:N12)))","v":""},{"$f":"IF(#REF!=\"\",\"\",IF(($K$4-SUM(#REF!))=0,\"0 \",$K$4-SUM(#REF!)))","v":{"$error":"#REF!"}}]
["第",7,"回",null,"月",null,null,null,null,null,null,"",null,null,null,null,{"$f":"IF(N13=\"\",\"\",SUM($N$7:N13))","v":""},null,null,null,"",{"$f":"IF(OR(N13=\"\",$K$4=\"\"),\"\",IF(($K$4-SUM($N$7:N13))=0,\"0 \",$K$4-SUM($N$7:N13)))","v":""},{"$f":"IF(#REF!=\"\",\"\",IF(($K$4-SUM(#REF!))=0,\"0 \",$K$4-SUM(#REF!)))","v":{"$error":"#REF!"}}]
["第",8,"回",null,"月",null,null,null,null,null,null,"",null,null,null,null,{"$f":"IF(N14=\"\",\"\",SUM($N$7:N14))","v":""},null,null,null,"",{"$f":"IF(OR(N14=\"\",$K$4=\"\"),\"\",IF(($K$4-SUM($N$7:N14))=0,\"0 \",$K$4-SUM($N$7:N14)))","v":""},{"$f":"IF(#REF!=\"\",\"\",IF(($K$4-SUM(#REF!))=0,\"0 \",$K$4-SUM(#REF!)))","v":{"$error":"#REF!"}}]
["第",9,"回",null,"月",null,null,null,null,null,null,"",null,null,null,null,{"$f":"IF(N15=\"\",\"\",SUM($N$7:N15))","v":""},null,null,null,"",{"$f":"IF(OR(N15=\"\",$K$4=\"\"),\"\",IF(($K$4-SUM($N$7:N15))=0,\"0 \",$K$4-SUM($N$7:N15)))","v":""},{"$f":"IF(#REF!=\"\",\"\",IF(($K$4-SUM(#REF!))=0,\"0 \",$K$4-SUM(#REF!)))","v":{"$error":"#REF!"}}]
["第",10,"回",null,"月",null,null,null,null,null,null,"",null,null,null,null,{"$f":"IF(N16=\"\",\"\",SUM($N$7:N16))","v":""},null,null,null,"",{"$f":"IF(OR(N16=\"\",$K$4=\"\"),\"\",IF(($K$4-SUM($N$7:N16))=0,\"0 \",$K$4-SUM($N$7:N16)))","v":""},{"$f":"IF(#REF!=\"\",\"\",IF(($K$4-SUM(#REF!))=0,\"0 \",$K$4-SUM(#REF!)))","v":{"$error":"#REF!"}}]
["第",11,"回",null,"月",null,null,null,null,null,null,"",null,null,null,null,{"$f":"IF(N17=\"\",\"\",SUM($N$7:N17))","v":""},null,null,null,"",{"$f":"IF(OR(N17=\"\",$K$4=\"\"),\"\",IF(($K$4-SUM($N$7:N17))=0,\"0 \",$K$4-SUM($N$7:N17)))","v":""},{"$f":"IF(#REF!=\"\",\"\",IF(($K$4-SUM(#REF!))=0,\"0 \",$K$4-SUM(#REF!)))","v":{"$error":"#REF!"}}]
["第",12,"回",null,"月",null,null,null,null,null,null,"",null,null,null,null,{"$f":"IF(N18=\"\",\"\",SUM($N$7:N18))","v":""},null,null,null,"",{"$f":"IF(OR(N18=\"\",$K$4=\"\"),\"\",IF(($K$4-SUM($N$7:N18))=0,\"0 \",$K$4-SUM($N$7:N18)))","v":""},{"$f":"IF(#REF!=\"\",\"\",IF(($K$4-SUM(#REF!))=0,\"0 \",$K$4-SUM(#REF!)))","v":{"$error":"#REF!"}}]
["第",13,"回",null,"月",null,null,null,null,null,null,"",null,null,null,null,{"$f":"IF(N19=\"\",\"\",SUM($N$7:N19))","v":""},null,null,null,"",{"$f":"IF(OR(N19=\"\",$K$4=\"\"),\"\",IF(($K$4-SUM($N$7:N19))=0,\"0 \",$K$4-SUM($N$7:N19)))","v":""},{"$f":"IF(#REF!=\"\",\"\",IF(($K$4-SUM(#REF!))=0,\"0 \",$K$4-SUM(#REF!)))","v":{"$error":"#REF!"}}]
["第",14,"回",null,"月",null,null,null,null,null,null,"",null,null,null,null,{"$f":"IF(N20=\"\",\"\",SUM($N$7:N20))","v":""},null,null,null,"",{"$f":"IF(OR(N20=\"\",$K$4=\"\"),\"\",IF(($K$4-SUM($N$7:N20))=0,\"0 \",$K$4-SUM($N$7:N20)))","v":""},{"$f":"IF(#REF!=\"\",\"\",IF(($K$4-SUM(#REF!))=0,\"0 \",$K$4-SUM(#REF!)))","v":{"$error":"#REF!"}}]
["第",15,"回",null,"月",null,null,null,null,null,null,"",null,null,null,null,{"$f":"IF(N21=\"\",\"\",SUM($N$7:N21))","v":""},null,null,null,"",{"$f":"IF(OR(N21=\"\",$K$4=\"\"),\"\",IF(($K$4-SUM($N$7:N21))=0,\"0 \",$K$4-SUM($N$7:N21)))","v":""},{"$f":"IF(#REF!=\"\",\"\",IF(($K$4-SUM(#REF!))=0,\"0 \",$K$4-SUM(#REF!)))","v":{"$error":"#REF!"}}]
["第",16,"回",null,"月",null,null,null,null,null,null,"",null,null,null,null,{"$f":"IF(N22=\"\",\"\",SUM($N$7:N22))","v":""},null,null,null,"",{"$f":"IF(OR(N22=\"\",$K$4=\"\"),\"\",IF(($K$4-SUM($N$7:N22))=0,\"0 \",$K$4-SUM($N$7:N22)))","v":""},{"$f":"IF(#REF!=\"\",\"\",IF(($K$4-SUM(#REF!))=0,\"0 \",$K$4-SUM(#REF!)))","v":{"$error":"#REF!"}}]
["第",17,"回",null,"月",null,null,null,null,null,null,"",null,null,null,null,{"$f":"IF(N23=\"\",\"\",SUM($N$7:N23))","v":""},null,null,null,"",{"$f":"IF(OR(N23=\"\",$K$4=\"\"),\"\",IF(($K$4-SUM($N$7:N23))=0,\"0 \",$K$4-SUM($N$7:N23)))","v":""},{"$f":"IF(#REF!=\"\",\"\",IF(($K$4-SUM(#REF!))=0,\"0 \",$K$4-SUM(#REF!)))","v":{"$error":"#REF!"}}]
["第",18,"回",null,"月",null,null,null,null,null,null,"",null,null,null,null,{"$f":"IF(N24=\"\",\"\",SUM($N$7:N24))","v":""},null,null,null,"",{"$f":"IF(OR(N24=\"\",$K$4=\"\"),\"\",IF(($K$4-SUM($N$7:N24))=0,\"0 \",$K$4-SUM($N$7:N24)))","v":""},{"$f":"IF(#REF!=\"\",\"\",IF(($K$4-SUM(#REF!))=0,\"0 \",$K$4-SUM(#REF!)))","v":{"$error":"#REF!"}}]
["第",19,"回",null,"月",null,null,null,null,null,null,"",null,null,null,null,{"$f":"IF(N25=\"\",\"\",SUM($N$7:N25))","v":""},null,null,null,"",{"$f":"IF(OR(N25=\"\",$K$4=\"\"),\"\",IF(($K$4-SUM($N$7:N25))=0,\"0 \",$K$4-SUM($N$7:N25)))","v":""},{"$f":"IF(#REF!=\"\",\"\",IF(($K$4-SUM(#REF!))=0,\"0 \",$K$4-SUM(#REF!)))","v":{"$error":"#REF!"}}]
["第",20,"回",null,"月",null,null,null,null,null,null,"",null,null,null,null,{"$f":"IF(N26=\"\",\"\",SUM($N$7:N26))","v":""},null,null,null,"",{"$f":"IF(OR(N26=\"\",$K$4=\"\"),\"\",IF(($K$4-SUM($N$7:N26))=0,\"0 \",$K$4-SUM($N$7:N26)))","v":""},{"$f":"IF(#REF!=\"\",\"\",IF(($K$4-SUM(#REF!))=0,\"0 \",$K$4-SUM(#REF!)))","v":{"$error":"#REF!"}}]
[]
[null,null,null,null,null,null,null,null,null,"請求金額累計（税抜）",null,null,null,{"$f":"SUM(N7:P26)","v":0},null,null,null,null,null,"請求後残高金額（税抜）",null,null,{"$f":"IF(K4=\"\",\"\",IF((K4-N28)=0,\"0 \",K4-N28))","v":""}]
[]
["請負工事内訳書"]
[null,null,null,null,null,null,"現場名称：",null,null,null,null,null,null,null,null,null,null,null,null,null,null,"請求日",{"$f":"合計請求書!$R$2","v":"00:00:00"}]
[null,null,null,null,null,null,"契約工期：",null,null,null,null,null,null,null,"～",null,null,null,null,null,null,"会社名",{"$f":"合計請求書!$P$7","v":0}]
[null,null,null,null,null,null,"契約金額(税抜)："]
[]
["請  求",null,null,null,null,"請負内容",null,null,null,null,null,"請求金額\n(税抜)",null,null,null,null,"累計金額\n(税抜)",null,null,null,"請求後残高金額\n(税抜)",null,null,"備考"]
["第",1,"回",null,"月",null,null,null,null,null,null,{"$f":"IFERROR(ROUND(N36/K$33,3),\"\")","v":""},null,null,null,null,{"$f":"IF(N36=\"\",\"\",SUM($N$36:N36))","v":""},null,null,null,{"$f":"IF(OR(K33=\"\",N36=\"\"),\"\",IF(V36/$K$33=0,\"\",1-L36))","v":""},{"$f":"IF(OR(N36=\"\",$K$33=\"\"),\"\",IF(($K$33-SUM($N$36:N36))=0,\"0 \",$K$33-SUM($N$36:N36)))","v":""},{"$f":"IF(#REF!=\"\",\"\",IF(($K$4-SUM(#REF!))=0,\"0 \",$K$4-SUM(#REF!)))","v":{"$error":"#REF!"}}]
["第",2,"回",null,"月",null,null,null,null,null,null,{"$f":"IFERROR(N37/K$33,\"\")","v":""},null,null,null,null,{"$f":"IF(N37=\"\",\"\",SUM($N$36:N37))","v":""},null,null,null,{"$f":"IF(OR($K$33=\"\",N37=\"\"),\"\",IF(V37/$K$33=0,\"\",ROUND(V37/$K$33,3)))","v":""},{"$f":"IF(OR(N37=\"\",$K$33=\"\"),\"\",IF(($K$33-SUM($N$36:N37))=0,\"0 \",$K$33-SUM($N$36:N37)))","v":""},{"$f":"IF(#REF!=\"\",\"\",IF(($K$4-SUM(#REF!))=0,\"0 \",$K$4-SUM(#REF!)))","v":{"$error":"#REF!"}}]
["第",3,"回",null,"月",null,null,null,null,null,null,"",null,null,null,null,{"$f":"IF(N38=\"\",\"\",SUM($N$36:N38))","v":""},null,null,null,"",{"$f":"IF(OR(N38=\"\",$K$33=\"\"),\"\",IF(($K$33-SUM($N$36:N38))=0,\"0 \",$K$33-SUM($N$36:N38)))","v":""},{"$f":"IF(#REF!=\"\",\"\",IF(($K$4-SUM(#REF!))=0,\"0 \",$K$4-SUM(#REF!)))","v":{"$error":"#REF!"}}]
["第",4,"回",null,"月",null,null,null,null,null,null,"",null,null,null,null,{"$f":"IF(N39=\"\",\"\",SUM($N$36:N39))","v":""},null,null,null,"",{"$f":"IF(OR(N39=\"\",$K$33=\"\"),\"\",IF(($K$33-SUM($N$36:N39))=0,\"0 \",$K$33-SUM($N$36:N39)))","v":""},{"$f":"IF(#REF!=\"\",\"\",IF(($K$4-SUM(#REF!))=0,\"0 \",$K$4-SUM(#REF!)))","v":{"$error":"#REF!"}}]
["第",5,"回",null,"月",null,null,null,null,null,null,"",null,null,null,null,{"$f":"IF(N40=\"\",\"\",SUM($N$36:N40))","v":""},null,null,null,"",{"$f":"IF(OR(N40=\"\",$K$33=\"\"),\"\",IF(($K$33-SUM($N$36:N40))=0,\"0 \",$K$33-SUM($N$36:N40)))","v":""},{"$f":"IF(#REF!=\"\",\"\",IF(($K$4-SUM(#REF!))=0,\"0 \",$K$4-SUM(#REF!)))","v":{"$error":"#REF!"}}]
["第",6,"回",null,"月",null,null,null,null,null,null,"",null,null,null,null,{"$f":"IF(N41=\"\",\"\",SUM($N$36:N41))","v":""},null,null,null,"",{"$f":"IF(OR(N41=\"\",$K$33=\"\"),\"\",IF(($K$33-SUM($N$36:N41))=0,\"0 \",$K$33-SUM($N$36:N41)))","v":""},{"$f":"IF(#REF!=\"\",\"\",IF(($K$4-SUM(#REF!))=0,\"0 \",$K$4-SUM(#REF!)))","v":{"$error":"#REF!"}}]
["第",7,"回",null,"月",null,null,null,null,null,null,"",null,null,null,null,{"$f":"IF(N42=\"\",\"\",SUM($N$36:N42))","v":""},null,null,null,"",{"$f":"IF(OR(N42=\"\",$K$33=\"\"),\"\",IF(($K$33-SUM($N$36:N42))=0,\"0 \",$K$33-SUM($N$36:N42)))","v":""},{"$f":"IF(#REF!=\"\",\"\",IF(($K$4-SUM(#REF!))=0,\"0 \",$K$4-SUM(#REF!)))","v":{"$error":"#REF!"}}]
["第",8,"回",null,"月",null,null,null,null,null,null,"",null,null,null,null,{"$f":"IF(N43=\"\",\"\",SUM($N$36:N43))","v":""},null,null,null,"",{"$f":"IF(OR(N43=\"\",$K$33=\"\"),\"\",IF(($K$33-SUM($N$36:N43))=0,\"0 \",$K$33-SUM($N$36:N43)))","v":""},{"$f":"IF(#REF!=\"\",\"\",IF(($K$4-SUM(#REF!))=0,\"0 \",$K$4-SUM(#REF!)))","v":{"$error":"#REF!"}}]
["第",9,"回",null,"月",null,null,null,null,null,null,"",null,null,null,null,{"$f":"IF(N44=\"\",\"\",SUM($N$36:N44))","v":""},null,null,null,"",{"$f":"IF(OR(N44=\"\",$K$33=\"\"),\"\",IF(($K$33-SUM($N$36:N44))=0,\"0 \",$K$33-SUM($N$36:N44)))","v":""},{"$f":"IF(#REF!=\"\",\"\",IF(($K$4-SUM(#REF!))=0,\"0 \",$K$4-SUM(#REF!)))","v":{"$error":"#REF!"}}]
["第",10,"回",null,"月",null,null,null,null,null,null,"",null,null,null,null,{"$f":"IF(N45=\"\",\"\",SUM($N$36:N45))","v":""},null,null,null,"",{"$f":"IF(OR(N45=\"\",$K$33=\"\"),\"\",IF(($K$33-SUM($N$36:N45))=0,\"0 \",$K$33-SUM($N$36:N45)))","v":""},{"$f":"IF(#REF!=\"\",\"\",IF(($K$4-SUM(#REF!))=0,\"0 \",$K$4-SUM(#REF!)))","v":{"$error":"#REF!"}}]
["第",11,"回",null,"月",null,null,null,null,null,null,"",null,null,null,null,{"$f":"IF(N46=\"\",\"\",SUM($N$36:N46))","v":""},null,null,null,"",{"$f":"IF(OR(N46=\"\",$K$33=\"\"),\"\",IF(($K$33-SUM($N$36:N46))=0,\"0 \",$K$33-SUM($N$36:N46)))","v":""},{"$f":"IF(#REF!=\"\",\"\",IF(($K$4-SUM(#REF!))=0,\"0 \",$K$4-SUM(#REF!)))","v":{"$error":"#REF!"}}]
["第",12,"回",null,"月",null,null,null,null,null,null,"",null,null,null,null,{"$f":"IF(N47=\"\",\"\",SUM($N$36:N47))","v":""},null,null,null,"",{"$f":"IF(OR(N47=\"\",$K$33=\"\"),\"\",IF(($K$33-SUM($N$36:N47))=0,\"0 \",$K$33-SUM($N$36:N47)))","v":""},{"$f":"IF(#REF!=\"\",\"\",IF(($K$4-SUM(#REF!))=0,\"0 \",$K$4-SUM(#REF!)))","v":{"$error":"#REF!"}}]
["第",13,"回",null,"月",null,null,null,null,null,null,"",null,null,null,null,{"$f":"IF(N48=\"\",\"\",SUM($N$36:N48))","v":""},null,null,null,"",{"$f":"IF(OR(N48=\"\",$K$33=\"\"),\"\",IF(($K$33-SUM($N$36:N48))=0,\"0 \",$K$33-SUM($N$36:N48)))","v":""},{"$f":"IF(#REF!=\"\",\"\",IF(($K$4-SUM(#REF!))=0,\"0 \",$K$4-SUM(#REF!)))","v":{"$error":"#REF!"}}]
["第",14,"回",null,"月",null,null,null,null,null,null,"",null,null,null,null,{"$f":"IF(N49=\"\",\"\",SUM($N$36:N49))","v":""},null,null,null,"",{"$f":"IF(OR(N49=\"\",$K$33=\"\"),\"\",IF(($K$33-SUM($N$36:N49))=0,\"0 \",$K$33-SUM($N$36:N49)))","v":""},{"$f":"IF(#REF!=\"\",\"\",IF(($K$4-SUM(#REF!))=0,\"0 \",$K$4-SUM(#REF!)))","v":{"$error":"#REF!"}}]
["第",15,"回",null,"月",null,null,null,null,null,null,"",null,null,null,null,{"$f":"IF(N50=\"\",\"\",SUM($N$36:N50))","v":""},null,null,null,"",{"$f":"IF(OR(N50=\"\",$K$33=\"\"),\"\",IF(($K$33-SUM($N$36:N50))=0,\"0 \",$K$33-SUM($N$36:N50)))","v":""},{"$f":"IF(#REF!=\"\",\"\",IF(($K$4-SUM(#REF!))=0,\"0 \",$K$4-SUM(#REF!)))","v":{"$error":"#REF!"}}]
["第",16,"回",null,"月",null,null,null,null,null,null,"",null,null,null,null,{"$f":"IF(N51=\"\",\"\",SUM($N$36:N51))","v":""},null,null,null,"",{"$f":"IF(OR(N51=\"\",$K$33=\"\"),\"\",IF(($K$33-SUM($N$36:N51))=0,\"0 \",$K$33-SUM($N$36:N51)))","v":""},{"$f":"IF(#REF!=\"\",\"\",IF(($K$4-SUM(#REF!))=0,\"0 \",$K$4-SUM(#REF!)))","v":{"$error":"#REF!"}}]
["第",17,"回",null,"月",null,null,null,null,null,null,"",null,null,null,null,{"$f":"IF(N52=\"\",\"\",SUM($N$36:N52))","v":""},null,null,null,"",{"$f":"IF(OR(N52=\"\",$K$33=\"\"),\"\",IF(($K$33-SUM($N$36:N52))=0,\"0 \",$K$33-SUM($N$36:N52)))","v":""},{"$f":"IF(#REF!=\"\",\"\",IF(($K$4-SUM(#REF!))=0,\"0 \",$K$4-SUM(#REF!)))","v":{"$error":"#REF!"}}]
["第",18,"回",null,"月",null,null,null,null,null,null,"",null,null,null,null,{"$f":"IF(N53=\"\",\"\",SUM($N$36:N53))","v":""},null,null,null,"",{"$f":"IF(OR(N53=\"\",$K$33=\"\"),\"\",IF(($K$33-SUM($N$36:N53))=0,\"0 \",$K$33-SUM($N$36:N53)))","v":""},{"$f":"IF(#REF!=\"\",\"\",IF(($K$4-SUM(#REF!))=0,\"0 \",$K$4-SUM(#REF!)))","v":{"$error":"#REF!"}}]
["第",19,"回",null,"月",null,null,null,null,null,null,"",null,null,null,null,{"$f":"IF(N54=\"\",\"\",SUM($N$36:N54))","v":""},null,null,null,"",{"$f":"IF(OR(N54=\"\",$K$33=\"\"),\"\",IF(($K$33-SUM($N$36:N54))=0,\"0 \",$K$33-SUM($N$36:N54)))","v":""},{"$f":"IF(#REF!=\"\",\"\",IF(($K$4-SUM(#REF!))=0,\"0 \",$K$4-SUM(#REF!)))","v":{"$error":"#REF!"}}]
["第",20,"回",null,"月",null,null,null,null,null,null,"",null,null,null,null,{"$f":"IF(N55=\"\",\"\",SUM($N$36:N55))","v":""},null,null,null,"",{"$f":"IF(OR(N55=\"\",$K$33=\"\"),\"\",IF(($K$33-SUM($N$36:N55))=0,\"0 \",$K$33-SUM($N$36:N55)))","v":""},{"$f":"IF(#REF!=\"\",\"\",IF(($K$4-SUM(#REF!))=0,\"0 \",$K$4-SUM(#REF!)))","v":{"$error":"#REF!"}}]
[]
[null,null,null,null,null,null,null,null,null,"請求金額累計（税抜）",null,null,null,{"$f":"SUM(N36:P55)","v":0},null,null,null,null,null,"請求後残高金額（税抜）",null,null,{"$f":"IF(K33=\"\",\"\",IF((K33-N57)=0,\"0 \",K33-N57))","v":""}]
[]
["請負工事内訳書"]
[null,null,null,null,null,null,"現場名称：",null,null,null,null,null,null,null,null,null,null,null,null,null,null,"請求日",{"$f":"合計請求書!$R$2","v":"00:00:00"}]
[null,null,null,null,null,null,"契約工期：",null,null,null,null,null,null,null,"～",null,null,null,null,null,null,"会社名",{"$f":"合計請求書!$P$7","v":0}]
[null,null,null,null,null,null,"契約金額(税抜)："]
[]
["請  求",null,null,null,null,"請負内容",null,null,null,null,null,"請求金額\n(税抜)",null,null,null,null,"累計金額\n(税抜)",null,null,null,"請求後残高金額\n(税抜)",null,null,"備考"]
["第",1,"回",null,"月",null,null,null,null,null,null,{"$f":"IFERROR(ROUND(N65/K$62,3),\"\")","v":""},null,null,null,null,{"$f":"IF(N65=\"\",\"\",SUM($N$65:N65))","v":""},null,null,null,{"$f":"IF(OR(K62=\"\",N65=\"\"),\"\",IF(V65/$K$62=0,\"\",1-L65))","v":""},{"$f":"IF(OR(N65=\"\",$K$62=\"\"),\"\",IF(($K$62-SUM($N$65:N65))=0,\"0 \",$K$62-SUM($N$65:N65)))","v":""},{"$f":"IF(#REF!=\"\",\"\",IF(($K$4-SUM(#REF!))=0,\"0 \",$K$4-SUM(#REF!)))","v":{"$error":"#REF!"}}]
["第",2,"回",null,"月",null,null,null,null,null,null,"",null,null,null,null,{"$f":"IF(N66=\"\",\"\",SUM($N$65:N66))","v":""},null,null,null,{"$f":"IF(OR($K$62=\"\",N66=\"\"),\"\",IF(V66/$K$62=0,\"\",ROUND(V66/$K$62,3)))","v":""},{"$f":"IF(OR(N66=\"\",$K$62=\"\"),\"\",IF(($K$62-SUM($N$65:N66))=0,\"0 \",$K$62-SUM($N$65:N66)))","v":""},{"$f":"IF(#REF!=\"\",\"\",IF(($K$4-SUM(#REF!))=0,\"0 \",$K$4-SUM(#REF!)))","v":{"$error":"#REF!"}}]
["第",3,"回",null,"月",null,null,null,null,null,null,"",null,null,null,null,{"$f":"IF(N67=\"\",\"\",SUM($N$65:N67))","v":""},null,null,null,"",{"$f":"IF(OR(N67=\"\",$K$62=\"\"),\"\",IF(($K$62-SUM($N$65:N67))=0,\"0 \",$K$62-SUM($N$65:N67)))","v":""},{"$f":"IF(#REF!=\"\",\"\",IF(($K$4-SUM(#REF!))=0,\"0 \",$K$4-SUM(#REF!)))","v":{"$error":"#REF!"}}]
["第",4,"回",null,"月",null,null,null,null,null,null,"",null,null,null,null,{"$f":"IF(N68=\"\",\"\",SUM($N$65:N68))","v":""},null,null,null,"",{"$f":"IF(OR(N68=\"\",$K$62=\"\"),\"\",IF(($K$62-SUM($N$65:N68))=0,\"0 \",$K$62-SUM($N$65:N68)))","v":""},{"$f":"IF(#REF!=\"\",\"\",IF(($K$4-SUM(#REF!))=0,\"0 \",$K$4-SUM(#REF!)))","v":{"$error":"#REF!"}}]
["第",5,"回",null,"月",null,null,null,null,null,null,"",null,null,null,null,{"$f":"IF(N69=\"\",\"\",SUM($N$65:N69))","v":""},null,null,null,"",{"$f":"IF(OR(N69=\"\",$K$62=\"\"),\"\",IF(($K$62-SUM($N$65:N69))=0,\"0 \",$K$62-SUM($N$65:N69)))","v":""},{"$f":"IF(#REF!=\"\",\"\",IF(($K$4-SUM(#REF!))=0,\"0 \",$K$4-SUM(#REF!)))","v":{"$error":"#REF!"}}]
["第",6,"回",null,"月",null,null,null,null,null,null,"",null,null,null,null,{"$f":"IF(N70=\"\",\"\",SUM($N$65:N70))","v":""},null,null,null,"",{"$f":"IF(OR(N70=\"\",$K$62=\"\"),\"\",IF(($K$62-SUM($N$65:N70))=0,\"0 \",$K$62-SUM($N$65:N70)))","v":""},{"$f":"IF(#REF!=\"\",\"\",IF(($K$4-SUM(#REF!))=0,\"0 \",$K$4-SUM(#REF!)))","v":{"$error":"#REF!"}}]
["第",7,"回",null,"月",null,null,null,null,null,null,"",null,null,null,null,{"$f":"IF(N71=\"\",\"\",SUM($N$65:N71))","v":""},null,null,null,"",{"$f":"IF(OR(N71=\"\",$K$62=\"\"),\"\",IF(($K$62-SUM($N$65:N71))=0,\"0 \",$K$62-SUM($N$65:N71)))","v":""},{"$f":"IF(#REF!=\"\",\"\",IF(($K$4-SUM(#REF!))=0,\"0 \",$K$4-SUM(#REF!)))","v":{"$error":"#REF!"}}]
["第",8,"回",null,"月",null,null,null,null,null,null,"",null,null,null,null,{"$f":"IF(N72=\"\",\"\",SUM($N$65:N72))","v":""},null,null,null,"",{"$f":"IF(OR(N72=\"\",$K$62=\"\"),\"\",IF(($K$62-SUM($N$65:N72))=0,\"0 \",$K$62-SUM($N$65:N72)))","v":""},{"$f":"IF(#REF!=\"\",\"\",IF(($K$4-SUM(#REF!))=0,\"0 \",$K$4-SUM(#REF!)))","v":{"$error":"#REF!"}}]
["第",9,"回",null,"月",null,null,null,null,null,null,"",null,null,null,null,{"$f":"IF(N73=\"\",\"\",SUM($N$65:N73))","v":""},null,null,null,"",{"$f":"IF(OR(N73=\"\",$K$62=\"\"),\"\",IF(($K$62-SUM($N$65:N73))=0,\"0 \",$K$62-SUM($N$65:N73)))","v":""},{"$f":"IF(#REF!=\"\",\"\",IF(($K$4-SUM(#REF!))=0,\"0 \",$K$4-SUM(#REF!)))","v":{"$error":"#REF!"}}]
["第",10,"回",null,"月",null,null,null,null,null,null,"",null,null,null,null,{"$f":"IF(N74=\"\",\"\",SUM($N$65:N74))","v":""},null,null,null,"",{"$f":"IF(OR(N74=\"\",$K$62=\"\"),\"\",IF(($K$62-SUM($N$65:N74))=0,\"0 \",$K$62-SUM($N$65:N74)))","v":""},{"$f":"IF(#REF!=\"\",\"\",IF(($K$4-SUM(#REF!))=0,\"0 \",$K$4-SUM(#REF!)))","v":{"$error":"#REF!"}}]
["第",11,"回",null,"月",null,null,null,null,null,null,"",null,null,null,null,{"$f":"IF(N75=\"\",\"\",SUM($N$65:N75))","v":""},null,null,null,"",{"$f":"IF(OR(N75=\"\",$K$62=\"\"),\"\",IF(($K$62-SUM($N$65:N75))=0,\"0 \",$K$62-SUM($N$65:N75)))","v":""},{"$f":"IF(#REF!=\"\",\"\",IF(($K$4-SUM(#REF!))=0,\"0 \",$K$4-SUM(#REF!)))","v":{"$error":"#REF!"}}]
["第",12,"回",null,"月",null,null,null,null,null,null,"",null,null,null,null,{"$f":"IF(N76=\"\",\"\",SUM($N$65:N76))","v":""},null,null,null,"",{"$f":"IF(OR(N76=\"\",$K$62=\"\"),\"\",IF(($K$62-SUM($N$65:N76))=0,\"0 \",$K$62-SUM($N$65:N76)))","v":""},{"$f":"IF(#REF!=\"\",\"\",IF(($K$4-SUM(#REF!))=0,\"0 \",$K$4-SUM(#REF!)))","v":{"$error":"#REF!"}}]
["第",13,"回",null,"月",null,null,null,null,null,null,"",null,null,null,null,{"$f":"IF(N77=\"\",\"\",SUM($N$65:N77))","v":""},null,null,null,"",{"$f":"IF(OR(N77=\"\",$K$62=\"\"),\"\",IF(($K$62-SUM($N$65:N77))=0,\"0 \",$K$62-SUM($N$65:N77)))","v":""},{"$f":"IF(#REF!=\"\",\"\",IF(($K$4-SUM(#REF!))=0,\"0 \",$K$4-SUM(#REF!)))","v":{"$error":"#REF!"}}]
["第",14,"回",null,"月",null,null,null,null,null,null,"",null,null,null,null,{"$f":"IF(N78=\"\",\"\",SUM($N$65:N78))","v":""},null,null,null,"",{"$f":"IF(OR(N78=\"\",$K$62=\"\"),\"\",IF(($K$62-SUM($N$65:N78))=0,\"0 \",$K$62-SUM($N$65:N78)))","v":""},{"$f":"IF(#REF!=\"\",\"\",IF(($K$4-SUM(#REF!))=0,\"0 \",$K$4-SUM(#REF!)))","v":{"$error":"#REF!"}}]
["第",15,"回",null,"月",null,null,null,null,null,null,"",null,null,null,null,{"$f":"IF(N79=\"\",\"\",SUM($N$65:N79))","v":""},null,null,null,"",{"$f":"IF(OR(N79=\"\",$K$62=\"\"),\"\",IF(($K$62-SUM($N$65:N79))=0,\"0 \",$K$62-SUM($N$65:N79)))","v":""},{"$f":"IF(#REF!=\"\",\"\",IF(($K$4-SUM(#REF!))=0,\"0 \",$K$4-SUM(#REF!)))","v":{"$error":"#REF!"}}]
["第",16,"回",null,"月",null,null,null,null,null,null,"",null,null,null,null,{"$f":"IF(N80=\"\",\"\",SUM($N$65:N80))","v":""},null,null,null,"",{"$f":"IF(OR(N80=\"\",$K$62=\"\"),\"\",IF(($K$62-SUM($N$65:N80))=0,\"0 \",$K$62-SUM($N$65:N80)))","v":""},{"$f":"IF(#REF!=\"\",\"\",IF(($K$4-SUM(#REF!))=0,\"0 \",$K$4-SUM(#REF!)))","v":{"$error":"#REF!"}}]
["第",17,"回",null,"月",null,null,null,null,null,null,"",null,null,null,null,{"$f":"IF(N81=\"\",\"\",SUM($N$65:N81))","v":""},null,null,null,"",{"$f":"IF(OR(N81=\"\",$K$62=\"\"),\"\",IF(($K$62-SUM($N$65:N81))=0,\"0 \",$K$62-SUM($N$65:N81)))","v":""},{"$f":"IF(#REF!=\"\",\"\",IF(($K$4-SUM(#REF!))=0,\"0 \",$K$4-SUM(#REF!)))","v":{"$error":"#REF!"}}]
["第",18,"回",null,"月",null,null,null,null,null,null,"",null,null,null,null,{"$f":"IF(N82=\"\",\"\",SUM($N$65:N82))","v":""},null,null,null,"",{"$f":"IF(OR(N82=\"\",$K$62=\"\"),\"\",IF(($K$62-SUM($N$65:N82))=0,\"0 \",$K$62-SUM($N$65:N82)))","v":""},{"$f":"IF(#REF!=\"\",\"\",IF(($K$4-SUM(#REF!))=0,\"0 \",$K$4-SUM(#REF!)))","v":{"$error":"#REF!"}}]
["第",19,"回",null,"月",null,null,null,null,null,null,"",null,null,null,null,{"$f":"IF(N83=\"\",\"\",SUM($N$65:N83))","v":""},null,null,null,"",{"$f":"IF(OR(N83=\"\",$K$62=\"\"),\"\",IF(($K$62-SUM($N$65:N83))=0,\"0 \",$K$62-SUM($N$65:N83)))","v":""},{"$f":"IF(#REF!=\"\",\"\",IF(($K$4-SUM(#REF!))=0,\"0 \",$K$4-SUM(#REF!)))","v":{"$error":"#REF!"}}]
["第",20,"回",null,"月",null,null,null,null,null,null,"",null,null,null,null,{"$f":"IF(N84=\"\",\"\",SUM($N$65:N84))","v":""},null,null,null,"",{"$f":"IF(OR(N84=\"\",$K$62=\"\"),\"\",IF(($K$62-SUM($N$65:N84))=0,\"0 \",$K$62-SUM($N$65:N84)))","v":""},{"$f":"IF(#REF!=\"\",\"\",IF(($K$4-SUM(#REF!))=0,\"0 \",$K$4-SUM(#REF!)))","v":{"$error":"#REF!"}}]
[]
[null,null,null,null,null,null,null,null,null,"請求金額累計（税抜）",null,null,null,{"$f":"SUM(N65:P84)","v":0},null,null,null,null,null,"請求後残高金額（税抜）",null,null,{"$f":"IF(K62=\"\",\"\",IF((K62-N86)=0,\"0 \",K62-N86))","v":""}]
[]
["請負工事内訳書"]
[null,null,null,null,null,null,"現場名称：",null,null,null,null,null,null,null,null,null,null,null,null,null,null,"請求日",{"$f":"合計請求書!$R$2","v":"00:00:00"}]
[null,null,null,null,null,null,"契約工期：",null,null,null,null,null,null,null,"～",null,null,null,null,null,null,"会社名",{"$f":"合計請求書!$P$7","v":0}]
[null,null,null,null,null,null,"契約金額(税抜)："]
[]
["請  求",null,null,null,null,"請負内容",null,null,null,null,null,"請求金額\n(税抜)",null,null,null,null,"累計金額\n(税抜)",null,null,null,"請求後残高金額\n(税抜)",null,null,"備考"]
["第",1,"回",null,"月",null,null,null,null,null,null,{"$f":"IFERROR(ROUND(N94/K$91,3),\"\")","v":""},null,null,null,null,{"$f":"IF(N94=\"\",\"\",SUM($N$94:N94))","v":""},null,null,null,{"$f":"IF(OR(K91=\"\",N94=\"\"),\"\",IF(V94/$K$91=0,\"\",1-L94))","v":""},{"$f":"IF(OR(N94=\"\",$K$91=\"\"),\"\",IF(($K$91-SUM($N$94:N94))=0,\"0 \",$K$91-SUM($N$94:N94)))","v":""},{"$f":"IF(#REF!=\"\",\"\",IF(($K$4-SUM(#REF!))=0,\"0 \",$K$4-SUM(#REF!)))","v":{"$error":"#REF!"}}]
["第",2,"回",null,"月",null,null,null,null,null,null,"",null,null,null,null,{"$f":"IF(N95=\"\",\"\",SUM($N$94:N95))","v":""},null,null,null,{"$f":"IF(OR($K$91=\"\",N95=\"\"),\"\",IF(V95/$K$91=0,\"\",ROUND(V95/$K$91,3)))","v":""},{"$f":"IF(OR(N95=\"\",$K$91=\"\"),\"\",IF(($K$91-SUM($N$94:N95))=0,\"0 \",$K$91-SUM($N$94:N95)))","v":""},{"$f":"IF(#REF!=\"\",\"\",IF(($K$4-SUM(#REF!))=0,\"0 \",$K$4-SUM(#REF!)))","v":{"$error":"#REF!"}}]
["第",3,"回",null,"月",null,null,null,null,null,null,"",null,null,null,null,{"$f":"IF(N96=\"\",\"\",SUM($N$94:N96))","v":""},null,null,null,"",{"$f":"IF(OR(N96=\"\",$K$91=\"\"),\"\",IF(($K$91-SUM($N$94:N96))=0,\"0 \",$K$91-SUM($N$94:N96)))","v":""},{"$f":"IF(#REF!=\"\",\"\",IF(($K$4-SUM(#REF!))=0,\"0 \",$K$4-SUM(#REF!)))","v":{"$error":"#REF!"}}]
["第",4,"回",null,"月",null,null,null,null,null,null,"",null,null,null,null,{"$f":"IF(N97=\"\",\"\",SUM($N$94:N97))","v":""},null,null,null,"",{"$f":"IF(OR(N97=\"\",$K$91=\"\"),\"\",IF(($K$91-SUM($N$94:N97))=0,\"0 \",$K$91-SUM($N$94:N97)))","v":""},{"$f":"IF(#REF!=\"\",\"\",IF(($K$4-SUM(#REF!))=0,\"0 \",$K$4-SUM(#REF!)))","v":{"$error":"#REF!"}}]
["第",5,"回",null,"月",null,null,null,null,null,null,"",null,null,null,null,{"$f":"IF(N98=\"\",\"\",SUM($N$94:N98))","v":""},null,null,null,"",{"$f":"IF(OR(N98=\"\",$K$91=\"\"),\"\",IF(($K$91-SUM($N$94:N98))=0,\"0 \",$K$91-SUM($N$94:N98)))","v":""},{"$f":"IF(#REF!=\"\",\"\",IF(($K$4-SUM(#REF!))=0,\"0 \",$K$4-SUM(#REF!)))","v":{"$error":"#REF!"}}]
["第",6,"回",null,"月",null,null,null,null,null,null,"",null,null,null,null,{"$f":"IF(N99=\"\",\"\",SUM($N$94:N99))","v":""},null,null,null,"",{"$f":"IF(OR(N99=\"\",$K$91=\"\"),\"\",IF(($K$91-SUM($N$94:N99))=0,\"0 \",$K$91-SUM($N$94:N99)))","v":""},{"$f":"IF(#REF!=\"\",\"\",IF(($K$4-SUM(#REF!))=0,\"0 \",$K$4-SUM(#REF!)))","v":{"$error":"#REF!"}}]
["第",7,"回",null,"月",null,null,null,null,null,null,"",null,null,null,null,{"$f":"IF(N100=\"\",\"\",SUM($N$94:N100))","v":""},null,null,null,"",{"$f":"IF(OR(N100=\"\",$K$91=\"\"),\"\",IF(($K$91-SUM($N$94:N100))=0,\"0 \",$K$91-SUM($N$94:N100)))","v":""},{"$f":"IF(#REF!=\"\",\"\",IF(($K$4-SUM(#REF!))=0,\"0 \",$K$4-SUM(#REF!)))","v":{"$error":"#REF!"}}]
["第",8,"回",null,"月",null,null,null,null,null,null,"",null,null,null,null,{"$f":"IF(N101=\"\",\"\",SUM($N$94:N101))","v":""},null,null,null,"",{"$f":"IF(OR(N101=\"\",$K$91=\"\"),\"\",IF(($K$91-SUM($N$94:N101))=0,\"0 \",$K$91-SUM($N$94:N101)))","v":""},{"$f":"IF(#REF!=\"\",\"\",IF(($K$4-SUM(#REF!))=0,\"0 \",$K$4-SUM(#REF!)))","v":{"$error":"#REF!"}}]
["第",9,"回",null,"月",null,null,null,null,null,null,"",null,null,null,null,{"$f":"IF(N102=\"\",\"\",SUM($N$94:N102))","v":""},null,null,null,"",{"$f":"IF(OR(N102=\"\",$K$91=\"\"),\"\",IF(($K$91-SUM($N$94:N102))=0,\"0 \",$K$91-SUM($N$94:N102)))","v":""},{"$f":"IF(#REF!=\"\",\"\",IF(($K$4-SUM(#REF!))=0,\"0 \",$K$4-SUM(#REF!)))","v":{"$error":"#REF!"}}]
["第",10,"回",null,"月",null,null,null,null,null,null,"",null,null,null,null,{"$f":"IF(N103=\"\",\"\",SUM($N$94:N103))","v":""},null,null,null,"",{"$f":"IF(OR(N103=\"\",$K$91=\"\"),\"\",IF(($K$91-SUM($N$94:N103))=0,\"0 \",$K$91-SUM($N$94:N103)))","v":""},{"$f":"IF(#REF!=\"\",\"\",IF(($K$4-SUM(#REF!))=0,\"0 \",$K$4-SUM(#REF!)))","v":{"$error":"#REF!"}}]
["第",11,"回",null,"月",null,null,null,null,null,null,"",null,null,null,null,{"$f":"IF(N104=\"\",\"\",SUM($N$94:N104))","v":""},null,null,null,"",{"$f":"IF(OR(N104=\"\",$K$91=\"\"),\"\",IF(($K$91-SUM($N$94:N104))=0,\"0 \",$K$91-SUM($N$94:N104)))","v":""},{"$f":"IF(#REF!=\"\",\"\",IF(($K$4-SUM(#REF!))=0,\"0 \",$K$4-SUM(#REF!)))","v":{"$error":"#REF!"}}]
["第",12,"回",null,"月",null,null,null,null,null,null,"",null,null,null,null,{"$f":"IF(N105=\"\",\"\",SUM($N$94:N105))","v":""},null,null,null,"",{"$f":"IF(OR(N105=\"\",$K$91=\"\"),\"\",IF(($K$91-SUM($N$94:N105))=0,\"0 \",$K$91-SUM($N$94:N105)))","v":""},{"$f":"IF(#REF!=\"\",\"\",IF(($K$4-SUM(#REF!))=0,\"0 \",$K$4-SUM(#REF!)))","v":{"$error":"#REF!"}}]
["第",13,"回",null,"月",null,null,null,null,null,null,"",null,null,null,null,{"$f":"IF(N106=\"\",\"\",SUM($N$94:N106))","v":""},null,null,null,"",{"$f":"IF(OR(N106=\"\",$K$91=\"\"),\"\",IF(($K$91-SUM($N$94:N106))=0,\"0 \",$K$91-SUM($N$94:N106)))","v":""},{"$f":"IF(#REF!=\"\",\"\",IF(($K$4-SUM(#REF!))=0,\"0 \",$K$4-SUM(#REF!)))","v":{"$error":"#REF!"}}]
["第",14,"回",null,"月",null,null,null,null,null,null,"",null,null,null,null,{"$f":"IF(N107=\"\",\"\",SUM($N$94:N107))","v":""},null,null,null,"",{"$f":"IF(OR(N107=\"\",$K$91=\"\"),\"\",IF(($K$91-SUM($N$94:N107))=0,\"0 \",$K$91-SUM($N$94:N107)))","v":""},{"$f":"IF(#REF!=\"\",\"\",IF(($K$4-SUM(#REF!))=0,\"0 \",$K$4-SUM(#REF!)))","v":{"$error":"#REF!"}}]
["第",15,"回",null,"月",null,null,null,null,null,null,"",null,null,null,null,{"$f":"IF(N108=\"\",\"\",SUM($N$94:N108))","v":""},null,null,null,"",{"$f":"IF(OR(N108=\"\",$K$91=\"\"),\"\",IF(($K$91-SUM($N$94:N108))=0,\"0 \",$K$91-SUM($N$94:N108)))","v":""},{"$f":"IF(#REF!=\"\",\"\",IF(($K$4-SUM(#REF!))=0,\"0 \",$K$4-SUM(#REF!)))","v":{"$error":"#REF!"}}]
["第",16,"回",null,"月",null,null,null,null,null,null,"",null,null,null,null,{"$f":"IF(N109=\"\",\"\",SUM($N$94:N109))","v":""},null,null,null,"",{"$f":"IF(OR(N109=\"\",$K$91=\"\"),\"\",IF(($K$91-SUM($N$94:N109))=0,\"0 \",$K$91-SUM($N$94:N109)))","v":""},{"$f":"IF(#REF!=\"\",\"\",IF(($K$4-SUM(#REF!))=0,\"0 \",$K$4-SUM(#REF!)))","v":{"$error":"#REF!"}}]
["第",17,"回",null,"月",null,null,null,null,null,null,"",null,null,null,null,{"$f":"IF(N110=\"\",\"\",SUM($N$94:N110))","v":""},null,null,null,"",{"$f":"IF(OR(N110=\"\",$K$91=\"\"),\"\",IF(($K$91-SUM($N$94:N110))=0,\"0 \",$K$91-SUM($N$94:N110)))","v":""},{"$f":"IF(#REF!=\"\",\"\",IF(($K$4-SUM(#REF!))=0,\"0 \",$K$4-SUM(#REF!)))","v":{"$error":"#REF!"}}]
["第",18,"回",null,"月",null,null,null,null,null,null,"",null,null,null,null,{"$f":"IF(N111=\"\",\"\",SUM($N$94:N111))","v":""},null,null,null,"",{"$f":"IF(OR(N111=\"\",$K$91=\"\"),\"\",IF(($K$91-SUM($N$94:N111))=0,\"0 \",$K$91-SUM($N$94:N111)))","v":""},{"$f":"IF(#REF!=\"\",\"\",IF(($K$4-SUM(#REF!))=0,\"0 \",$K$4-SUM(#REF!)))","v":{"$error":"#REF!"}}]
["第",19,"回",null,"月",null,null,null,null,null,null,"",null,null,null,null,{"$f":"IF(N112=\"\",\"\",SUM($N$94:N112))","v":""},null,null,null,"",{"$f":"IF(OR(N112=\"\",$K$91=\"\"),\"\",IF(($K$91-SUM($N$94:N112))=0,\"0 \",$K$91-SUM($N$94:N112)))","v":""},{"$f":"IF(#REF!=\"\",\"\",IF(($K$4-SUM(#REF!))=0,\"0 \",$K$4-SUM(#REF!)))","v":{"$error":"#REF!"}}]
["第",20,"回",null,"月",null,null,null,null,null,null,"",null,null,null,null,{"$f":"IF(N113=\"\",\"\",SUM($N$94:N113))","v":""},null,null,null,"",{"$f":"IF(OR(N113=\"\",$K$91=\"\"),\"\",IF(($K$91-SUM($N$94:N113))=0,\"0 \",$K$91-SUM($N$94:N113)))","v":""},{"$f":"IF(#REF!=\"\",\"\",IF(($K$4-SUM(#REF!))=0,\"0 \",$K$4-SUM(#REF!)))","v":{"$error":"#REF!"}}]
[]
[null,null,null,null,null,null,null,null,null,"請求金額累計（税抜）",null,null,null,{"$f":"SUM(N94:P113)","v":0},null,null,null,null,null,"請求後残高金額（税抜）",null,null,{"$f":"IF(K91=\"\",\"\",IF((K91-N115)=0,\"0 \",K91-N115))","v":""}]
[]
["請負工事内訳書"]
[null,null,null,null,null,null,"現場名称：",null,null,null,null,null,null,null,null,null,null,null,null,null,null,"請求日",{"$f":"合計請求書!$R$2","v":"00:00:00"}]
[null,null,null,null,null,null,"契約工期：",null,null,null,null,null,null,null,"～",null,null,null,null,null,null,"会社名",{"$f":"合計請求書!$P$7","v":0}]
[null,null,null,null,null,null,"契約金額(税抜)："]
[]
["請  求",null,null,null,null,"請負内容",null,null,null,null,null,"請求金額\n(税抜)",null,null,null,null,"累計金額\n(税抜)",null,null,null,"請求後残高金額\n(税抜)",null,null,"備考"]
["第",1,"回",null,"月",null,null,null,null,null,null,{"$f":"IFERROR(ROUND(N123/K$120,3),\"\")","v":""},null,null,null,null,{"$f":"IF(N123=\"\",\"\",SUM($N$123:N123))","v":""},null,null,null,{"$f":"IF(OR(K120=\"\",N123=\"\"),\"\",IF(V123/$K$120=0,\"\",1-L123))","v":""},{"$f":"IF(OR(N123=\"\",$K$120=\"\"),\"\",IF(($K$120-SUM($N$123:N123))=0,\"0 \",$K$120-SUM($N$123:N123)))","v":""},{"$f":"IF(#REF!=\"\",\"\",IF(($K$4-SUM(#REF!))=0,\"0 \",$K$4-SUM(#REF!)))","v":{"$error":"#REF!"}}]
["第",2,"回",null,"月",null,null,null,null,null,null,"",null,null,null,null,{"$f":"IF(N124=\"\",\"\",SUM($N$123:N124))","v":""},null,null,null,{"$f":"IF(OR($K$120=\"\",N124=\"\"),\"\",IF(V124/$K$120=0,\"\",ROUND(V124/$K$120,3)))","v":""},{"$f":"IF(OR(N124=\"\",$K$120=\"\"),\"\",IF(($K$120-SUM($N$123:N124))=0,\"0 \",$K$120-SUM($N$123:N124)))","v":""},{"$f":"IF(#REF!=\"\",\"\",IF(($K$4-SUM(#REF!))=0,\"0 \",$K$4-SUM(#REF!)))","v":{"$error":"#REF!"}}]
["第",3,"回",null,"月",null,null,null,null,null,null,"",null,null,null,null,{"$f":"IF(N125=\"\",\"\",SUM($N$123:N125))","v":""},null,null,null,"",{"$f":"IF(OR(N125=\"\",$K$120=\"\"),\"\",IF(($K$120-SUM($N$123:N125))=0,\"0 \",$K$120-SUM($N$123:N125)))","v":""},{"$f":"IF(#REF!=\"\",\"\",IF(($K$4-SUM(#REF!))=0,\"0 \",$K$4-SUM(#REF!)))","v":{"$error":"#REF!"}}]
["第",4,"回",null,"月",null,null,null,null,null,null,"",null,null,null,null,{"$f":"IF(N126=\"\",\"\",SUM($N$123:N126))","v":""},null,null,null,"",{"$f":"IF(OR(N126=\"\",$K$120=\"\"),\"\",IF(($K$120-SUM($N$123:N126))=0,\"0 \",$K$120-SUM($N$123:N126)))","v":""},{"$f":"IF(#REF!=\"\",\"\",IF(($K$4-SUM(#REF!))=0,\"0 \",$K$4-SUM(#REF!)))","v":{"$error":"#REF!"}}]
["第",5,"回",null,"月",null,null,null,null,null,null,"",null,null,null,null,{"$f":"IF(N127=\"\",\"\",SUM($N$123:N127))","v":""},null,null,null,"",{"$f":"IF(OR(N127=\"\",$K$120=\"\"),\"\",IF(($K$120-SUM($N$123:N127))=0,\"0 \",$K$120-SUM($N$123:N127)))","v":""},{"$f":"IF(#REF!=\"\",\"\",IF(($K$4-SUM(#REF!))=0,\"0 \",$K$4-SUM(#REF!)))","v":{"$error":"#REF!"}}]
["第",6,"回",null,"月",null,null,null,null,null,null,"",null,null,null,null,{"$f":"IF(N128=\"\",\"\",SUM($N$123:N128))","v":""},null,null,null,"",{"$f":"IF(OR(N128=\"\",$K$120=\"\"),\"\",IF(($K$120-SUM($N$123:N128))=0,\"0 \",$K$120-SUM($N$123:N128)))","v":""},{"$f":"IF(#REF!=\"\",\"\",IF(($K$4-SUM(#REF!))=0,\"0 \",$K$4-SUM(#REF!)))","v":{"$error":"#REF!"}}]
["第",7,"回",null,"月",null,null,null,null,null,null,"",null,null,null,null,{"$f":"IF(N129=\"\",\"\",SUM($N$123:N129))","v":""},null,null,null,"",{"$f":"IF(OR(N129=\"\",$K$120=\"\"),\"\",IF(($K$120-SUM($N$123:N129))=0,\"0 \",$K$120-SUM($N$123:N129)))","v":""},{"$f":"IF(#REF!=\"\",\"\",IF(($K$4-SUM(#REF!))=0,\"0 \",$K$4-SUM(#REF!)))","v":{"$error":"#REF!"}}]
["第",8,"回",null,"月",null,null,null,null,null,null,"",null,null,null,null,{"$f":"IF(N130=\"\",\"\",SUM($N$123:N130))","v":""},null,null,null,"",{"$f":"IF(OR(N130=\"\",$K$120=\"\"),\"\",IF(($K$120-SUM($N$123:N130))=0,\"0 \",$K$120-SUM($N$123:N130)))","v":""},{"$f":"IF(#REF!=\"\",\"\",IF(($K$4-SUM(#REF!))=0,\"0 \",$K$4-SUM(#REF!)))","v":{"$error":"#REF!"}}]
["第",9,"回",null,"月",null,null,null,null,null,null,"",null,null,null,null,{"$f":"IF(N131=\"\",\"\",SUM($N$123:N131))","v":""},null,null,null,"",{"$f":"IF(OR(N131=\"\",$K$120=\"\"),\"\",IF(($K$120-SUM($N$123:N131))=0,\"0 \",$K$120-SUM($N$123:N131)))","v":""},{"$f":"IF(#REF!=\"\",\"\",IF(($K$4-SUM(#REF!))=0,\"0 \",$K$4-SUM(#REF!)))","v":{"$error":"#REF!"}}]
["第",10,"回",null,"月",null,null,null,null,null,null,"",null,null,null,null,{"$f":"IF(N132=\"\",\"\",SUM($N$123:N132))","v":""},null,null,null,"",{"$f":"IF(OR(N132=\"\",$K$120=\"\"),\"\",IF(($K$120-SUM($N$123:N132))=0,\"0 \",$K$120-SUM($N$123:N132)))","v":""},{"$f":"IF(#REF!=\"\",\"\",IF(($K$4-SUM(#REF!))=0,\"0 \",$K$4-SUM(#REF!)))","v":{"$error":"#REF!"}}]
["第",11,"回",null,"月",null,null,null,null,null,null,"",null,null,null,null,{"$f":"IF(N133=\"\",\"\",SUM($N$123:N133))","v":""},null,null,null,"",{"$f":"IF(OR(N133=\"\",$K$120=\"\"),\"\",IF(($K$120-SUM($N$123:N133))=0,\"0 \",$K$120-SUM($N$123:N133)))","v":""},{"$f":"IF(#REF!=\"\",\"\",IF(($K$4-SUM(#REF!))=0,\"0 \",$K$4-SUM(#REF!)))","v":{"$error":"#REF!"}}]
["第",12,"回",null,"月",null,null,null,null,null,null,"",null,null,null,null,{"$f":"IF(N134=\"\",\"\",SUM($N$123:N134))","v":""},null,null,null,"",{"$f":"IF(OR(N134=\"\",$K$120=\"\"),\"\",IF(($K$120-SUM($N$123:N134))=0,\"0 \",$K$120-SUM($N$123:N134)))","v":""},{"$f":"IF(#REF!=\"\",\"\",IF(($K$4-SUM(#REF!))=0,\"0 \",$K$4-SUM(#REF!)))","v":{"$error":"#REF!"}}]
["第",13,"回",null,"月",null,null,null,null,null,null,"",null,null,null,null,{"$f":"IF(N135=\"\",\"\",SUM($N$123:N135))","v":""},null,null,null,"",{"$f":"IF(OR(N135=\"\",$K$120=\"\"),\"\",IF(($K$120-SUM($N$123:N135))=0,\"0 \",$K$120-SUM($N$123:N135)))","v":""},{"$f":"IF(#REF!=\"\",\"\",IF(($K$4-SUM(#REF!))=0,\"0 \",$K$4-SUM(#REF!)))","v":{"$error":"#REF!"}}]
["第",14,"回",null,"月",null,null,null,null,null,null,"",null,null,null,null,{"$f":"IF(N136=\"\",\"\",SUM($N$123:N136))","v":""},null,null,null,"",{"$f":"IF(OR(N136=\"\",$K$120=\"\"),\"\",IF(($K$120-SUM($N$123:N136))=0,\"0 \",$K$120-SUM($N$123:N136)))","v":""},{"$f":"IF(#REF!=\"\",\"\",IF(($K$4-SUM(#REF!))=0,\"0 \",$K$4-SUM(#REF!)))","v":{"$error":"#REF!"}}]
["第",15,"回",null,"月",null,null,null,null,null,null,"",null,null,null,null,{"$f":"IF(N137=\"\",\"\",SUM($N$123:N137))","v":""},null,null,null,"",{"$f":"IF(OR(N137=\"\",$K$120=\"\"),\"\",IF(($K$120-SUM($N$123:N137))=0,\"0 \",$K$120-SUM($N$123:N137)))","v":""},{"$f":"IF(#REF!=\"\",\"\",IF(($K$4-SUM(#REF!))=0,\"0 \",$K$4-SUM(#REF!)))","v":{"$error":"#REF!"}}]
["第",16,"回",null,"月",null,null,null,null,null,null,"",null,null,null,null,{"$f":"IF(N138=\"\",\"\",SUM($N$123:N138))","v":""},null,null,null,"",{"$f":"IF(OR(N138=\"\",$K$120=\"\"),\"\",IF(($K$120-SUM($N$123:N138))=0,\"0 \",$K$120-SUM($N$123:N138)))","v":""},{"$f":"IF(#REF!=\"\",\"\",IF(($K$4-SUM(#REF!))=0,\"0 \",$K$4-SUM(#REF!)))","v":{"$error":"#REF!"}}]
["第",17,"回",null,"月",null,null,null,null,null,null,"",null,null,null,null,{"$f":"IF(N139=\"\",\"\",SUM($N$123:N139))","v":""},null,null,null,"",{"$f":"IF(OR(N139=\"\",$K$120=\"\"),\"\",IF(($K$120-SUM($N$123:N139))=0,\"0 \",$K$120-SUM($N$123:N139)))","v":""},{"$f":"IF(#REF!=\"\",\"\",IF(($K$4-SUM(#REF!))=0,\"0 \",$K$4-SUM(#REF!)))","v":{"$error":"#REF!"}}]
["第",18,"回",null,"月",null,null,null,null,null,null,"",null,null,null,null,{"$f":"IF(N140=\"\",\"\",SUM($N$123:N140))","v":""},null,null,null,"",{"$f":"IF(OR(N140=\"\",$K$120=\"\"),\"\",IF(($K$120-SUM($N$123:N140))=0,\"0 \",$K$120-SUM($N$123:N140)))","v":""},{"$f":"IF(#REF!=\"\",\"\",IF(($K$4-SUM(#REF!))=0,\"0 \",$K$4-SUM(#REF!)))","v":{"$error":"#REF!"}}]
["第",19,"回",null,"月",null,null,null,null,null,null,"",null,null,null,null,{"$f":"IF(N141=\"\",\"\",SUM($N$123:N141))","v":""},null,null,null,"",{"$f":"IF(OR(N141=\"\",$K$120=\"\"),\"\",IF(($K$120-SUM($N$123:N141))=0,\"0 \",$K$120-SUM($N$123:N141)))","v":""},{"$f":"IF(#REF!=\"\",\"\",IF(($K$4-SUM(#REF!))=0,\"0 \",$K$4-SUM(#REF!)))","v":{"$error":"#REF!"}}]
["第",20,"回",null,"月",null,null,null,null,null,null,"",null,null,null,null,{"$f":"IF(N142=\"\",\"\",SUM($N$123:N142))","v":""},null,null,null,"",{"$f":"IF(OR(N142=\"\",$K$120=\"\"),\"\",IF(($K$120-SUM($N$123:N142))=0,\"0 \",$K$120-SUM($N$123:N142)))","v":""},{"$f":"IF(#REF!=\"\",\"\",IF(($K$4-SUM(#REF!))=0,\"0 \",$K$4-SUM(#REF!)))","v":{"$error":"#REF!"}}]
[]
[null,null,null,null,null,null,null,null,null,"請求金額累計（税抜）",null,null,null,{"$f":"SUM(N123:P142)","v":0},null,null,null,null,null,"請求後残高金額（税抜）",null,null,{"$f":"IF(K120=\"\",\"\",IF((K120-N144)=0,\"0 \",K120-N144))","v":""}]

{"sheet":"請負内訳書（保留金あり）","index":5,"n_rows":144,"n_cols":25,"rows_kept":144,"cut":false,"hidden":false,"merged":[[54,5,54,10],[54,11,54,12],[54,13,54,15],[54,16,54,19],[54,21,54,22],[56,9,56,12],[56,13,56,18],[56,19,56,21],[56,22,56,24],[52,5,52,10],[52,11,52,12],[52,13,52,15],[52,16,52,19],[52,21,52,22],[53,5,53,10],[53,11,53,12],[53,13,53,15],[53,16,53,19],[53,21,53,22],[50,5,50,10],[50,11,50,12],[50,13,50,15],[50,16,50,19],[50,21,50,22],[51,5,51,10],[51,11,51,12],[51,13,51,15],[51,16,51,19],[51,21,51,22],[48,5,48,10],[48,11,48,12],[48,13,48,15],[48,16,48,19],[48,21,48,22],[49,5,49,10],[49,11,49,12],[49,13,49,15],[49,16,49,19],[49,21,49,22],[46,5,46,10],[46,11,46,12],[46,13,46,15],[46,16,46,19],[46,21,46,22],[47,5,47,10],[47,11,47,12],[47,13,47,15],[47,16,47,19],[47,21,47,22],[44,5,44,10],[44,11,44,12],[44,13,44,15],[44,16,44,19],[44,21,44,22],[45,5,45,10],[45,11,45,12],[45,13,45,15],[45,16,45,19],[45,21,45,22],[42,5,42,10],[42,11,42,12],[42,13,42,15],[42,16,42,19],[42,21,42,22],[43,5,43,10],[43,11,43,12],[43,13,43,15],[43,16,43,19],[43,21,43,22],[40,5,40,10],[40,11,40,12],[40,13,40,15],[40,16,40,19],[40,21,40,22],[41,5,41,10],[41,11,41,12],[41,13,41,15],[41,16,41,19],[41,21,41,22],[38,5,38,10],[38,11,38,12],[38,13,38,15],[38,16,38,19],[38,21,38,22],[39,5,39,10],[39,11,39,12],[39,13,39,15],[39,16,39,19],[39,21,39,22],[36,5,36,10],[36,11,36,12],[36,13,36,15],[36,16,36,19],[36,21,36,22],[37,5,37,10],[37,11,37,12],[37,13,37,15],[37,16,37,19],[37,21,37,22],[35,5,35,10],[35,11,35,12],[35,13,35,15],[35,16,35,19],[35,21,35,22],[31,15,31,19],[31,22,31,24],[32,6,32,9],[32,10,32,19],[32,26,32,29],[34,0,34,4],[34,5,34,10],[34,11,34,15],[34,16,34,19],[34,20,34,22],[29,0,31,5],[29,6,29,8],[29,9,29,15],[29,20,29,21],[29,23,29,24],[30,6,30,9],[30,10,30,19],[30,22,30,24],[31,6,31,9],[31,10,31,13],[34,23,34,24],[25,5,25,10],[25,11,25,12],[25,13,25,15],[25,16,25,19],[25,21,25,22],[27,9,27,12],[27,13,27,18],[27,19,27,21],[27,22,27,24],[23,5,23,10],[23,11,23,12],[23,13,23,15],[23,16,23,19],[23,21,23,22],[24,5,24,10],[24,11,24,12],[24,13,24,15],[24,16,24,19],[24,21,24,22],[21,5,21,10],[21,11,21,12],[21,13,21,15],[21,16,21,19],[21,21,21,22],[22,5,22,10],[22,11,22,12],[22,13,22,15],[22,16,22,19],[22,21,22,22],[19,5,19,10],[19,11,19,12],[19,13,19,15],[19,16,19,19],[19,21,19,22],[20,5,20,10],[20,11,20,12],[20,13,20,15],[20,16,20,19],[20,21,20,22],[17,5,17,10],[17,11,17,12],[17,13,17,15],[17,16,17,19],[17,21,17,22],[18,5,18,10],[18,11,18,12],[18,13,18,15],[18,16,18,19],[18,21,18,22],[15,5,15,10],[15,11,15,12],[15,13,15,15],[15,16,15,19],[15,21,15,22],[16,5,16,10],[16,11,16,12],[16,13,16,15],[16,16,16,19],[16,21,16,22],[13,5,13,10],[13,11,13,12],[13,13,13,15],[13,16,13,19],[13,21,13,22],[14,5,14,10],[14,11,14,12],[14,13,14,15],[14,16,14,19],[14,21,14,22],[11,5,11,10],[11,11,11,12],[11,13,11,15],[11,16,11,19],[11,21,11,22],[12,5,12,10],[12,11,12,12],[12,13,12,15],[12,16,12,19],[12,21,12,22],[9,5,9,10],[9,11,9,12],[9,13,9,15],[9,16,9,19],[9,21,9,22],[10,5,10,10],[10,11,10,12],[10,13,10,15],[10,16,10,19],[10,21,10,22],[7,5,7,10],[7,11,7,12],[7,13,7,15],[7,16,7,19],[7,21,7,22],[8,5,8,10],[8,11,8,12],[8,13,8,15],[8,16,8,19],[8,21,8,22],[6,5,6,10],[6,11,6,12],[6,13,6,15],[6,16,6,19],[6,21,6,22],[2,15,2,19],[2,22,2,24],[3,6,3,9],[3,10,3,19],[3,26,3,29],[5,0,5,4],[5,5,5,10],[5,11,5,15],[5,16,5,19],[5,20,5,22],[0,0,2,5],[0,6,0,8],[0,9,0,15],[0,20,0,21],[0,23,0,24],[1,6,1,9],[1,10,1,19],[1,22,1,24],[2,6,2,9],[2,10,2,13],[5,23,5,24],[58,0,60,5],[58,6,58,8],[58,9,58,15],[58,20,58,21],[58,23,58,24],[59,6,59,9],[59,10,59,19],[59,22,59,24],[60,6,60,9],[60,10,60,13],[60,15,60,19],[60,22,60,24],[61,6,61,9],[61,10,61,19],[61,26,61,29],[63,0,63,4],[63,5,63,10],[63,11,63,15],[63,16,63,19],[63,20,63,22],[63,23,63,24],[64,5,64,10],[64,11,64,12],[64,13,64,15],[64,16,64,19],[64,21,64,22],[65,5,65,10],[65,11,65,12],[65,13,65,15],[65,16,65,19],[65,21,65,22],[66,5,66,10],[66,11,66,12],[66,13,66,15],[66,16,66,19],[66,21,66,22],[67,5,67,10],[67,11,67,12],[67,13,67,15],[67,16,67,19],[67,21,67,22],[68,5,68,10],[68,11,68,12],[68,13,68,15],[68,16,68,19],[68,21,68,22],[69,5,69,10],[69,11,69,12],[69,13,69,15],[69,16,69,19],[69,21,69,22],[70,5,70,10],[70,11,70,12],[70,13,70,15],[70,16,70,19],[70,21,70,22],[71,5,71,10],[71,11,71,12],[71,13,71,15],[71,16,71,19],[71,21,71,22],[72,5,72,10],[72,11,72,12],[72,13,72,15],[72,16,72,19],[72,21,72,22],[73,5,73,10],[73,11,73,12],[73,13,73,15],[73,16,73,19],[73,21,73,22],[74,5,74,10],[74,11,74,12],[74,13,74,15],[74,16,74,19],[74,21,74,22],[75,5,75,10],[75,11,75,12],[75,13,75,15],[75,16,75,19],[75,21,75,22],[76,5,76,10],[76,11,76,12],[76,13,76,15],[76,16,76,19],[76,21,76,22],[77,5,77,10],[77,11,77,12],[77,13,77,15],[77,16,77,19],[77,21,77,22],[78,5,78,10],[78,11,78,12],[78,13,78,15],[78,16,78,19],[78,21,78,22],[79,5,79,10],[79,11,79,12],[79,13,79,15],[79,16,79,19],[79,21,79,22],[80,5,80,10],[80,11,80,12],[80,13,80,15],[80,16,80,19],[80,21,80,22],[81,5,81,10],[81,11,81,12],[81,13,81,15],[81,16,81,19],[81,21,81,22],[82,5,82,10],[82,11,82,12],[82,13,82,15],[82,16,82,19],[82,21,82,22],[83,5,83,10],[83,11,83,12],[83,13,83,15],[83,16,83,19],[83,21,83,22],[85,9,85,12],[85,13,85,18],[85,19,85,21],[85,22,85,24],[87,0,89,5],[87,6,87,8],[87,9,87,15],[87,20,87,21],[87,23,87,24],[88,6,88,9],[88,10,88,19],[88,22,88,24],[89,6,89,9],[89,10,89,13],[89,15,89,19],[89,22,89,24],[90,6,90,9],[90,10,90,19],[90,26,90,29],[92,0,92,4],[92,5,92,10],[92,11,92,15],[92,16,92,19],[92,20,92,22],[92,23,92,24],[93,5,93,10],[93,11,93,12],[93,13,93,15],[93,16,93,19],[93,21,93,22],[94,5,94,10],[94,11,94,12],[94,13,94,15],[94,16,94,19],[94,21,94,22],[95,5,95,10],[95,11,95,12],[95,13,95,15],[95,16,95,19],[95,21,95,22],[96,5,96,10],[96,11,96,12],[96,13,96,15],[96,16,96,19],[96,21,96,22],[97,5,97,10],[97,11,97,12],[97,13,97,15],[97,16,97,19],[97,21,97,22],[98,5,98,10],[98,11,98,12],[98,13,98,15],[98,16,98,19],[98,21,98,22],[99,5,99,10],[99,11,99,12],[99,13,99,15],[99,16,99,19],[99,21,99,22],[100,5,100,10],[100,11,100,12],[100,13,100,15],[100,16,100,19],[100,21,100,22],[101,5,101,10],[101,11,101,12],[101,13,101,15],[101,16,101,19],[101,21,101,22],[102,5,102,10],[102,11,102,12],[102,13,102,15],[102,16,102,19],[102,21,102,22],[103,5,103,10],[103,11,103,12],[103,13,103,15],[103,16,103,19],[103,21,103,22],[104,5,104,10],[104,11,104,12],[104,13,104,15],[104,16,104,19],[104,21,104,22],[105,5,105,10],[105,11,105,12],[105,13,105,15],[105,16,105,19],[105,21,105,22],[106,5,106,10],[106,11,106,12],[106,13,106,15],[106,16,106,19],[106,21,106,22],[107,5,107,10],[107,11,107,12],[107,13,107,15],[107,16,107,19],[107,21,107,22],[108,5,108,10],[108,11,108,12],[108,13,108,15],[108,16,108,19],[108,21,108,22],[109,5,109,10],[109,11,109,12],[109,13,109,15],[109,16,109,19],[109,21,109,22],[110,5,110,10],[110,11,110,12],[110,13,110,15],[110,16,110,19],[110,21,110,22],[111,5,111,10],[111,11,111,12],[111,13,111,15],[111,16,111,19],[111,21,111,22],[112,5,112,10],[112,11,112,12],[112,13,112,15],[112,16,112,19],[112,21,112,22],[114,9,114,12],[114,13,114,18],[114,19,114,21],[114,22,114,24],[116,0,118,5],[116,6,116,8],[116,9,116,15],[116,20,116,21],[116,23,116,24],[117,6,117,9],[117,10,117,19],[117,22,117,24],[118,6,118,9],[118,10,118,13],[118,15,118,19],[118,22,118,24],[119,6,119,9],[119,10,119,19],[119,26,119,29],[121,0,121,4],[121,5,121,10],[121,11,121,15],[121,16,121,19],[121,20,121,22],[121,23,121,24],[122,5,122,10],[122,11,122,12],[122,13,122,15],[122,16,122,19],[122,21,122,22],[123,5,123,10],[123,11,123,12],[123,13,123,15],[123,16,123,19],[123,21,123,22],[124,5,124,10],[124,11,124,12],[124,13,124,15],[124,16,124,19],[124,21,124,22],[125,5,125,10],[125,11,125,12],[125,13,125,15],[125,16,125,19],[125,21,125,22],[126,5,126,10],[126,11,126,12],[126,13,126,15],[126,16,126,19],[126,21,126,22],[127,5,127,10],[127,11,127,12],[127,13,127,15],[127,16,127,19],[127,21,127,22],[128,5,128,10],[128,11,128,12],[128,13,128,15],[128,16,128,19],[128,21,128,22],[129,5,129,10],[129,11,129,12],[129,13,129,15],[129,16,129,19],[129,21,129,22],[130,5,130,10],[130,11,130,12],[130,13,130,15],[130,16,130,19],[130,21,130,22],[131,5,131,10],[131,11,131,12],[131,13,131,15],[131,16,131,19],[131,21,131,22],[132,5,132,10],[132,11,132,12],[132,13,132,15],[132,16,132,19],[132,21,132,22],[133,5,133,10],[133,11,133,12],[133,13,133,15],[133,16,133,19],[133,21,133,22],[134,5,134,10],[134,11,134,12],[134,13,134,15],[134,16,134,19],[134,21,134,22],[135,5,135,10],[135,11,135,12],[135,13,135,15],[135,16,135,19],[135,21,135,22],[136,5,136,10],[136,11,136,12],[136,13,136,15],[136,16,136,19],[136,21,136,22],[137,5,137,10],[137,11,137,12],[137,13,137,15],[137,16,137,19],[137,21,137,22],[138,5,138,10],[138,11,138,12],[138,13,138,15],[138,16,138,19],[138,21,138,22],[139,5,139,10],[139,11,139,12],[139,13,139,15],[139,16,139,19],[139,21,139,22],[143,9,143,12],[143,13,143,18],[143,19,143,21],[143,22,143,24],[140,5,140,10],[140,11,140,12],[140,13,140,15],[140,16,140,19],[140,21,140,22],[141,5,141,10],[141,11,141,12],[141,13,141,15],[141,16,141,19],[141,21,141,22]]}
["請負工事内訳書"]
[null,null,null,null,null,null,"現場名称：",null,null,null,null,null,null,null,null,null,null,null,null,null,null,"請求日",{"$f":"合計請求書!$R$2","v":"00:00:00"}]
[null,null,null,null,null,null,"契約工期：",null,null,null,null,null,null,null,"～",null,null,null,null,null,null,"会社名",{"$f":"合計請求書!$P$7","v":0}]
[null,null,null,null,null,null,"契約金額(税抜)："]
[]
["請  求",null,null,null,null,"請負内容",null,null,null,null,null,"請求金額\n(税抜)",null,null,null,null,"累計金額\n(税抜)",null,null,null,"請求後残高金額\n(税抜)",null,null,"保留金（10％）"]
["第",1,"回",null,"月",null,null,null,null,null,null,{"$f":"IFERROR(ROUND(N7/K$4,3),\"\")","v":""},null,null,null,null,{"$f":"IF(N7=\"\",\"\",SUM($N$7:N7))","v":""},null,null,null,{"$f":"IF(OR(K4=\"\",N7=\"\"),\"\",IF(V7/$K$4=0,\"\",1-L7))","v":""},{"$f":"IF(OR(N7=\"\",$K$4=\"\"),\"\",IF(($K$4-SUM($N$7:N7))=0,\"0 \",$K$4-SUM($N$7:N7)))","v":""},{"$f":"IF(#REF!=\"\",\"\",IF(($K$4-SUM(#REF!))=0,\"0 \",$K$4-SUM(#REF!)))","v":{"$error":"#REF!"}},null,{"$f":"IF(X7=\"保留金\",N7*0.1,\"\")","v":""}]
["第",2,"回",null,"月",null,null,null,null,null,null,"",null,null,null,null,{"$f":"IF(N8=\"\",\"\",SUM($N$7:N8))","v":""},null,null,null,{"$f":"IF(OR($K$4=\"\",N8=\"\"),\"\",IF(V8/$K$4=0,\"\",ROUNDDOWN(V8/$K$4,3)))","v":""},{"$f":"IF(OR(N8=\"\",$K$4=\"\"),\"\",IF(($K$4-SUM($N$7:N8))=0,\"0 \",$K$4-SUM($N$7:N8)))","v":""},{"$f":"IF(#REF!=\"\",\"\",IF(($K$4-SUM(#REF!))=0,\"0 \",$K$4-SUM(#REF!)))","v":{"$error":"#REF!"}},null,{"$f":"IF(X8=\"保留金\",N8*0.1,IF(X8=\"保留金解除\",SUM($Y$7:Y7),\"\"))","v":""}]
["第",3,"回",null,"月",null,null,null,null,null,null,"",null,null,null,null,{"$f":"IF(N9=\"\",\"\",SUM($N$7:N9))","v":""},null,null,null,{"$f":"IF(OR($K$4=\"\",N9=\"\"),\"\",IF(V9/$K$4=0,\"\",ROUNDDOWN(V9/$K$4,3)))","v":""},{"$f":"IF(OR(N9=\"\",$K$4=\"\"),\"\",IF(($K$4-SUM($N$7:N9))=0,\"0 \",$K$4-SUM($N$7:N9)))","v":""},{"$f":"IF(#REF!=\"\",\"\",IF(($K$4-SUM(#REF!))=0,\"0 \",$K$4-SUM(#REF!)))","v":{"$error":"#REF!"}},null,{"$f":"IF(X9=\"保留金\",N9*0.1,IF(X9=\"保留金解除\",SUM($Y$7:Y8),\"\"))","v":""}]
["第",4,"回",null,"月",null,null,null,null,null,null,"",null,null,null,null,{"$f":"IF(N10=\"\",\"\",SUM($N$7:N10))","v":""},null,null,null,"",{"$f":"IF(OR(N10=\"\",$K$4=\"\"),\"\",IF(($K$4-SUM($N$7:N10))=0,\"0 \",$K$4-SUM($N$7:N10)))","v":""},{"$f":"IF(#REF!=\"\",\"\",IF(($K$4-SUM(#REF!))=0,\"0 \",$K$4-SUM(#REF!)))","v":{"$error":"#REF!"}},null,{"$f":"IF(X10=\"保留金\",N10*0.1,IF(X10=\"保留金解除\",SUM($Y$7:Y9),\"\"))","v":""}]
["第",5,"回",null,"月",null,null,null,null,null,null,"",null,null,null,null,{"$f":"IF(N11=\"\",\"\",SUM($N$7:N11))","v":""},null,null,null,"",{"$f":"IF(OR(N11=\"\",$K$4=\"\"),\"\",IF(($K$4-SUM($N$7:N11))=0,\"0 \",$K$4-SUM($N$7:N11)))","v":""},{"$f":"IF(#REF!=\"\",\"\",IF(($K$4-SUM(#REF!))=0,\"0 \",$K$4-SUM(#REF!)))","v":{"$error":"#REF!"}},null,{"$f":"IF(X11=\"保留金\",N11*0.1,IF(X11=\"保留金解除\",SUM($Y$7:Y10),\"\"))","v":""}]
["第",6,"回",null,"月",null,null,null,null,null,null,"",null,null,null,null,{"$f":"IF(N12=\"\",\"\",SUM($N$7:N12))","v":""},null,null,null,"",{"$f":"IF(OR(N12=\"\",$K$4=\"\"),\"\",IF(($K$4-SUM($N$7:N12))=0,\"0 \",$K$4-SUM($N$7:N12)))","v":""},{"$f":"IF(#REF!=\"\",\"\",IF(($K$4-SUM(#REF!))=0,\"0 \",$K$4-SUM(#REF!)))","v":{"$error":"#REF!"}},null,{"$f":"IF(X12=\"保留金\",N12*0.1,IF(X12=\"保留金解除\",SUM($Y$7:Y11),\"\"))","v":""}]
["第",7,"回",null,"月",null,null,null,null,null,null,"",null,null,null,null,{"$f":"IF(N13=\"\",\"\",SUM($N$7:N13))","v":""},null,null,null,"",{"$f":"IF(OR(N13=\"\",$K$4=\"\"),\"\",IF(($K$4-SUM($N$7:N13))=0,\"0 \",$K$4-SUM($N$7:N13)))","v":""},{"$f":"IF(#REF!=\"\",\"\",IF(($K$4-SUM(#REF!))=0,\"0 \",$K$4-SUM(#REF!)))","v":{"$error":"#REF!"}},null,{"$f":"IF(X13=\"保留金\",N13*0.1,IF(X13=\"保留金解除\",SUM($Y$7:Y12),\"\"))","v":""}]
["第",8,"回",null,"月",null,null,null,null,null,null,"",null,null,null,null,{"$f":"IF(N14=\"\",\"\",SUM($N$7:N14))","v":""},null,null,null,"",{"$f":"IF(OR(N14=\"\",$K$4=\"\"),\"\",IF(($K$4-SUM($N$7:N14))=0,\"0 \",$K$4-SUM($N$7:N14)))","v":""},{"$f":"IF(#REF!=\"\",\"\",IF(($K$4-SUM(#REF!))=0,\"0 \",$K$4-SUM(#REF!)))","v":{"$error":"#REF!"}},null,{"$f":"IF(X14=\"保留金\",N14*0.1,IF(X14=\"保留金解除\",SUM($Y$7:Y13),\"\"))","v":""}]
["第",9,"回",null,"月",null,null,null,null,null,null,"",null,null,null,null,{"$f":"IF(N15=\"\",\"\",SUM($N$7:N15))","v":""},null,null,null,"",{"$f":"IF(OR(N15=\"\",$K$4=\"\"),\"\",IF(($K$4-SUM($N$7:N15))=0,\"0 \",$K$4-SUM($N$7:N15)))","v":""},{"$f":"IF(#REF!=\"\",\"\",IF(($K$4-SUM(#REF!))=0,\"0 \",$K$4-SUM(#REF!)))","v":{"$error":"#REF!"}},null,{"$f":"IF(X15=\"保留金\",N15*0.1,IF(X15=\"保留金解除\",SUM($Y$7:Y14),\"\"))","v":""}]
["第",10,"回",null,"月",null,null,null,null,null,null,"",null,null,null,null,{"$f":"IF(N16=\"\",\"\",SUM($N$7:N16))","v":""},null,null,null,"",{"$f":"IF(OR(N16=\"\",$K$4=\"\"),\"\",IF(($K$4-SUM($N$7:N16))=0,\"0 \",$K$4-SUM($N$7:N16)))","v":""},{"$f":"IF(#REF!=\"\",\"\",IF(($K$4-SUM(#REF!))=0,\"0 \",$K$4-SUM(#REF!)))","v":{"$error":"#REF!"}},null,{"$f":"IF(X16=\"保留金\",N16*0.1,IF(X16=\"保留金解除\",SUM($Y$7:Y15),\"\"))","v":""}]
["第",11,"回",null,"月",null,null,null,null,null,null,"",null,null,null,null,{"$f":"IF(N17=\"\",\"\",SUM($N$7:N17))","v":""},null,null,null,"",{"$f":"IF(OR(N17=\"\",$K$4=\"\"),\"\",IF(($K$4-SUM($N$7:N17))=0,\"0 \",$K$4-SUM($N$7:N17)))","v":""},{"$f":"IF(#REF!=\"\",\"\",IF(($K$4-SUM(#REF!))=0,\"0 \",$K$4-SUM(#REF!)))","v":{"$error":"#REF!"}},null,{"$f":"IF(X17=\"保留金\",N17*0.1,IF(X17=\"保留金解除\",SUM($Y$7:Y16),\"\"))","v":""}]
["第",12,"回",null,"月",null,null,null,null,null,null,"",null,null,null,null,{"$f":"IF(N18=\"\",\"\",SUM($N$7:N18))","v":""},null,null,null,"",{"$f":"IF(OR(N18=\"\",$K$4=\"\"),\"\",IF(($K$4-SUM($N$7:N18))=0,\"0 \",$K$4-SUM($N$7:N18)))","v":""},{"$f":"IF(#REF!=\"\",\"\",IF(($K$4-SUM(#REF!))=0,\"0 \",$K$4-SUM(#REF!)))","v":{"$error":"#REF!"}},null,{"$f":"IF(X18=\"保留金\",N18*0.1,IF(X18=\"保留金解除\",SUM($Y$7:Y17),\"\"))","v":""}]
["第",13,"回",null,"月",null,null,null,null,null,null,"",null,null,null,null,{"$f":"IF(N19=\"\",\"\",SUM($N$7:N19))","v":""},null,null,null,"",{"$f":"IF(OR(N19=\"\",$K$4=\"\"),\"\",IF(($K$4-SUM($N$7:N19))=0,\"0 \",$K$4-SUM($N$7:N19)))","v":""},{"$f":"IF(#REF!=\"\",\"\",IF(($K$4-SUM(#REF!))=0,\"0 \",$K$4-SUM(#REF!)))","v":{"$error":"#REF!"}},null,{"$f":"IF(X19=\"保留金\",N19*0.1,IF(X19=\"保留金解除\",SUM($Y$7:Y18),\"\"))","v":""}]
["第",14,"回",null,"月",null,null,null,null,null,null,"",null,null,null,null,{"$f":"IF(N20=\"\",\"\",SUM($N$7:N20))","v":""},null,null,null,"",{"$f":"IF(OR(N20=\"\",$K$4=\"\"),\"\",IF(($K$4-SUM($N$7:N20))=0,\"0 \",$K$4-SUM($N$7:N20)))","v":""},{"$f":"IF(#REF!=\"\",\"\",IF(($K$4-SUM(#REF!))=0,\"0 \",$K$4-SUM(#REF!)))","v":{"$error":"#REF!"}},null,{"$f":"IF(X20=\"保留金\",N20*0.1,IF(X20=\"保留金解除\",SUM($Y$7:Y19),\"\"))","v":""}]
["第",15,"回",null,"月",null,null,null,null,null,null,"",null,null,null,null,{"$f":"IF(N21=\"\",\"\",SUM($N$7:N21))","v":""},null,null,null,"",{"$f":"IF(OR(N21=\"\",$K$4=\"\"),\"\",IF(($K$4-SUM($N$7:N21))=0,\"0 \",$K$4-SUM($N$7:N21)))","v":""},{"$f":"IF(#REF!=\"\",\"\",IF(($K$4-SUM(#REF!))=0,\"0 \",$K$4-SUM(#REF!)))","v":{"$error":"#REF!"}},null,{"$f":"IF(X21=\"保留金\",N21*0.1,IF(X21=\"保留金解除\",SUM($Y$7:Y20),\"\"))","v":""}]
["第",16,"回",null,"月",null,null,null,null,null,null,"",null,null,null,null,{"$f":"IF(N22=\"\",\"\",SUM($N$7:N22))","v":""},null,null,null,"",{"$f":"IF(OR(N22=\"\",$K$4=\"\"),\"\",IF(($K$4-SUM($N$7:N22))=0,\"0 \",$K$4-SUM($N$7:N22)))","v":""},{"$f":"IF(#REF!=\"\",\"\",IF(($K$4-SUM(#REF!))=0,\"0 \",$K$4-SUM(#REF!)))","v":{"$error":"#REF!"}},null,{"$f":"IF(X22=\"保留金\",N22*0.1,IF(X22=\"保留金解除\",SUM($Y$7:Y21),\"\"))","v":""}]
["第",17,"回",null,"月",null,null,null,null,null,null,"",null,null,null,null,{"$f":"IF(N23=\"\",\"\",SUM($N$7:N23))","v":""},null,null,null,"",{"$f":"IF(OR(N23=\"\",$K$4=\"\"),\"\",IF(($K$4-SUM($N$7:N23))=0,\"0 \",$K$4-SUM($N$7:N23)))","v":""},{"$f":"IF(#REF!=\"\",\"\",IF(($K$4-SUM(#REF!))=0,\"0 \",$K$4-SUM(#REF!)))","v":{"$error":"#REF!"}},null,{"$f":"IF(X23=\"保留金\",N23*0.1,IF(X23=\"保留金解除\",SUM($Y$7:Y22),\"\"))","v":""}]
["第",18,"回",null,"月",null,null,null,null,null,null,"",null,null,null,null,{"$f":"IF(N24=\"\",\"\",SUM($N$7:N24))","v":""},null,null,null,"",{"$f":"IF(OR(N24=\"\",$K$4=\"\"),\"\",IF(($K$4-SUM($N$7:N24))=0,\"0 \",$K$4-SUM($N$7:N24)))","v":""},{"$f":"IF(#REF!=\"\",\"\",IF(($K$4-SUM(#REF!))=0,\"0 \",$K$4-SUM(#REF!)))","v":{"$error":"#REF!"}},null,{"$f":"IF(X24=\"保留金\",N24*0.1,IF(X24=\"保留金解除\",SUM($Y$7:Y23),\"\"))","v":""}]
["第",19,"回",null,"月",null,null,null,null,null,null,"",null,null,null,null,{"$f":"IF(N25=\"\",\"\",SUM($N$7:N25))","v":""},null,null,null,"",{"$f":"IF(OR(N25=\"\",$K$4=\"\"),\"\",IF(($K$4-SUM($N$7:N25))=0,\"0 \",$K$4-SUM($N$7:N25)))","v":""},{"$f":"IF(#REF!=\"\",\"\",IF(($K$4-SUM(#REF!))=0,\"0 \",$K$4-SUM(#REF!)))","v":{"$error":"#REF!"}},null,{"$f":"IF(X25=\"保留金\",N25*0.1,IF(X25=\"保留金解除\",SUM($Y$7:Y24),\"\"))","v":""}]
["第",20,"回",null,"月",null,null,null,null,null,null,"",null,null,null,null,{"$f":"IF(N26=\"\",\"\",SUM($N$7:N26))","v":""},null,null,null,"",{"$f":"IF(OR(N26=\"\",$K$4=\"\"),\"\",IF(($K$4-SUM($N$7:N26))=0,\"0 \",$K$4-SUM($N$7:N26)))","v":""},{"$f":"IF(#REF!=\"\",\"\",IF(($K$4-SUM(#REF!))=0,\"0 \",$K$4-SUM(#REF!)))","v":{"$error":"#REF!"}},null,{"$f":"IF(X26=\"保留金\",N26*0.1,IF(X26=\"保留金解除\",SUM($Y$7:Y25),\"\"))","v":""}]
[]
[null,null,null,null,null,null,null,null,null,"請求金額累計（税抜）",null,null,null,{"$f":"SUM(N7:P26)","v":0},null,null,null,null,null,"請求後残高金額（税抜）",null,null,{"$f":"IF(K4=\"\",\"\",IF((K4-N28)=0,\"0 \",K4-N28))","v":""}]
[]
["請負工事内訳書"]
[null,null,null,null,null,null,"現場名称：",null,null,null,null,null,null,null,null,null,null,null,null,null,null,"請求日",{"$f":"合計請求書!$R$2","v":"00:00:00"}]
[null,null,null,null,null,null,"契約工期：",null,null,null,null,null,null,null,"～",null,null,null,null,null,null,"会社名",{"$f":"合計請求書!$P$7","v":0}]
[null,null,null,null,null,null,"契約金額(税抜)："]
[]
["請  求",null,null,null,null,"請負内容",null,null,null,null,null,"請求金額\n(税抜)",null,null,null,null,"累計金額\n(税抜)",null,null,null,"請求後残高金額\n(税抜)",null,null,"保留金（10％）"]
["第",1,"回",null,"月",null,null,null,null,null,null,{"$f":"IFERROR(ROUND(N36/K$33,3),\"\")","v":""},null,null,null,null,{"$f":"IF(N36=\"\",\"\",SUM($N$36:N36))","v":""},null,null,null,{"$f":"IF(OR(K33=\"\",N36=\"\"),\"\",IF(V36/$K$33=0,\"\",1-L36))","v":""},{"$f":"IF(OR(N36=\"\",$K$33=\"\"),\"\",IF(($K$33-SUM($N$36:N36))=0,\"0 \",$K$33-SUM($N$36:N36)))","v":""},{"$f":"IF(#REF!=\"\",\"\",IF(($K$4-SUM(#REF!))=0,\"0 \",$K$4-SUM(#REF!)))","v":{"$error":"#REF!"}},null,{"$f":"IF(X36=\"保留金\",N36*0.1,\"\")","v":""}]
["第",2,"回",null,"月",null,null,null,null,null,null,"",null,null,null,null,{"$f":"IF(N37=\"\",\"\",SUM($N$36:N37))","v":""},null,null,null,{"$f":"IF(OR($K$33=\"\",N37=\"\"),\"\",IF(V37/$K$33=0,\"\",ROUNDDOWN(V37/$K$33,3)))","v":""},{"$f":"IF(OR(N37=\"\",$K$33=\"\"),\"\",IF(($K$33-SUM($N$36:N37))=0,\"0 \",$K$33-SUM($N$36:N37)))","v":""},{"$f":"IF(#REF!=\"\",\"\",IF(($K$4-SUM(#REF!))=0,\"0 \",$K$4-SUM(#REF!)))","v":{"$error":"#REF!"}},null,{"$f":"IF(X37=\"保留金\",N37*0.1,IF(X37=\"保留金解除\",SUM($Y$36:Y36),\"\"))","v":""}]
["第",3,"回",null,"月",null,null,null,null,null,null,"",null,null,null,null,{"$f":"IF(N38=\"\",\"\",SUM($N$36:N38))","v":""},null,null,null,{"$f":"IF(OR($K$33=\"\",N38=\"\"),\"\",IF(V38/$K$33=0,\"\",ROUNDDOWN(V38/$K$33,3)))","v":""},{"$f":"IF(OR(N38=\"\",$K$33=\"\"),\"\",IF(($K$33-SUM($N$36:N38))=0,\"0 \",$K$33-SUM($N$36:N38)))","v":""},{"$f":"IF(#REF!=\"\",\"\",IF(($K$4-SUM(#REF!))=0,\"0 \",$K$4-SUM(#REF!)))","v":{"$error":"#REF!"}},null,{"$f":"IF(X38=\"保留金\",N38*0.1,IF(X38=\"保留金解除\",SUM($Y$36:Y37),\"\"))","v":""}]
["第",4,"回",null,"月",null,null,null,null,null,null,"",null,null,null,null,{"$f":"IF(N39=\"\",\"\",SUM($N$36:N39))","v":""},null,null,null,"",{"$f":"IF(OR(N39=\"\",$K$33=\"\"),\"\",IF(($K$33-SUM($N$36:N39))=0,\"0 \",$K$33-SUM($N$36:N39)))","v":""},{"$f":"IF(#REF!=\"\",\"\",IF(($K$4-SUM(#REF!))=0,\"0 \",$K$4-SUM(#REF!)))","v":{"$error":"#REF!"}},null,{"$f":"IF(X39=\"保留金\",N39*0.1,IF(X39=\"保留金解除\",SUM($Y$36:Y38),\"\"))","v":""}]
["第",5,"回",null,"月",null,null,null,null,null,null,"",null,null,null,null,{"$f":"IF(N40=\"\",\"\",SUM($N$36:N40))","v":""},null,null,null,"",{"$f":"IF(OR(N40=\"\",$K$33=\"\"),\"\",IF(($K$33-SUM($N$36:N40))=0,\"0 \",$K$33-SUM($N$36:N40)))","v":""},{"$f":"IF(#REF!=\"\",\"\",IF(($K$4-SUM(#REF!))=0,\"0 \",$K$4-SUM(#REF!)))","v":{"$error":"#REF!"}},null,{"$f":"IF(X40=\"保留金\",N40*0.1,IF(X40=\"保留金解除\",SUM($Y$36:Y39),\"\"))","v":""}]
["第",6,"回",null,"月",null,null,null,null,null,null,"",null,null,null,null,{"$f":"IF(N41=\"\",\"\",SUM($N$36:N41))","v":""},null,null,null,"",{"$f":"IF(OR(N41=\"\",$K$33=\"\"),\"\",IF(($K$33-SUM($N$36:N41))=0,\"0 \",$K$33-SUM($N$36:N41)))","v":""},{"$f":"IF(#REF!=\"\",\"\",IF(($K$4-SUM(#REF!))=0,\"0 \",$K$4-SUM(#REF!)))","v":{"$error":"#REF!"}},null,{"$f":"IF(X41=\"保留金\",N41*0.1,IF(X41=\"保留金解除\",SUM($Y$36:Y40),\"\"))","v":""}]
["第",7,"回",null,"月",null,null,null,null,null,null,"",null,null,null,null,{"$f":"IF(N42=\"\",\"\",SUM($N$36:N42))","v":""},null,null,null,"",{"$f":"IF(OR(N42=\"\",$K$33=\"\"),\"\",IF(($K$33-SUM($N$36:N42))=0,\"0 \",$K$33-SUM($N$36:N42)))","v":""},{"$f":"IF(#REF!=\"\",\"\",IF(($K$4-SUM(#REF!))=0,\"0 \",$K$4-SUM(#REF!)))","v":{"$error":"#REF!"}},null,{"$f":"IF(X42=\"保留金\",N42*0.1,IF(X42=\"保留金解除\",SUM($Y$36:Y41),\"\"))","v":""}]
["第",8,"回",null,"月",null,null,null,null,null,null,"",null,null,null,null,{"$f":"IF(N43=\"\",\"\",SUM($N$36:N43))","v":""},null,null,null,"",{"$f":"IF(OR(N43=\"\",$K$33=\"\"),\"\",IF(($K$33-SUM($N$36:N43))=0,\"0 \",$K$33-SUM($N$36:N43)))","v":""},{"$f":"IF(#REF!=\"\",\"\",IF(($K$4-SUM(#REF!))=0,\"0 \",$K$4-SUM(#REF!)))","v":{"$error":"#REF!"}},null,{"$f":"IF(X43=\"保留金\",N43*0.1,IF(X43=\"保留金解除\",SUM($Y$36:Y42),\"\"))","v":""}]
["第",9,"回",null,"月",null,null,null,null,null,null,"",null,null,null,null,{"$f":"IF(N44=\"\",\"\",SUM($N$36:N44))","v":""},null,null,null,"",{"$f":"IF(OR(N44=\"\",$K$33=\"\"),\"\",IF(($K$33-SUM($N$36:N44))=0,\"0 \",$K$33-SUM($N$36:N44)))","v":""},{"$f":"IF(#REF!=\"\",\"\",IF(($K$4-SUM(#REF!))=0,\"0 \",$K$4-SUM(#REF!)))","v":{"$error":"#REF!"}},null,{"$f":"IF(X44=\"保留金\",N44*0.1,IF(X44=\"保留金解除\",SUM($Y$36:Y43),\"\"))","v":""}]
["第",10,"回",null,"月",null,null,null,null,null,null,"",null,null,null,null,{"$f":"IF(N45=\"\",\"\",SUM($N$36:N45))","v":""},null,null,null,"",{"$f":"IF(OR(N45=\"\",$K$33=\"\"),\"\",IF(($K$33-SUM($N$36:N45))=0,\"0 \",$K$33-SUM($N$36:N45)))","v":""},{"$f":"IF(#REF!=\"\",\"\",IF(($K$4-SUM(#REF!))=0,\"0 \",$K$4-SUM(#REF!)))","v":{"$error":"#REF!"}},null,{"$f":"IF(X45=\"保留金\",N45*0.1,IF(X45=\"保留金解除\",SUM($Y$36:Y44),\"\"))","v":""}]
["第",11,"回",null,"月",null,null,null,null,null,null,"",null,null,null,null,{"$f":"IF(N46=\"\",\"\",SUM($N$36:N46))","v":""},null,null,null,"",{"$f":"IF(OR(N46=\"\",$K$33=\"\"),\"\",IF(($K$33-SUM($N$36:N46))=0,\"0 \",$K$33-SUM($N$36:N46)))","v":""},{"$f":"IF(#REF!=\"\",\"\",IF(($K$4-SUM(#REF!))=0,\"0 \",$K$4-SUM(#REF!)))","v":{"$error":"#REF!"}},null,{"$f":"IF(X46=\"保留金\",N46*0.1,IF(X46=\"保留金解除\",SUM($Y$36:Y45),\"\"))","v":""}]
["第",12,"回",null,"月",null,null,null,null,null,null,"",null,null,null,null,{"$f":"IF(N47=\"\",\"\",SUM($N$36:N47))","v":""},null,null,null,"",{"$f":"IF(OR(N47=\"\",$K$33=\"\"),\"\",IF(($K$33-SUM($N$36:N47))=0,\"0 \",$K$33-SUM($N$36:N47)))","v":""},{"$f":"IF(#REF!=\"\",\"\",IF(($K$4-SUM(#REF!))=0,\"0 \",$K$4-SUM(#REF!)))","v":{"$error":"#REF!"}},null,{"$f":"IF(X47=\"保留金\",N47*0.1,IF(X47=\"保留金解除\",SUM($Y$36:Y46),\"\"))","v":""}]
["第",13,"回",null,"月",null,null,null,null,null,null,"",null,null,null,null,{"$f":"IF(N48=\"\",\"\",SUM($N$36:N48))","v":""},null,null,null,"",{"$f":"IF(OR(N48=\"\",$K$33=\"\"),\"\",IF(($K$33-SUM($N$36:N48))=0,\"0 \",$K$33-SUM($N$36:N48)))","v":""},{"$f":"IF(#REF!=\"\",\"\",IF(($K$4-SUM(#REF!))=0,\"0 \",$K$4-SUM(#REF!)))","v":{"$error":"#REF!"}},null,{"$f":"IF(X48=\"保留金\",N48*0.1,IF(X48=\"保留金解除\",SUM($Y$36:Y47),\"\"))","v":""}]
["第",14,"回",null,"月",null,null,null,null,null,null,"",null,null,null,null,{"$f":"IF(N49=\"\",\"\",SUM($N$36:N49))","v":""},null,null,null,"",{"$f":"IF(OR(N49=\"\",$K$33=\"\"),\"\",IF(($K$33-SUM($N$36:N49))=0,\"0 \",$K$33-SUM($N$36:N49)))","v":""},{"$f":"IF(#REF!=\"\",\"\",IF(($K$4-SUM(#REF!))=0,\"0 \",$K$4-SUM(#REF!)))","v":{"$error":"#REF!"}},null,{"$f":"IF(X49=\"保留金\",N49*0.1,IF(X49=\"保留金解除\",SUM($Y$36:Y48),\"\"))","v":""}]
["第",15,"回",null,"月",null,null,null,null,null,null,"",null,null,null,null,{"$f":"IF(N50=\"\",\"\",SUM($N$36:N50))","v":""},null,null,null,"",{"$f":"IF(OR(N50=\"\",$K$33=\"\"),\"\",IF(($K$33-SUM($N$36:N50))=0,\"0 \",$K$33-SUM($N$36:N50)))","v":""},{"$f":"IF(#REF!=\"\",\"\",IF(($K$4-SUM(#REF!))=0,\"0 \",$K$4-SUM(#REF!)))","v":{"$error":"#REF!"}},null,{"$f":"IF(X50=\"保留金\",N50*0.1,IF(X50=\"保留金解除\",SUM($Y$36:Y49),\"\"))","v":""}]
["第",16,"回",null,"月",null,null,null,null,null,null,"",null,null,null,null,{"$f":"IF(N51=\"\",\"\",SUM($N$36:N51))","v":""},null,null,null,"",{"$f":"IF(OR(N51=\"\",$K$33=\"\"),\"\",IF(($K$33-SUM($N$36:N51))=0,\"0 \",$K$33-SUM($N$36:N51)))","v":""},{"$f":"IF(#REF!=\"\",\"\",IF(($K$4-SUM(#REF!))=0,\"0 \",$K$4-SUM(#REF!)))","v":{"$error":"#REF!"}},null,{"$f":"IF(X51=\"保留金\",N51*0.1,IF(X51=\"保留金解除\",SUM($Y$36:Y50),\"\"))","v":""}]
["第",17,"回",null,"月",null,null,null,null,null,null,"",null,null,null,null,{"$f":"IF(N52=\"\",\"\",SUM($N$36:N52))","v":""},null,null,null,"",{"$f":"IF(OR(N52=\"\",$K$33=\"\"),\"\",IF(($K$33-SUM($N$36:N52))=0,\"0 \",$K$33-SUM($N$36:N52)))","v":""},{"$f":"IF(#REF!=\"\",\"\",IF(($K$4-SUM(#REF!))=0,\"0 \",$K$4-SUM(#REF!)))","v":{"$error":"#REF!"}},null,{"$f":"IF(X52=\"保留金\",N52*0.1,IF(X52=\"保留金解除\",SUM($Y$36:Y51),\"\"))","v":""}]
["第",18,"回",null,"月",null,null,null,null,null,null,"",null,null,null,null,{"$f":"IF(N53=\"\",\"\",SUM($N$36:N53))","v":""},null,null,null,"",{"$f":"IF(OR(N53=\"\",$K$33=\"\"),\"\",IF(($K$33-SUM($N$36:N53))=0,\"0 \",$K$33-SUM($N$36:N53)))","v":""},{"$f":"IF(#REF!=\"\",\"\",IF(($K$4-SUM(#REF!))=0,\"0 \",$K$4-SUM(#REF!)))","v":{"$error":"#REF!"}},null,{"$f":"IF(X53=\"保留金\",N53*0.1,IF(X53=\"保留金解除\",SUM($Y$36:Y52),\"\"))","v":""}]
["第",19,"回",null,"月",null,null,null,null,null,null,"",null,null,null,null,{"$f":"IF(N54=\"\",\"\",SUM($N$36:N54))","v":""},null,null,null,"",{"$f":"IF(OR(N54=\"\",$K$33=\"\"),\"\",IF(($K$33-SUM($N$36:N54))=0,\"0 \",$K$33-SUM($N$36:N54)))","v":""},{"$f":"IF(#REF!=\"\",\"\",IF(($K$4-SUM(#REF!))=0,\"0 \",$K$4-SUM(#REF!)))","v":{"$error":"#REF!"}},null,{"$f":"IF(X54=\"保留金\",N54*0.1,IF(X54=\"保留金解除\",SUM($Y$36:Y53),\"\"))","v":""}]
["第",20,"回",null,"月",null,null,null,null,null,null,"",null,null,null,null,{"$f":"IF(N55=\"\",\"\",SUM($N$36:N55))","v":""},null,null,null,"",{"$f":"IF(OR(N55=\"\",$K$33=\"\"),\"\",IF(($K$33-SUM($N$36:N55))=0,\"0 \",$K$33-SUM($N$36:N55)))","v":""},{"$f":"IF(#REF!=\"\",\"\",IF(($K$4-SUM(#REF!))=0,\"0 \",$K$4-SUM(#REF!)))","v":{"$error":"#REF!"}},"保留金解除",{"$f":"IF(X55=\"保留金\",N55*0.1,IF(X55=\"保留金解除\",SUM($Y$36:Y54),\"\"))","v":0}]
[]
[null,null,null,null,null,null,null,null,null,"請求金額累計（税抜）",null,null,null,{"$f":"SUM(N36:P55)","v":0},null,null,null,null,null,"請求後残高金額（税抜）",null,null,{"$f":"IF(K33=\"\",\"\",IF((K33-N57)=0,\"0 \",K33-N57))","v":""}]
[]
["請負工事内訳書"]
[null,null,null,null,null,null,"現場名称：",null,null,null,null,null,null,null,null,null,null,null,null,null,null,"請求日",{"$f":"合計請求書!$R$2","v":"00:00:00"}]
[null,null,null,null,null,null,"契約工期：",null,null,null,null,null,null,null,"～",null,null,null,null,null,null,"会社名",{"$f":"合計請求書!$P$7","v":0}]
[null,null,null,null,null,null,"契約金額(税抜)："]
[]
["請  求",null,null,null,null,"請負内容",null,null,null,null,null,"請求金額\n(税抜)",null,null,null,null,"累計金額\n(税抜)",null,null,null,"請求後残高金額\n(税抜)",null,null,"保留金（10％）"]
["第",1,"回",null,"月",null,null,null,null,null,null,{"$f":"IFERROR(ROUND(N65/K$62,3),\"\")","v":""},null,null,null,null,{"$f":"IF(N65=\"\",\"\",SUM($N$65:N65))","v":""},null,null,null,{"$f":"IF(OR(K62=\"\",N65=\"\"),\"\",IF(V65/$K$62=0,\"\",1-L65))","v":""},{"$f":"IF(OR(N65=\"\",$K$62=\"\"),\"\",IF(($K$62-SUM($N$65:N65))=0,\"0 \",$K$62-SUM($N$65:N65)))","v":""},{"$f":"IF(#REF!=\"\",\"\",IF(($K$4-SUM(#REF!))=0,\"0 \",$K$4-SUM(#REF!)))","v":{"$error":"#REF!"}},null,{"$f":"IF(X65=\"保留金\",N65*0.1,\"\")","v":""}]
["第",2,"回",null,"月",null,null,null,null,null,null,"",null,null,null,null,{"$f":"IF(N66=\"\",\"\",SUM($N$65:N66))","v":""},null,null,null,{"$f":"IF(OR($K$62=\"\",N66=\"\"),\"\",IF(V66/$K$62=0,\"\",ROUNDDOWN(V66/$K$62,3)))","v":""},{"$f":"IF(OR(N66=\"\",$K$62=\"\"),\"\",IF(($K$62-SUM($N$65:N66))=0,\"0 \",$K$62-SUM($N$65:N66)))","v":""},{"$f":"IF(#REF!=\"\",\"\",IF(($K$4-SUM(#REF!))=0,\"0 \",$K$4-SUM(#REF!)))","v":{"$error":"#REF!"}},null,{"$f":"IF(X66=\"保留金\",N66*0.1,IF(X66=\"保留金解除\",SUM($Y$65:Y65),\"\"))","v":""}]
["第",3,"回",null,"月",null,null,null,null,null,null,"",null,null,null,null,{"$f":"IF(N67=\"\",\"\",SUM($N$65:N67))","v":""},null,null,null,{"$f":"IF(OR($K$62=\"\",N67=\"\"),\"\",IF(V67/$K$62=0,\"\",ROUNDDOWN(V67/$K$62,3)))","v":""},{"$f":"IF(OR(N67=\"\",$K$62=\"\"),\"\",IF(($K$62-SUM($N$65:N67))=0,\"0 \",$K$62-SUM($N$65:N67)))","v":""},{"$f":"IF(#REF!=\"\",\"\",IF(($K$4-SUM(#REF!))=0,\"0 \",$K$4-SUM(#REF!)))","v":{"$error":"#REF!"}},null,{"$f":"IF(X67=\"保留金\",N67*0.1,IF(X67=\"保留金解除\",SUM($Y$65:Y66),\"\"))","v":""}]
["第",4,"回",null,"月",null,null,null,null,null,null,"",null,null,null,null,{"$f":"IF(N68=\"\",\"\",SUM($N$65:N68))","v":""},null,null,null,"",{"$f":"IF(OR(N68=\"\",$K$62=\"\"),\"\",IF(($K$62-SUM($N$65:N68))=0,\"0 \",$K$62-SUM($N$65:N68)))","v":""},{"$f":"IF(#REF!=\"\",\"\",IF(($K$4-SUM(#REF!))=0,\"0 \",$K$4-SUM(#REF!)))","v":{"$error":"#REF!"}},null,{"$f":"IF(X68=\"保留金\",N68*0.1,IF(X68=\"保留金解除\",SUM($Y$65:Y67),\"\"))","v":""}]
["第",5,"回",null,"月",null,null,null,null,null,null,"",null,null,null,null,{"$f":"IF(N69=\"\",\"\",SUM($N$65:N69))","v":""},null,null,null,"",{"$f":"IF(OR(N69=\"\",$K$62=\"\"),\"\",IF(($K$62-SUM($N$65:N69))=0,\"0 \",$K$62-SUM($N$65:N69)))","v":""},{"$f":"IF(#REF!=\"\",\"\",IF(($K$4-SUM(#REF!))=0,\"0 \",$K$4-SUM(#REF!)))","v":{"$error":"#REF!"}},null,{"$f":"IF(X69=\"保留金\",N69*0.1,IF(X69=\"保留金解除\",SUM($Y$65:Y68),\"\"))","v":""}]
["第",6,"回",null,"月",null,null,null,null,null,null,"",null,null,null,null,{"$f":"IF(N70=\"\",\"\",SUM($N$65:N70))","v":""},null,null,null,"",{"$f":"IF(OR(N70=\"\",$K$62=\"\"),\"\",IF(($K$62-SUM($N$65:N70))=0,\"0 \",$K$62-SUM($N$65:N70)))","v":""},{"$f":"IF(#REF!=\"\",\"\",IF(($K$4-SUM(#REF!))=0,\"0 \",$K$4-SUM(#REF!)))","v":{"$error":"#REF!"}},null,{"$f":"IF(X70=\"保留金\",N70*0.1,IF(X70=\"保留金解除\",SUM($Y$65:Y69),\"\"))","v":""}]
["第",7,"回",null,"月",null,null,null,null,null,null,"",null,null,null,null,{"$f":"IF(N71=\"\",\"\",SUM($N$65:N71))","v":""},null,null,null,"",{"$f":"IF(OR(N71=\"\",$K$62=\"\"),\"\",IF(($K$62-SUM($N$65:N71))=0,\"0 \",$K$62-SUM($N$65:N71)))","v":""},{"$f":"IF(#REF!=\"\",\"\",IF(($K$4-SUM(#REF!))=0,\"0 \",$K$4-SUM(#REF!)))","v":{"$error":"#REF!"}},null,{"$f":"IF(X71=\"保留金\",N71*0.1,IF(X71=\"保留金解除\",SUM($Y$65:Y70),\"\"))","v":""}]
["第",8,"回",null,"月",null,null,null,null,null,null,"",null,null,null,null,{"$f":"IF(N72=\"\",\"\",SUM($N$65:N72))","v":""},null,null,null,"",{"$f":"IF(OR(N72=\"\",$K$62=\"\"),\"\",IF(($K$62-SUM($N$65:N72))=0,\"0 \",$K$62-SUM($N$65:N72)))","v":""},{"$f":"IF(#REF!=\"\",\"\",IF(($K$4-SUM(#REF!))=0,\"0 \",$K$4-SUM(#REF!)))","v":{"$error":"#REF!"}},null,{"$f":"IF(X72=\"保留金\",N72*0.1,IF(X72=\"保留金解除\",SUM($Y$65:Y71),\"\"))","v":""}]
["第",9,"回",null,"月",null,null,null,null,null,null,"",null,null,null,null,{"$f":"IF(N73=\"\",\"\",SUM($N$65:N73))","v":""},null,null,null,"",{"$f":"IF(OR(N73=\"\",$K$62=\"\"),\"\",IF(($K$62-SUM($N$65:N73))=0,\"0 \",$K$62-SUM($N$65:N73)))","v":""},{"$f":"IF(#REF!=\"\",\"\",IF(($K$4-SUM(#REF!))=0,\"0 \",$K$4-SUM(#REF!)))","v":{"$error":"#REF!"}},null,{"$f":"IF(X73=\"保留金\",N73*0.1,IF(X73=\"保留金解除\",SUM($Y$65:Y72),\"\"))","v":""}]
["第",10,"回",null,"月",null,null,null,null,null,null,"",null,null,null,null,{"$f":"IF(N74=\"\",\"\",SUM($N$65:N74))","v":""},null,null,null,"",{"$f":"IF(OR(N74=\"\",$K$62=\"\"),\"\",IF(($K$62-SUM($N$65:N74))=0,\"0 \",$K$62-SUM($N$65:N74)))","v":""},{"$f":"IF(#REF!=\"\",\"\",IF(($K$4-SUM(#REF!))=0,\"0 \",$K$4-SUM(#REF!)))","v":{"$error":"#REF!"}},null,{"$f":"IF(X74=\"保留金\",N74*0.1,IF(X74=\"保留金解除\",SUM($Y$65:Y73),\"\"))","v":""}]
["第",11,"回",null,"月",null,null,null,null,null,null,"",null,null,null,null,{"$f":"IF(N75=\"\",\"\",SUM($N$65:N75))","v":""},null,null,null,"",{"$f":"IF(OR(N75=\"\",$K$62=\"\"),\"\",IF(($K$62-SUM($N$65:N75))=0,\"0 \",$K$62-SUM($N$65:N75)))","v":""},{"$f":"IF(#REF!=\"\",\"\",IF(($K$4-SUM(#REF!))=0,\"0 \",$K$4-SUM(#REF!)))","v":{"$error":"#REF!"}},null,{"$f":"IF(X75=\"保留金\",N75*0.1,IF(X75=\"保留金解除\",SUM($Y$65:Y74),\"\"))","v":""}]
["第",12,"回",null,"月",null,null,null,null,null,null,"",null,null,null,null,{"$f":"IF(N76=\"\",\"\",SUM($N$65:N76))","v":""},null,null,null,"",{"$f":"IF(OR(N76=\"\",$K$62=\"\"),\"\",IF(($K$62-SUM($N$65:N76))=0,\"0 \",$K$62-SUM($N$65:N76)))","v":""},{"$f":"IF(#REF!=\"\",\"\",IF(($K$4-SUM(#REF!))=0,\"0 \",$K$4-SUM(#REF!)))","v":{"$error":"#REF!"}},null,{"$f":"IF(X76=\"保留金\",N76*0.1,IF(X76=\"保留金解除\",SUM($Y$65:Y75),\"\"))","v":""}]
["第",13,"回",null,"月",null,null,null,null,null,null,"",null,null,null,null,{"$f":"IF(N77=\"\",\"\",SUM($N$65:N77))","v":""},null,null,null,"",{"$f":"IF(OR(N77=\"\",$K$62=\"\"),\"\",IF(($K$62-SUM($N$65:N77))=0,\"0 \",$K$62-SUM($N$65:N77)))","v":""},{"$f":"IF(#REF!=\"\",\"\",IF(($K$4-SUM(#REF!))=0,\"0 \",$K$4-SUM(#REF!)))","v":{"$error":"#REF!"}},null,{"$f":"IF(X77=\"保留金\",N77*0.1,IF(X77=\"保留金解除\",SUM($Y$65:Y76),\"\"))","v":""}]
["第",14,"回",null,"月",null,null,null,null,null,null,"",null,null,null,null,{"$f":"IF(N78=\"\",\"\",SUM($N$65:N78))","v":""},null,null,null,"",{"$f":"IF(OR(N78=\"\",$K$62=\"\"),\"\",IF(($K$62-SUM($N$65:N78))=0,\"0 \",$K$62-SUM($N$65:N78)))","v":""},{"$f":"IF(#REF!=\"\",\"\",IF(($K$4-SUM(#REF!))=0,\"0 \",$K$4-SUM(#REF!)))","v":{"$error":"#REF!"}},null,{"$f":"IF(X78=\"保留金\",N78*0.1,IF(X78=\"保留金解除\",SUM($Y$65:Y77),\"\"))","v":""}]
["第",15,"回",null,"月",null,null,null,null,null,null,"",null,null,null,null,{"$f":"IF(N79=\"\",\"\",SUM($N$65:N79))","v":""},null,null,null,"",{"$f":"IF(OR(N79=\"\",$K$62=\"\"),\"\",IF(($K$62-SUM($N$65:N79))=0,\"0 \",$K$62-SUM($N$65:N79)))","v":""},{"$f":"IF(#REF!=\"\",\"\",IF(($K$4-SUM(#REF!))=0,\"0 \",$K$4-SUM(#REF!)))","v":{"$error":"#REF!"}},null,{"$f":"IF(X79=\"保留金\",N79*0.1,IF(X79=\"保留金解除\",SUM($Y$65:Y78),\"\"))","v":""}]
["第",16,"回",null,"月",null,null,null,null,null,null,"",null,null,null,null,{"$f":"IF(N80=\"\",\"\",SUM($N$65:N80))","v":""},null,null,null,"",{"$f":"IF(OR(N80=\"\",$K$62=\"\"),\"\",IF(($K$62-SUM($N$65:N80))=0,\"0 \",$K$62-SUM($N$65:N80)))","v":""},{"$f":"IF(#REF!=\"\",\"\",IF(($K$4-SUM(#REF!))=0,\"0 \",$K$4-SUM(#REF!)))","v":{"$error":"#REF!"}},null,{"$f":"IF(X80=\"保留金\",N80*0.1,IF(X80=\"保留金解除\",SUM($Y$65:Y79),\"\"))","v":""}]
["第",17,"回",null,"月",null,null,null,null,null,null,"",null,null,null,null,{"$f":"IF(N81=\"\",\"\",SUM($N$65:N81))","v":""},null,null,null,"",{"$f":"IF(OR(N81=\"\",$K$62=\"\"),\"\",IF(($K$62-SUM($N$65:N81))=0,\"0 \",$K$62-SUM($N$65:N81)))","v":""},{"$f":"IF(#REF!=\"\",\"\",IF(($K$4-SUM(#REF!))=0,\"0 \",$K$4-SUM(#REF!)))","v":{"$error":"#REF!"}},null,{"$f":"IF(X81=\"保留金\",N81*0.1,IF(X81=\"保留金解除\",SUM($Y$65:Y80),\"\"))","v":""}]
["第",18,"回",null,"月",null,null,null,null,null,null,"",null,null,null,null,{"$f":"IF(N82=\"\",\"\",SUM($N$65:N82))","v":""},null,null,null,"",{"$f":"IF(OR(N82=\"\",$K$62=\"\"),\"\",IF(($K$62-SUM($N$65:N82))=0,\"0 \",$K$62-SUM($N$65:N82)))","v":""},{"$f":"IF(#REF!=\"\",\"\",IF(($K$4-SUM(#REF!))=0,\"0 \",$K$4-SUM(#REF!)))","v":{"$error":"#REF!"}},null,{"$f":"IF(X82=\"保留金\",N82*0.1,IF(X82=\"保留金解除\",SUM($Y$65:Y81),\"\"))","v":""}]
["第",19,"回",null,"月",null,null,null,null,null,null,"",null,null,null,null,{"$f":"IF(N83=\"\",\"\",SUM($N$65:N83))","v":""},null,null,null,"",{"$f":"IF(OR(N83=\"\",$K$62=\"\"),\"\",IF(($K$62-SUM($N$65:N83))=0,\"0 \",$K$62-SUM($N$65:N83)))","v":""},{"$f":"IF(#REF!=\"\",\"\",IF(($K$4-SUM(#REF!))=0,\"0 \",$K$4-SUM(#REF!)))","v":{"$error":"#REF!"}},null,{"$f":"IF(X83=\"保留金\",N83*0.1,IF(X83=\"保留金解除\",SUM($Y$65:Y82),\"\"))","v":""}]
["第",20,"回",null,"月",null,null,null,null,null,null,"",null,null,null,null,{"$f":"IF(N84=\"\",\"\",SUM($N$65:N84))","v":""},null,null,null,"",{"$f":"IF(OR(N84=\"\",$K$62=\"\"),\"\",IF(($K$62-SUM($N$65:N84))=0,\"0 \",$K$62-SUM($N$65:N84)))","v":""},{"$f":"IF(#REF!=\"\",\"\",IF(($K$4-SUM(#REF!))=0,\"0 \",$K$4-SUM(#REF!)))","v":{"$error":"#REF!"}},null,{"$f":"IF(X84=\"保留金\",N84*0.1,IF(X84=\"保留金解除\",SUM($Y$65:Y83),\"\"))","v":""}]
[]
[null,null,null,null,null,null,null,null,null,"請求金額累計（税抜）",null,null,null,{"$f":"SUM(N65:P84)","v":0},null,null,null,null,null,"請求後残高金額（税抜）",null,null,{"$f":"IF(K62=\"\",\"\",IF((K62-N86)=0,\"0 \",K62-N86))","v":""}]
[]
["請負工事内訳書"]
[null,null,null,null,null,null,"現場名称：",null,null,null,null,null,null,null,null,null,null,null,null,null,null,"請求日",{"$f":"合計請求書!$R$2","v":"00:00:00"}]
[null,null,null,null,null,null,"契約工期：",null,null,null,null,null,null,null,"～",null,null,null,null,null,null,"会社名",{"$f":"合計請求書!$P$7","v":0}]
[null,null,null,null,null,null,"契約金額(税抜)："]
[]
["請  求",null,null,null,null,"請負内容",null,null,null,null,null,"請求金額\n(税抜)",null,null,null,null,"累計金額\n(税抜)",null,null,null,"請求後残高金額\n(税抜)",null,null,"保留金（10％）"]
["第",1,"回",null,"月",null,null,null,null,null,null,{"$f":"IFERROR(ROUND(N94/K$91,3),\"\")","v":""},null,null,null,null,{"$f":"IF(N94=\"\",\"\",SUM($N$94:N94))","v":""},null,null,null,{"$f":"IF(OR(K91=\"\",N94=\"\"),\"\",IF(V94/$K$91=0,\"\",1-L94))","v":""},{"$f":"IF(OR(N94=\"\",$K$91=\"\"),\"\",IF(($K$91-SUM($N$94:N94))=0,\"0 \",$K$91-SUM($N$94:N94)))","v":""},{"$f":"IF(#REF!=\"\",\"\",IF(($K$4-SUM(#REF!))=0,\"0 \",$K$4-SUM(#REF!)))","v":{"$error":"#REF!"}},null,{"$f":"IF(X94=\"保留金\",N94*0.1,\"\")","v":""}]
["第",2,"回",null,"月",null,null,null,null,null,null,"",null,null,null,null,{"$f":"IF(N95=\"\",\"\",SUM($N$94:N95))","v":""},null,null,null,{"$f":"IF(OR($K$91=\"\",N95=\"\"),\"\",IF(V95/$K$91=0,\"\",ROUNDDOWN(V95/$K$91,3)))","v":""},{"$f":"IF(OR(N95=\"\",$K$91=\"\"),\"\",IF(($K$91-SUM($N$94:N95))=0,\"0 \",$K$91-SUM($N$94:N95)))","v":""},{"$f":"IF(#REF!=\"\",\"\",IF(($K$4-SUM(#REF!))=0,\"0 \",$K$4-SUM(#REF!)))","v":{"$error":"#REF!"}},null,{"$f":"IF(X95=\"保留金\",N95*0.1,IF(X95=\"保留金解除\",SUM($Y$94:Y94),\"\"))","v":""}]
["第",3,"回",null,"月",null,null,null,null,null,null,"",null,null,null,null,{"$f":"IF(N96=\"\",\"\",SUM($N$94:N96))","v":""},null,null,null,{"$f":"IF(OR($K$91=\"\",N96=\"\"),\"\",IF(V96/$K$91=0,\"\",ROUNDDOWN(V96/$K$91,3)))","v":""},{"$f":"IF(OR(N96=\"\",$K$91=\"\"),\"\",IF(($K$91-SUM($N$94:N96))=0,\"0 \",$K$91-SUM($N$94:N96)))","v":""},{"$f":"IF(#REF!=\"\",\"\",IF(($K$4-SUM(#REF!))=0,\"0 \",$K$4-SUM(#REF!)))","v":{"$error":"#REF!"}},null,{"$f":"IF(X96=\"保留金\",N96*0.1,IF(X96=\"保留金解除\",SUM($Y$94:Y95),\"\"))","v":""}]
["第",4,"回",null,"月",null,null,null,null,null,null,"",null,null,null,null,{"$f":"IF(N97=\"\",\"\",SUM($N$94:N97))","v":""},null,null,null,"",{"$f":"IF(OR(N97=\"\",$K$91=\"\"),\"\",IF(($K$91-SUM($N$94:N97))=0,\"0 \",$K$91-SUM($N$94:N97)))","v":""},{"$f":"IF(#REF!=\"\",\"\",IF(($K$4-SUM(#REF!))=0,\"0 \",$K$4-SUM(#REF!)))","v":{"$error":"#REF!"}},null,{"$f":"IF(X97=\"保留金\",N97*0.1,IF(X97=\"保留金解除\",SUM($Y$94:Y96),\"\"))","v":""}]
["第",5,"回",null,"月",null,null,null,null,null,null,"",null,null,null,null,{"$f":"IF(N98=\"\",\"\",SUM($N$94:N98))","v":""},null,null,null,"",{"$f":"IF(OR(N98=\"\",$K$91=\"\"),\"\",IF(($K$91-SUM($N$94:N98))=0,\"0 \",$K$91-SUM($N$94:N98)))","v":""},{"$f":"IF(#REF!=\"\",\"\",IF(($K$4-SUM(#REF!))=0,\"0 \",$K$4-SUM(#REF!)))","v":{"$error":"#REF!"}},null,{"$f":"IF(X98=\"保留金\",N98*0.1,IF(X98=\"保留金解除\",SUM($Y$94:Y97),\"\"))","v":""}]
["第",6,"回",null,"月",null,null,null,null,null,null,"",null,null,null,null,{"$f":"IF(N99=\"\",\"\",SUM($N$94:N99))","v":""},null,null,null,"",{"$f":"IF(OR(N99=\"\",$K$91=\"\"),\"\",IF(($K$91-SUM($N$94:N99))=0,\"0 \",$K$91-SUM($N$94:N99)))","v":""},{"$f":"IF(#REF!=\"\",\"\",IF(($K$4-SUM(#REF!))=0,\"0 \",$K$4-SUM(#REF!)))","v":{"$error":"#REF!"}},null,{"$f":"IF(X99=\"保留金\",N99*0.1,IF(X99=\"保留金解除\",SUM($Y$94:Y98),\"\"))","v":""}]
["第",7,"回",null,"月",null,null,null,null,null,null,"",null,null,null,null,{"$f":"IF(N100=\"\",\"\",SUM($N$94:N100))","v":""},null,null,null,"",{"$f":"IF(OR(N100=\"\",$K$91=\"\"),\"\",IF(($K$91-SUM($N$94:N100))=0,\"0 \",$K$91-SUM($N$94:N100)))","v":""},{"$f":"IF(#REF!=\"\",\"\",IF(($K$4-SUM(#REF!))=0,\"0 \",$K$4-SUM(#REF!)))","v":{"$error":"#REF!"}},null,{"$f":"IF(X100=\"保留金\",N100*0.1,IF(X100=\"保留金解除\",SUM($Y$94:Y99),\"\"))","v":""}]
["第",8,"回",null,"月",null,null,null,null,null,null,"",null,null,null,null,{"$f":"IF(N101=\"\",\"\",SUM($N$94:N101))","v":""},null,null,null,"",{"$f":"IF(OR(N101=\"\",$K$91=\"\"),\"\",IF(($K$91-SUM($N$94:N101))=0,\"0 \",$K$91-SUM($N$94:N101)))","v":""},{"$f":"IF(#REF!=\"\",\"\",IF(($K$4-SUM(#REF!))=0,\"0 \",$K$4-SUM(#REF!)))","v":{"$error":"#REF!"}},null,{"$f":"IF(X101=\"保留金\",N101*0.1,IF(X101=\"保留金解除\",SUM($Y$94:Y100),\"\"))","v":""}]
["第",9,"回",null,"月",null,null,null,null,null,null,"",null,null,null,null,{"$f":"IF(N102=\"\",\"\",SUM($N$94:N102))","v":""},null,null,null,"",{"$f":"IF(OR(N102=\"\",$K$91=\"\"),\"\",IF(($K$91-SUM($N$94:N102))=0,\"0 \",$K$91-SUM($N$94:N102)))","v":""},{"$f":"IF(#REF!=\"\",\"\",IF(($K$4-SUM(#REF!))=0,\"0 \",$K$4-SUM(#REF!)))","v":{"$error":"#REF!"}},null,{"$f":"IF(X102=\"保留金\",N102*0.1,IF(X102=\"保留金解除\",SUM($Y$94:Y101),\"\"))","v":""}]
["第",10,"回",null,"月",null,null,null,null,null,null,"",null,null,null,null,{"$f":"IF(N103=\"\",\"\",SUM($N$94:N103))","v":""},null,null,null,"",{"$f":"IF(OR(N103=\"\",$K$91=\"\"),\"\",IF(($K$91-SUM($N$94:N103))=0,\"0 \",$K$91-SUM($N$94:N103)))","v":""},{"$f":"IF(#REF!=\"\",\"\",IF(($K$4-SUM(#REF!))=0,\"0 \",$K$4-SUM(#REF!)))","v":{"$error":"#REF!"}},null,{"$f":"IF(X103=\"保留金\",N103*0.1,IF(X103=\"保留金解除\",SUM($Y$94:Y102),\"\"))","v":""}]
["第",11,"回",null,"月",null,null,null,null,null,null,"",null,null,null,null,{"$f":"IF(N104=\"\",\"\",SUM($N$94:N104))","v":""},null,null,null,"",{"$f":"IF(OR(N104=\"\",$K$91=\"\"),\"\",IF(($K$91-SUM($N$94:N104))=0,\"0 \",$K$91-SUM($N$94:N104)))","v":""},{"$f":"IF(#REF!=\"\",\"\",IF(($K$4-SUM(#REF!))=0,\"0 \",$K$4-SUM(#REF!)))","v":{"$error":"#REF!"}},null,{"$f":"IF(X104=\"保留金\",N104*0.1,IF(X104=\"保留金解除\",SUM($Y$94:Y103),\"\"))","v":""}]
["第",12,"回",null,"月",null,null,null,null,null,null,"",null,null,null,null,{"$f":"IF(N105=\"\",\"\",SUM($N$94:N105))","v":""},null,null,null,"",{"$f":"IF(OR(N105=\"\",$K$91=\"\"),\"\",IF(($K$91-SUM($N$94:N105))=0,\"0 \",$K$91-SUM($N$94:N105)))","v":""},{"$f":"IF(#REF!=\"\",\"\",IF(($K$4-SUM(#REF!))=0,\"0 \",$K$4-SUM(#REF!)))","v":{"$error":"#REF!"}},null,{"$f":"IF(X105=\"保留金\",N105*0.1,IF(X105=\"保留金解除\",SUM($Y$94:Y104),\"\"))","v":""}]
["第",13,"回",null,"月",null,null,null,null,null,null,"",null,null,null,null,{"$f":"IF(N106=\"\",\"\",SUM($N$94:N106))","v":""},null,null,null,"",{"$f":"IF(OR(N106=\"\",$K$91=\"\"),\"\",IF(($K$91-SUM($N$94:N106))=0,\"0 \",$K$91-SUM($N$94:N106)))","v":""},{"$f":"IF(#REF!=\"\",\"\",IF(($K$4-SUM(#REF!))=0,\"0 \",$K$4-SUM(#REF!)))","v":{"$error":"#REF!"}},null,{"$f":"IF(X106=\"保留金\",N106*0.1,IF(X106=\"保留金解除\",SUM($Y$94:Y105),\"\"))","v":""}]
["第",14,"回",null,"月",null,null,null,null,null,null,"",null,null,null,null,{"$f":"IF(N107=\"\",\"\",SUM($N$94:N107))","v":""},null,null,null,"",{"$f":"IF(OR(N107=\"\",$K$91=\"\"),\"\",IF(($K$91-SUM($N$94:N107))=0,\"0 \",$K$91-SUM($N$94:N107)))","v":""},{"$f":"IF(#REF!=\"\",\"\",IF(($K$4-SUM(#REF!))=0,\"0 \",$K$4-SUM(#REF!)))","v":{"$error":"#REF!"}},null,{"$f":"IF(X107=\"保留金\",N107*0.1,IF(X107=\"保留金解除\",SUM($Y$94:Y106),\"\"))","v":""}]
["第",15,"回",null,"月",null,null,null,null,null,null,"",null,null,null,null,{"$f":"IF(N108=\"\",\"\",SUM($N$94:N108))","v":""},null,null,null,"",{"$f":"IF(OR(N108=\"\",$K$91=\"\"),\"\",IF(($K$91-SUM($N$94:N108))=0,\"0 \",$K$91-SUM($N$94:N108)))","v":""},{"$f":"IF(#REF!=\"\",\"\",IF(($K$4-SUM(#REF!))=0,\"0 \",$K$4-SUM(#REF!)))","v":{"$error":"#REF!"}},null,{"$f":"IF(X108=\"保留金\",N108*0.1,IF(X108=\"保留金解除\",SUM($Y$94:Y107),\"\"))","v":""}]
["第",16,"回",null,"月",null,null,null,null,null,null,"",null,null,null,null,{"$f":"IF(N109=\"\",\"\",SUM($N$94:N109))","v":""},null,null,null,"",{"$f":"IF(OR(N109=\"\",$K$91=\"\"),\"\",IF(($K$91-SUM($N$94:N109))=0,\"0 \",$K$91-SUM($N$94:N109)))","v":""},{"$f":"IF(#REF!=\"\",\"\",IF(($K$4-SUM(#REF!))=0,\"0 \",$K$4-SUM(#REF!)))","v":{"$error":"#REF!"}},null,{"$f":"IF(X109=\"保留金\",N109*0.1,IF(X109=\"保留金解除\",SUM($Y$94:Y108),\"\"))","v":""}]
["第",17,"回",null,"月",null,null,null,null,null,null,"",null,null,null,null,{"$f":"IF(N110=\"\",\"\",SUM($N$94:N110))","v":""},null,null,null,"",{"$f":"IF(OR(N110=\"\",$K$91=\"\"),\"\",IF(($K$91-SUM($N$94:N110))=0,\"0 \",$K$91-SUM($N$94:N110)))","v":""},{"$f":"IF(#REF!=\"\",\"\",IF(($K$4-SUM(#REF!))=0,\"0 \",$K$4-SUM(#REF!)))","v":{"$error":"#REF!"}},null,{"$f":"IF(X110=\"保留金\",N110*0.1,IF(X110=\"保留金解除\",SUM($Y$94:Y109),\"\"))","v":""}]
["第",18,"回",null,"月",null,null,null,null,null,null,"",null,null,null,null,{"$f":"IF(N111=\"\",\"\",SUM($N$94:N111))","v":""},null,null,null,"",{"$f":"IF(OR(N111=\"\",$K$91=\"\"),\"\",IF(($K$91-SUM($N$94:N111))=0,\"0 \",$K$91-SUM($N$94:N111)))","v":""},{"$f":"IF(#REF!=\"\",\"\",IF(($K$4-SUM(#REF!))=0,\"0 \",$K$4-SUM(#REF!)))","v":{"$error":"#REF!"}},null,{"$f":"IF(X111=\"保留金\",N111*0.1,IF(X111=\"保留金解除\",SUM($Y$94:Y110),\"\"))","v":""}]
["第",19,"回",null,"月",null,null,null,null,null,null,"",null,null,null,null,{"$f":"IF(N112=\"\",\"\",SUM($N$94:N112))","v":""},null,null,null,"",{"$f":"IF(OR(N112=\"\",$K$91=\"\"),\"\",IF(($K$91-SUM($N$94:N112))=0,\"0 \",$K$91-SUM($N$94:N112)))","v":""},{"$f":"IF(#REF!=\"\",\"\",IF(($K$4-SUM(#REF!))=0,\"0 \",$K$4-SUM(#REF!)))","v":{"$error":"#REF!"}},null,{"$f":"IF(X112=\"保留金\",N112*0.1,IF(X112=\"保留金解除\",SUM($Y$94:Y111),\"\"))","v":""}]
["第",20,"回",null,"月",null,null,null,null,null,null,"",null,null,null,null,{"$f":"IF(N113=\"\",\"\",SUM($N$94:N113))","v":""},null,null,null,"",{"$f":"IF(OR(N113=\"\",$K$91=\"\"),\"\",IF(($K$91-SUM($N$94:N113))=0,\"0 \",$K$91-SUM($N$94:N113)))","v":""},{"$f":"IF(#REF!=\"\",\"\",IF(($K$4-SUM(#REF!))=0,\"0 \",$K$4-SUM(#REF!)))","v":{"$error":"#REF!"}},null,{"$f":"IF(X113=\"保留金\",N113*0.1,IF(X113=\"保留金解除\",SUM($Y$94:Y112),\"\"))","v":""}]
[]
[null,null,null,null,null,null,null,null,null,"請求金額累計（税抜）",null,null,null,{"$f":"SUM(N94:P113)","v":0},null,null,null,null,null,"請求後残高金額（税抜）",null,null,{"$f":"IF(K91=\"\",\"\",IF((K91-N115)=0,\"0 \",K91-N115))","v":""}]
[]
["請負工事内訳書"]
[null,null,null,null,null,null,"現場名称：",null,null,null,null,null,null,null,null,null,null,null,null,null,null,"請求日",{"$f":"合計請求書!$R$2","v":"00:00:00"}]
[null,null,null,null,null,null,"契約工期：",null,null,null,null,null,null,null,"～",null,null,null,null,null,null,"会社名",{"$f":"合計請求書!$P$7","v":0}]
[null,null,null,null,null,null,"契約金額(税抜)："]
[]
["請  求",null,null,null,null,"請負内容",null,null,null,null,null,"請求金額\n(税抜)",null,null,null,null,"累計金額\n(税抜)",null,null,null,"請求後残高金額\n(税抜)",null,null,"保留金（10％）"]
["第",1,"回",null,"月",null,null,null,null,null,null,{"$f":"IFERROR(ROUND(N123/K$120,3),\"\")","v":""},null,null,null,null,{"$f":"IF(N123=\"\",\"\",SUM($N$123:N123))","v":""},null,null,null,{"$f":"IF(OR(K120=\"\",N123=\"\"),\"\",IF(V123/$K$120=0,\"\",1-L123))","v":""},{"$f":"IF(OR(N123=\"\",$K$120=\"\"),\"\",IF(($K$120-SUM($N$123:N123))=0,\"0 \",$K$120-SUM($N$123:N123)))","v":""},{"$f":"IF(#REF!=\"\",\"\",IF(($K$4-SUM(#REF!))=0,\"0 \",$K$4-SUM(#REF!)))","v":{"$error":"#REF!"}},null,{"$f":"IF(X123=\"保留金\",N123*0.1,\"\")","v":""}]
["第",2,"回",null,"月",null,null,null,null,null,null,"",null,null,null,null,{"$f":"IF(N124=\"\",\"\",SUM($N$123:N124))","v":""},null,null,null,{"$f":"IF(OR($K$120=\"\",N124=\"\"),\"\",IF(V124/$K$120=0,\"\",ROUNDDOWN(V124/$K$120,3)))","v":""},{"$f":"IF(OR(N124=\"\",$K$120=\"\"),\"\",IF(($K$120-SUM($N$123:N124))=0,\"0 \",$K$120-SUM($N$123:N124)))","v":""},{"$f":"IF(#REF!=\"\",\"\",IF(($K$4-SUM(#REF!))=0,\"0 \",$K$4-SUM(#REF!)))","v":{"$error":"#REF!"}},null,{"$f":"IF(X124=\"保留金\",N124*0.1,IF(X124=\"保留金解除\",SUM($Y$123:Y123),\"\"))","v":""}]
["第",3,"回",null,"月",null,null,null,null,null,null,"",null,null,null,null,{"$f":"IF(N125=\"\",\"\",SUM($N$123:N125))","v":""},null,null,null,{"$f":"IF(OR($K$120=\"\",N125=\"\"),\"\",IF(V125/$K$120=0,\"\",ROUNDDOWN(V125/$K$120,3)))","v":""},{"$f":"IF(OR(N125=\"\",$K$120=\"\"),\"\",IF(($K$120-SUM($N$123:N125))=0,\"0 \",$K$120-SUM($N$123:N125)))","v":""},{"$f":"IF(#REF!=\"\",\"\",IF(($K$4-SUM(#REF!))=0,\"0 \",$K$4-SUM(#REF!)))","v":{"$error":"#REF!"}},null,{"$f":"IF(X125=\"保留金\",N125*0.1,IF(X125=\"保留金解除\",SUM($Y$123:Y124),\"\"))","v":""}]
["第",4,"回",null,"月",null,null,null,null,null,null,"",null,null,null,null,{"$f":"IF(N126=\"\",\"\",SUM($N$123:N126))","v":""},null,null,null,"",{"$f":"IF(OR(N126=\"\",$K$120=\"\"),\"\",IF(($K$120-SUM($N$123:N126))=0,\"0 \",$K$120-SUM($N$123:N126)))","v":""},{"$f":"IF(#REF!=\"\",\"\",IF(($K$4-SUM(#REF!))=0,\"0 \",$K$4-SUM(#REF!)))","v":{"$error":"#REF!"}},null,{"$f":"IF(X126=\"保留金\",N126*0.1,IF(X126=\"保留金解除\",SUM($Y$123:Y125),\"\"))","v":""}]
["第",5,"回",null,"月",null,null,null,null,null,null,"",null,null,null,null,{"$f":"IF(N127=\"\",\"\",SUM($N$123:N127))","v":""},null,null,null,"",{"$f":"IF(OR(N127=\"\",$K$120=\"\"),\"\",IF(($K$120-SUM($N$123:N127))=0,\"0 \",$K$120-SUM($N$123:N127)))","v":""},{"$f":"IF(#REF!=\"\",\"\",IF(($K$4-SUM(#REF!))=0,\"0 \",$K$4-SUM(#REF!)))","v":{"$error":"#REF!"}},null,{"$f":"IF(X127=\"保留金\",N127*0.1,IF(X127=\"保留金解除\",SUM($Y$123:Y126),\"\"))","v":""}]
["第",6,"回",null,"月",null,null,null,null,null,null,"",null,null,null,null,{"$f":"IF(N128=\"\",\"\",SUM($N$123:N128))","v":""},null,null,null,"",{"$f":"IF(OR(N128=\"\",$K$120=\"\"),\"\",IF(($K$120-SUM($N$123:N128))=0,\"0 \",$K$120-SUM($N$123:N128)))","v":""},{"$f":"IF(#REF!=\"\",\"\",IF(($K$4-SUM(#REF!))=0,\"0 \",$K$4-SUM(#REF!)))","v":{"$error":"#REF!"}},null,{"$f":"IF(X128=\"保留金\",N128*0.1,IF(X128=\"保留金解除\",SUM($Y$123:Y127),\"\"))","v":""}]
["第",7,"回",null,"月",null,null,null,null,null,null,"",null,null,null,null,{"$f":"IF(N129=\"\",\"\",SUM($N$123:N129))","v":""},null,null,null,"",{"$f":"IF(OR(N129=\"\",$K$120=\"\"),\"\",IF(($K$120-SUM($N$123:N129))=0,\"0 \",$K$120-SUM($N$123:N129)))","v":""},{"$f":"IF(#REF!=\"\",\"\",IF(($K$4-SUM(#REF!))=0,\"0 \",$K$4-SUM(#REF!)))","v":{"$error":"#REF!"}},null,{"$f":"IF(X129=\"保留金\",N129*0.1,IF(X129=\"保留金解除\",SUM($Y$123:Y128),\"\"))","v":""}]
["第",8,"回",null,"月",null,null,null,null,null,null,"",null,null,null,null,{"$f":"IF(N130=\"\",\"\",SUM($N$123:N130))","v":""},null,null,null,"",{"$f":"IF(OR(N130=\"\",$K$120=\"\"),\"\",IF(($K$120-SUM($N$123:N130))=0,\"0 \",$K$120-SUM($N$123:N130)))","v":""},{"$f":"IF(#REF!=\"\",\"\",IF(($K$4-SUM(#REF!))=0,\"0 \",$K$4-SUM(#REF!)))","v":{"$error":"#REF!"}},null,{"$f":"IF(X130=\"保留金\",N130*0.1,IF(X130=\"保留金解除\",SUM($Y$123:Y129),\"\"))","v":""}]
["第",9,"回",null,"月",null,null,null,null,null,null,"",null,null,null,null,{"$f":"IF(N131=\"\",\"\",SUM($N$123:N131))","v":""},null,null,null,"",{"$f":"IF(OR(N131=\"\",$K$120=\"\"),\"\",IF(($K$120-SUM($N$123:N131))=0,\"0 \",$K$120-SUM($N$123:N131)))","v":""},{"$f":"IF(#REF!=\"\",\"\",IF(($K$4-SUM(#REF!))=0,\"0 \",$K$4-SUM(#REF!)))","v":{"$error":"#REF!"}},null,{"$f":"IF(X131=\"保留金\",N131*0.1,IF(X131=\"保留金解除\",SUM($Y$123:Y130),\"\"))","v":""}]
["第",10,"回",null,"月",null,null,null,null,null,null,"",null,null,null,null,{"$f":"IF(N132=\"\",\"\",SUM($N$123:N132))","v":""},null,null,null,"",{"$f":"IF(OR(N132=\"\",$K$120=\"\"),\"\",IF(($K$120-SUM($N$123:N132))=0,\"0 \",$K$120-SUM($N$123:N132)))","v":""},{"$f":"IF(#REF!=\"\",\"\",IF(($K$4-SUM(#REF!))=0,\"0 \",$K$4-SUM(#REF!)))","v":{"$error":"#REF!"}},null,{"$f":"IF(X132=\"保留金\",N132*0.1,IF(X132=\"保留金解除\",SUM($Y$123:Y131),\"\"))","v":""}]
["第",11,"回",null,"月",null,null,null,null,null,null,"",null,null,null,null,{"$f":"IF(N133=\"\",\"\",SUM($N$123:N133))","v":""},null,null,null,"",{"$f":"IF(OR(N133=\"\",$K$120=\"\"),\"\",IF(($K$120-SUM($N$123:N133))=0,\"0 \",$K$120-SUM($N$123:N133)))","v":""},{"$f":"IF(#REF!=\"\",\"\",IF(($K$4-SUM(#REF!))=0,\"0 \",$K$4-SUM(#REF!)))","v":{"$error":"#REF!"}},null,{"$f":"IF(X133=\"保留金\",N133*0.1,IF(X133=\"保留金解除\",SUM($Y$123:Y132),\"\"))","v":""}]
["第",12,"回",null,"月",null,null,null,null,null,null,"",null,null,null,null,{"$f":"IF(N134=\"\",\"\",SUM($N$123:N134))","v":""},null,null,null,"",{"$f":"IF(OR(N134=\"\",$K$120=\"\"),\"\",IF(($K$120-SUM($N$123:N134))=0,\"0 \",$K$120-SUM($N$123:N134)))","v":""},{"$f":"IF(#REF!=\"\",\"\",IF(($K$4-SUM(#REF!))=0,\"0 \",$K$4-SUM(#REF!)))","v":{"$error":"#REF!"}},null,{"$f":"IF(X134=\"保留金\",N134*0.1,IF(X134=\"保留金解除\",SUM($Y$123:Y133),\"\"))","v":""}]
["第",13,"回",null,"月",null,null,null,null,null,null,"",null,null,null,null,{"$f":"IF(N135=\"\",\"\",SUM($N$123:N135))","v":""},null,null,null,"",{"$f":"IF(OR(N135=\"\",$K$120=\"\"),\"\",IF(($K$120-SUM($N$123:N135))=0,\"0 \",$K$120-SUM($N$123:N135)))","v":""},{"$f":"IF(#REF!=\"\",\"\",IF(($K$4-SUM(#REF!))=0,\"0 \",$K$4-SUM(#REF!)))","v":{"$error":"#REF!"}},null,{"$f":"IF(X135=\"保留金\",N135*0.1,IF(X135=\"保留金解除\",SUM($Y$123:Y134),\"\"))","v":""}]
["第",14,"回",null,"月",null,null,null,null,null,null,"",null,null,null,null,{"$f":"IF(N136=\"\",\"\",SUM($N$123:N136))","v":""},null,null,null,"",{"$f":"IF(OR(N136=\"\",$K$120=\"\"),\"\",IF(($K$120-SUM($N$123:N136))=0,\"0 \",$K$120-SUM($N$123:N136)))","v":""},{"$f":"IF(#REF!=\"\",\"\",IF(($K$4-SUM(#REF!))=0,\"0 \",$K$4-SUM(#REF!)))","v":{"$error":"#REF!"}},null,{"$f":"IF(X136=\"保留金\",N136*0.1,IF(X136=\"保留金解除\",SUM($Y$123:Y135),\"\"))","v":""}]
["第",15,"回",null,"月",null,null,null,null,null,null,"",null,null,null,null,{"$f":"IF(N137=\"\",\"\",SUM($N$123:N137))","v":""},null,null,null,"",{"$f":"IF(OR(N137=\"\",$K$120=\"\"),\"\",IF(($K$120-SUM($N$123:N137))=0,\"0 \",$K$120-SUM($N$123:N137)))","v":""},{"$f":"IF(#REF!=\"\",\"\",IF(($K$4-SUM(#REF!))=0,\"0 \",$K$4-SUM(#REF!)))","v":{"$error":"#REF!"}},null,{"$f":"IF(X137=\"保留金\",N137*0.1,IF(X137=\"保留金解除\",SUM($Y$123:Y136),\"\"))","v":""}]
["第",16,"回",null,"月",null,null,null,null,null,null,"",null,null,null,null,{"$f":"IF(N138=\"\",\"\",SUM($N$123:N138))","v":""},null,null,null,"",{"$f":"IF(OR(N138=\"\",$K$120=\"\"),\"\",IF(($K$120-SUM($N$123:N138))=0,\"0 \",$K$120-SUM($N$123:N138)))","v":""},{"$f":"IF(#REF!=\"\",\"\",IF(($K$4-SUM(#REF!))=0,\"0 \",$K$4-SUM(#REF!)))","v":{"$error":"#REF!"}},null,{"$f":"IF(X138=\"保留金\",N138*0.1,IF(X138=\"保留金解除\",SUM($Y$123:Y137),\"\"))","v":""}]
["第",17,"回",null,"月",null,null,null,null,null,null,"",null,null,null,null,{"$f":"IF(N139=\"\",\"\",SUM($N$123:N139))","v":""},null,null,null,"",{"$f":"IF(OR(N139=\"\",$K$120=\"\"),\"\",IF(($K$120-SUM($N$123:N139))=0,\"0 \",$K$120-SUM($N$123:N139)))","v":""},{"$f":"IF(#REF!=\"\",\"\",IF(($K$4-SUM(#REF!))=0,\"0 \",$K$4-SUM(#REF!)))","v":{"$error":"#REF!"}},null,{"$f":"IF(X139=\"保留金\",N139*0.1,IF(X139=\"保留金解除\",SUM($Y$123:Y138),\"\"))","v":""}]
["第",18,"回",null,"月",null,null,null,null,null,null,"",null,null,null,null,{"$f":"IF(N140=\"\",\"\",SUM($N$123:N140))","v":""},null,null,null,"",{"$f":"IF(OR(N140=\"\",$K$120=\"\"),\"\",IF(($K$120-SUM($N$123:N140))=0,\"0 \",$K$120-SUM($N$123:N140)))","v":""},{"$f":"IF(#REF!=\"\",\"\",IF(($K$4-SUM(#REF!))=0,\"0 \",$K$4-SUM(#REF!)))","v":{"$error":"#REF!"}},null,{"$f":"IF(X140=\"保留金\",N140*0.1,IF(X140=\"保留金解除\",SUM($Y$123:Y139),\"\"))","v":""}]
["第",19,"回",null,"月",null,null,null,null,null,null,"",null,null,null,null,{"$f":"IF(N141=\"\",\"\",SUM($N$123:N141))","v":""},null,null,null,"",{"$f":"IF(OR(N141=\"\",$K$120=\"\"),\"\",IF(($K$120-SUM($N$123:N141))=0,\"0 \",$K$120-SUM($N$123:N141)))","v":""},{"$f":"IF(#REF!=\"\",\"\",IF(($K$4-SUM(#REF!))=0,\"0 \",$K$4-SUM(#REF!)))","v":{"$error":"#REF!"}},null,{"$f":"IF(X141=\"保留金\",N141*0.1,IF(X141=\"保留金解除\",SUM($Y$123:Y140),\"\"))","v":""}]
["第",20,"回",null,"月",null,null,null,null,null,null,"",null,null,null,null,{"$f":"IF(N142=\"\",\"\",SUM($N$123:N142))","v":""},null,null,null,"",{"$f":"IF(OR(N142=\"\",$K$120=\"\"),\"\",IF(($K$120-SUM($N$123:N142))=0,\"0 \",$K$120-SUM($N$123:N142)))","v":""},{"$f":"IF(#REF!=\"\",\"\",IF(($K$4-SUM(#REF!))=0,\"0 \",$K$4-SUM(#REF!)))","v":{"$error":"#REF!"}},null,{"$f":"IF(X142=\"保留金\",N142*0.1,IF(X142=\"保留金解除\",SUM($Y$123:Y141),\"\"))","v":""}]
[]
[null,null,null,null,null,null,null,null,null,"請求金額累計（税抜）",null,null,null,{"$f":"SUM(N123:P142)","v":0},null,null,null,null,null,"請求後残高金額（税抜）",null,null,{"$f":"IF(K120=\"\",\"\",IF((K120-N144)=0,\"0 \",K120-N144))","v":""}]

{"sheet":"請負内訳書 (2ページ　保留金あり)","index":6,"n_rows":57,"n_cols":25,"rows_kept":57,"cut":false,"hidden":false,"merged":[[54,5,54,10],[54,11,54,12],[54,13,54,15],[54,16,54,19],[54,21,54,22],[56,9,56,12],[56,13,56,18],[56,19,56,21],[56,22,56,24],[52,5,52,10],[52,11,52,12],[52,13,52,15],[52,16,52,19],[52,21,52,22],[53,5,53,10],[53,11,53,12],[53,13,53,15],[53,16,53,19],[53,21,53,22],[50,5,50,10],[50,11,50,12],[50,13,50,15],[50,16,50,19],[50,21,50,22],[51,5,51,10],[51,11,51,12],[51,13,51,15],[51,16,51,19],[51,21,51,22],[48,5,48,10],[48,11,48,12],[48,13,48,15],[48,16,48,19],[48,21,48,22],[49,5,49,10],[49,11,49,12],[49,13,49,15],[49,16,49,19],[49,21,49,22],[46,5,46,10],[46,11,46,12],[46,13,46,15],[46,16,46,19],[46,21,46,22],[47,5,47,10],[47,11,47,12],[47,13,47,15],[47,16,47,19],[47,21,47,22],[44,5,44,10],[44,11,44,12],[44,13,44,15],[44,16,44,19],[44,21,44,22],[45,5,45,10],[45,11,45,12],[45,13,45,15],[45,16,45,19],[45,21,45,22],[42,5,42,10],[42,11,42,12],[42,13,42,15],[42,16,42,19],[42,21,42,22],[43,5,43,10],[43,11,43,12],[43,13,43,15],[43,16,43,19],[43,21,43,22],[40,5,40,10],[40,11,40,12],[40,13,40,15],[40,16,40,19],[40,21,40,22],[41,5,41,10],[41,11,41,12],[41,13,41,15],[41,16,41,19],[41,21,41,22],[38,5,38,10],[38,11,38,12],[38,13,38,15],[38,16,38,19],[38,21,38,22],[39,5,39,10],[39,11,39,12],[39,13,39,15],[39,16,39,19],[39,21,39,22],[36,5,36,10],[36,11,36,12],[36,13,36,15],[36,16,36,19],[36,21,36,22],[37,5,37,10],[37,11,37,12],[37,13,37,15],[37,16,37,19],[37,21,37,22],[35,5,35,10],[35,11,35,12],[35,13,35,15],[35,16,35,19],[35,21,35,22],[31,15,31,19],[31,22,31,24],[32,6,32,9],[32,10,32,19],[32,26,32,29],[34,0,34,4],[34,5,34,10],[34,11,34,15],[34,16,34,19],[34,20,34,22],[29,0,31,5],[29,6,29,8],[29,9,29,15],[29,20,29,21],[29,23,29,24],[30,6,30,9],[30,10,30,19],[30,22,30,24],[31,6,31,9],[31,10,31,13],[34,23,34,24],[25,5,25,10],[25,11,25,12],[25,13,25,15],[25,16,25,19],[25,21,25,22],[27,9,27,12],[27,13,27,18],[27,19,27,21],[27,22,27,24],[23,5,23,10],[23,11,23,12],[23,13,23,15],[23,16,23,19],[23,21,23,22],[24,5,24,10],[24,11,24,12],[24,13,24,15],[24,16,24,19],[24,21,24,22],[21,5,21,10],[21,11,21,12],[21,13,21,15],[21,16,21,19],[21,21,21,22],[22,5,22,10],[22,11,22,12],[22,13,22,15],[22,16,22,19],[22,21,22,22],[19,5,19,10],[19,11,19,12],[19,13,19,15],[19,16,19,19],[19,21,19,22],[20,5,20,10],[20,11,20,12],[20,13,20,15],[20,16,20,19],[20,21,20,22],[17,5,17,10],[17,11,17,12],[17,13,17,15],[17,16,17,19],[17,21,17,22],[18,5,18,10],[18,11,18,12],[18,13,18,15],[18,16,18,19],[18,21,18,22],[15,5,15,10],[15,11,15,12],[15,13,15,15],[15,16,15,19],[15,21,15,22],[16,5,16,10],[16,11,16,12],[16,13,16,15],[16,16,16,19],[16,21,16,22],[13,5,13,10],[13,11,13,12],[13,13,13,15],[13,16,13,19],[13,21,13,22],[14,5,14,10],[14,11,14,12],[14,13,14,15],[14,16,14,19],[14,21,14,22],[11,5,11,10],[11,11,11,12],[11,13,11,15],[11,16,11,19],[11,21,11,22],[12,5,12,10],[12,11,12,12],[12,13,12,15],[12,16,12,19],[12,21,12,22],[9,5,9,10],[9,11,9,12],[9,13,9,15],[9,16,9,19],[9,21,9,22],[10,5,10,10],[10,11,10,12],[10,13,10,15],[10,16,10,19],[10,21,10,22],[7,5,7,10],[7,11,7,12],[7,13,7,15],[7,16,7,19],[7,21,7,22],[8,5,8,10],[8,11,8,12],[8,13,8,15],[8,16,8,19],[8,21,8,22],[6,5,6,10],[6,11,6,12],[6,13,6,15],[6,16,6,19],[6,21,6,22],[2,15,2,19],[2,22,2,24],[3,6,3,9],[3,10,3,19],[3,26,3,29],[5,0,5,4],[5,5,5,10],[5,11,5,15],[5,16,5,19],[5,20,5,22],[0,0,2,5],[0,6,0,8],[0,9,0,15],[0,20,0,21],[0,23,0,24],[1,6,1,9],[1,10,1,19],[1,22,1,24],[2,6,2,9],[2,10,2,13],[5,23,5,24]]}
["請負工事内訳書"]
[null,null,null,null,null,null,"現場名称：",null,null,null,null,null,null,null,null,null,null,null,null,null,null,"請求日",{"$f":"合計請求書!R2","v":"00:00:00"}]
[null,null,null,null,null,null,"契約工期：",null,null,null,null,null,null,null,"～",null,null,null,null,null,null,"会社名",{"$f":"合計請求書!$P$7","v":0}]
[null,null,null,null,null,null,"契約金額(税抜)："]
[]
["請  求",null,null,null,null,"請負内容",null,null,null,null,null,"請求金額\n(税抜)",null,null,null,null,"累計金額\n(税抜)",null,null,null,"請求後残高金額\n(税抜)",null,null,"保留金（10％）"]
["第",1,"回",null,"月",null,null,null,null,null,null,{"$f":"IFERROR(ROUND(N7/K$4,3),\"\")","v":""},null,null,null,null,{"$f":"IF(N7=\"\",\"\",SUM($N$7:N7))","v":""},null,null,null,{"$f":"IF(OR(K4=\"\",N7=\"\"),\"\",IF(V7/$K$4=0,\"\",1-L7))","v":""},{"$f":"IF(OR(N7=\"\",$K$4=\"\"),\"\",IF(($K$4-SUM($N$7:N7))=0,\"0 \",$K$4-SUM($N$7:N7)))","v":""},{"$f":"IF(#REF!=\"\",\"\",IF(($K$4-SUM(#REF!))=0,\"0 \",$K$4-SUM(#REF!)))","v":{"$error":"#REF!"}},null,{"$f":"IF(X7=\"保留金\",N7*0.1,IF(X7=\"保留金解除\",$K$4*0.1,\"\"))","v":""}]
["第",2,"回",null,"月",null,null,null,null,null,null,"",null,null,null,null,{"$f":"IF(N8=\"\",\"\",SUM($N$7:N8))","v":""},null,null,null,{"$f":"IF(OR($K$4=\"\",N8=\"\"),\"\",IF(V8/$K$4=0,\"\",ROUNDDOWN(V8/$K$4,3)))","v":""},{"$f":"IF(OR(N8=\"\",$K$4=\"\"),\"\",IF(($K$4-SUM($N$7:N8))=0,\"0 \",$K$4-SUM($N$7:N8)))","v":""},{"$f":"IF(#REF!=\"\",\"\",IF(($K$4-SUM(#REF!))=0,\"0 \",$K$4-SUM(#REF!)))","v":{"$error":"#REF!"}},null,{"$f":"IF(X8=\"保留金\",N8*0.1,IF(X8=\"保留金解除\",SUM($Y$7:Y7),\"\"))","v":""}]
["第",3,"回",null,"月",null,null,null,null,null,null,"",null,null,null,null,{"$f":"IF(N9=\"\",\"\",SUM($N$7:N9))","v":""},null,null,null,{"$f":"IF(OR($K$4=\"\",N9=\"\"),\"\",IF(V9/$K$4=0,\"\",ROUNDDOWN(V9/$K$4,3)))","v":""},{"$f":"IF(OR(N9=\"\",$K$4=\"\"),\"\",IF(($K$4-SUM($N$7:N9))=0,\"0 \",$K$4-SUM($N$7:N9)))","v":""},{"$f":"IF(#REF!=\"\",\"\",IF(($K$4-SUM(#REF!))=0,\"0 \",$K$4-SUM(#REF!)))","v":{"$error":"#REF!"}},null,{"$f":"IF(X9=\"保留金\",N9*0.1,IF(X9=\"保留金解除\",SUM($Y$7:Y8),\"\"))","v":""}]
["第",4,"回",null,"月",null,null,null,null,null,null,"",null,null,null,null,{"$f":"IF(N10=\"\",\"\",SUM($N$7:N10))","v":""},null,null,null,"",{"$f":"IF(OR(N10=\"\",$K$4=\"\"),\"\",IF(($K$4-SUM($N$7:N10))=0,\"0 \",$K$4-SUM($N$7:N10)))","v":""},{"$f":"IF(#REF!=\"\",\"\",IF(($K$4-SUM(#REF!))=0,\"0 \",$K$4-SUM(#REF!)))","v":{"$error":"#REF!"}},null,{"$f":"IF(X10=\"保留金\",N10*0.1,IF(X10=\"保留金解除\",SUM($Y$7:Y9),\"\"))","v":""}]
["第",5,"回",null,"月",null,null,null,null,null,null,"",null,null,null,null,{"$f":"IF(N11=\"\",\"\",SUM($N$7:N11))","v":""},null,null,null,"",{"$f":"IF(OR(N11=\"\",$K$4=\"\"),\"\",IF(($K$4-SUM($N$7:N11))=0,\"0 \",$K$4-SUM($N$7:N11)))","v":""},{"$f":"IF(#REF!=\"\",\"\",IF(($K$4-SUM(#REF!))=0,\"0 \",$K$4-SUM(#REF!)))","v":{"$error":"#REF!"}},null,{"$f":"IF(X11=\"保留金\",N11*0.1,IF(X11=\"保留金解除\",SUM($Y$7:Y10),\"\"))","v":""}]
["第",6,"回",null,"月",null,null,null,null,null,null,"",null,null,null,null,{"$f":"IF(N12=\"\",\"\",SUM($N$7:N12))","v":""},null,null,null,"",{"$f":"IF(OR(N12=\"\",$K$4=\"\"),\"\",IF(($K$4-SUM($N$7:N12))=0,\"0 \",$K$4-SUM($N$7:N12)))","v":""},{"$f":"IF(#REF!=\"\",\"\",IF(($K$4-SUM(#REF!))=0,\"0 \",$K$4-SUM(#REF!)))","v":{"$error":"#REF!"}},null,{"$f":"IF(X12=\"保留金\",N12*0.1,IF(X12=\"保留金解除\",SUM($Y$7:Y11),\"\"))","v":""}]
["第",7,"回",null,"月",null,null,null,null,null,null,"",null,null,null,null,{"$f":"IF(N13=\"\",\"\",SUM($N$7:N13))","v":""},null,null,null,"",{"$f":"IF(OR(N13=\"\",$K$4=\"\"),\"\",IF(($K$4-SUM($N$7:N13))=0,\"0 \",$K$4-SUM($N$7:N13)))","v":""},{"$f":"IF(#REF!=\"\",\"\",IF(($K$4-SUM(#REF!))=0,\"0 \",$K$4-SUM(#REF!)))","v":{"$error":"#REF!"}},null,{"$f":"IF(X13=\"保留金\",N13*0.1,IF(X13=\"保留金解除\",SUM($Y$7:Y12),\"\"))","v":""}]
["第",8,"回",null,"月",null,null,null,null,null,null,"",null,null,null,null,{"$f":"IF(N14=\"\",\"\",SUM($N$7:N14))","v":""},null,null,null,"",{"$f":"IF(OR(N14=\"\",$K$4=\"\"),\"\",IF(($K$4-SUM($N$7:N14))=0,\"0 \",$K$4-SUM($N$7:N14)))","v":""},{"$f":"IF(#REF!=\"\",\"\",IF(($K$4-SUM(#REF!))=0,\"0 \",$K$4-SUM(#REF!)))","v":{"$error":"#REF!"}},null,{"$f":"IF(X14=\"保留金\",N14*0.1,IF(X14=\"保留金解除\",SUM($Y$7:Y13),\"\"))","v":""}]
["第",9,"回",null,"月",null,null,null,null,null,null,"",null,null,null,null,{"$f":"IF(N15=\"\",\"\",SUM($N$7:N15))","v":""},null,null,null,"",{"$f":"IF(OR(N15=\"\",$K$4=\"\"),\"\",IF(($K$4-SUM($N$7:N15))=0,\"0 \",$K$4-SUM($N$7:N15)))","v":""},{"$f":"IF(#REF!=\"\",\"\",IF(($K$4-SUM(#REF!))=0,\"0 \",$K$4-SUM(#REF!)))","v":{"$error":"#REF!"}},null,{"$f":"IF(X15=\"保留金\",N15*0.1,IF(X15=\"保留金解除\",SUM($Y$7:Y14),\"\"))","v":""}]
["第",10,"回",null,"月",null,null,null,null,null,null,"",null,null,null,null,{"$f":"IF(N16=\"\",\"\",SUM($N$7:N16))","v":""},null,null,null,"",{"$f":"IF(OR(N16=\"\",$K$4=\"\"),\"\",IF(($K$4-SUM($N$7:N16))=0,\"0 \",$K$4-SUM($N$7:N16)))","v":""},{"$f":"IF(#REF!=\"\",\"\",IF(($K$4-SUM(#REF!))=0,\"0 \",$K$4-SUM(#REF!)))","v":{"$error":"#REF!"}},null,{"$f":"IF(X16=\"保留金\",N16*0.1,IF(X16=\"保留金解除\",SUM($Y$7:Y15),\"\"))","v":""}]
["第",11,"回",null,"月",null,null,null,null,null,null,"",null,null,null,null,{"$f":"IF(N17=\"\",\"\",SUM($N$7:N17))","v":""},null,null,null,"",{"$f":"IF(OR(N17=\"\",$K$4=\"\"),\"\",IF(($K$4-SUM($N$7:N17))=0,\"0 \",$K$4-SUM($N$7:N17)))","v":""},{"$f":"IF(#REF!=\"\",\"\",IF(($K$4-SUM(#REF!))=0,\"0 \",$K$4-SUM(#REF!)))","v":{"$error":"#REF!"}},null,{"$f":"IF(X17=\"保留金\",N17*0.1,IF(X17=\"保留金解除\",SUM($Y$7:Y16),\"\"))","v":""}]
["第",12,"回",null,"月",null,null,null,null,null,null,"",null,null,null,null,{"$f":"IF(N18=\"\",\"\",SUM($N$7:N18))","v":""},null,null,null,"",{"$f":"IF(OR(N18=\"\",$K$4=\"\"),\"\",IF(($K$4-SUM($N$7:N18))=0,\"0 \",$K$4-SUM($N$7:N18)))","v":""},{"$f":"IF(#REF!=\"\",\"\",IF(($K$4-SUM(#REF!))=0,\"0 \",$K$4-SUM(#REF!)))","v":{"$error":"#REF!"}},null,{"$f":"IF(X18=\"保留金\",N18*0.1,IF(X18=\"保留金解除\",SUM($Y$7:Y17),\"\"))","v":""}]
["第",13,"回",null,"月",null,null,null,null,null,null,"",null,null,null,null,{"$f":"IF(N19=\"\",\"\",SUM($N$7:N19))","v":""},null,null,null,"",{"$f":"IF(OR(N19=\"\",$K$4=\"\"),\"\",IF(($K$4-SUM($N$7:N19))=0,\"0 \",$K$4-SUM($N$7:N19)))","v":""},{"$f":"IF(#REF!=\"\",\"\",IF(($K$4-SUM(#REF!))=0,\"0 \",$K$4-SUM(#REF!)))","v":{"$error":"#REF!"}},null,{"$f":"IF(X19=\"保留金\",N19*0.1,IF(X19=\"保留金解除\",SUM($Y$7:Y18),\"\"))","v":""}]
["第",14,"回",null,"月",null,null,null,null,null,null,"",null,null,null,null,{"$f":"IF(N20=\"\",\"\",SUM($N$7:N20))","v":""},null,null,null,"",{"$f":"IF(OR(N20=\"\",$K$4=\"\"),\"\",IF(($K$4-SUM($N$7:N20))=0,\"0 \",$K$4-SUM($N$7:N20)))","v":""},{"$f":"IF(#REF!=\"\",\"\",IF(($K$4-SUM(#REF!))=0,\"0 \",$K$4-SUM(#REF!)))","v":{"$error":"#REF!"}},null,{"$f":"IF(X20=\"保留金\",N20*0.1,IF(X20=\"保留金解除\",SUM($Y$7:Y19),\"\"))","v":""}]
["第",15,"回",null,"月",null,null,null,null,null,null,"",null,null,null,null,{"$f":"IF(N21=\"\",\"\",SUM($N$7:N21))","v":""},null,null,null,"",{"$f":"IF(OR(N21=\"\",$K$4=\"\"),\"\",IF(($K$4-SUM($N$7:N21))=0,\"0 \",$K$4-SUM($N$7:N21)))","v":""},{"$f":"IF(#REF!=\"\",\"\",IF(($K$4-SUM(#REF!))=0,\"0 \",$K$4-SUM(#REF!)))","v":{"$error":"#REF!"}},null,{"$f":"IF(X21=\"保留金\",N21*0.1,IF(X21=\"保留金解除\",SUM($Y$7:Y20),\"\"))","v":""}]
["第",16,"回",null,"月",null,null,null,null,null,null,"",null,null,null,null,{"$f":"IF(N22=\"\",\"\",SUM($N$7:N22))","v":""},null,null,null,"",{"$f":"IF(OR(N22=\"\",$K$4=\"\"),\"\",IF(($K$4-SUM($N$7:N22))=0,\"0 \",$K$4-SUM($N$7:N22)))","v":""},{"$f":"IF(#REF!=\"\",\"\",IF(($K$4-SUM(#REF!))=0,\"0 \",$K$4-SUM(#REF!)))","v":{"$error":"#REF!"}},null,{"$f":"IF(X22=\"保留金\",N22*0.1,IF(X22=\"保留金解除\",SUM($Y$7:Y21),\"\"))","v":""}]
["第",17,"回",null,"月",null,null,null,null,null,null,"",null,null,null,null,{"$f":"IF(N23=\"\",\"\",SUM($N$7:N23))","v":""},null,null,null,"",{"$f":"IF(OR(N23=\"\",$K$4=\"\"),\"\",IF(($K$4-SUM($N$7:N23))=0,\"0 \",$K$4-SUM($N$7:N23)))","v":""},{"$f":"IF(#REF!=\"\",\"\",IF(($K$4-SUM(#REF!))=0,\"0 \",$K$4-SUM(#REF!)))","v":{"$error":"#REF!"}},null,{"$f":"IF(X23=\"保留金\",N23*0.1,IF(X23=\"保留金解除\",SUM($Y$7:Y22),\"\"))","v":""}]
["第",18,"回",null,"月",null,null,null,null,null,null,"",null,null,null,null,{"$f":"IF(N24=\"\",\"\",SUM($N$7:N24))","v":""},null,null,null,"",{"$f":"IF(OR(N24=\"\",$K$4=\"\"),\"\",IF(($K$4-SUM($N$7:N24))=0,\"0 \",$K$4-SUM($N$7:N24)))","v":""},{"$f":"IF(#REF!=\"\",\"\",IF(($K$4-SUM(#REF!))=0,\"0 \",$K$4-SUM(#REF!)))","v":{"$error":"#REF!"}},null,{"$f":"IF(X24=\"保留金\",N24*0.1,IF(X24=\"保留金解除\",SUM($Y$7:Y23),\"\"))","v":""}]
["第",19,"回",null,"月",null,null,null,null,null,null,"",null,null,null,null,{"$f":"IF(N25=\"\",\"\",SUM($N$7:N25))","v":""},null,null,null,"",{"$f":"IF(OR(N25=\"\",$K$4=\"\"),\"\",IF(($K$4-SUM($N$7:N25))=0,\"0 \",$K$4-SUM($N$7:N25)))","v":""},{"$f":"IF(#REF!=\"\",\"\",IF(($K$4-SUM(#REF!))=0,\"0 \",$K$4-SUM(#REF!)))","v":{"$error":"#REF!"}},null,{"$f":"IF(X25=\"保留金\",N25*0.1,IF(X25=\"保留金解除\",SUM($Y$7:Y24),\"\"))","v":""}]
["第",20,"回",null,"月",null,null,null,null,null,null,"",null,null,null,null,{"$f":"IF(N26=\"\",\"\",SUM($N$7:N26))","v":""},null,null,null,"",{"$f":"IF(OR(N26=\"\",$K$4=\"\"),\"\",IF(($K$4-SUM($N$7:N26))=0,\"0 \",$K$4-SUM($N$7:N26)))","v":""},{"$f":"IF(#REF!=\"\",\"\",IF(($K$4-SUM(#REF!))=0,\"0 \",$K$4-SUM(#REF!)))","v":{"$error":"#REF!"}},null,{"$f":"IF(X26=\"保留金\",N26*0.1,IF(X26=\"保留金解除\",SUM($Y$7:Y25),\"\"))","v":""}]
[]
[null,null,null,null,null,null,null,null,null,"請求金額累計（税抜）",null,null,null,{"$f":"SUM(N7:P26)","v":0},null,null,null,null,null,"請求後残高金額（税抜）",null,null,{"$f":"IF(K4=\"\",\"\",IF((K4-N28)=0,\"0 \",K4-N28))","v":""}]
[]
["請負工事内訳書"]
[null,null,null,null,null,null,"現場名称：",null,null,null,{"$f":"K2","v":0},null,null,null,null,null,null,null,null,null,null,"請求日",{"$f":"W2","v":"00:00:00"}]
[null,null,null,null,null,null,"契約工期：",null,null,null,{"$f":"K3","v":"00:00:00"},null,null,null,"～",{"$f":"P3","v":"00:00:00"},null,null,null,null,null,"会社名",{"$f":"W3","v":0}]
[null,null,null,null,null,null,"契約金額(税抜)：",null,null,null,{"$f":"K4","v":0}]
[]
["請  求",null,null,null,null,"請負内容",null,null,null,null,null,"請求金額\n(税抜)",null,null,null,null,"累計金額\n(税抜)",null,null,null,"請求後残高金額\n(税抜)",null,null,"保留金（10％）"]
["第",21,"回",null,"月",null,null,null,null,null,null,{"$f":"IFERROR(ROUND(N36/K$4,3),\"\")","v":""},null,null,null,null,{"$f":"IF(N36=\"\",\"\",IF(V26=\"0 \",\"\",SUM($N$7:N26)))","v":""},null,null,null,{"$f":"IF(OR($K$4=\"\",N36=\"\"),\"\",IF(V36/$K$4=0,\"\",ROUNDDOWN(V36/$K$33,3)))","v":""},{"$f":"IF(OR(N36=\"\",$K$4=\"\"),\"\",IF(($K$4-SUM($N$7:$N$26,$N$36:N36))=0,\"0 \",$K$4-SUM($N$7:$N$26,$N$36:N36)))","v":""},{"$f":"IF(#REF!=\"\",\"\",IF(($K$4-SUM(#REF!))=0,\"0 \",$K$4-SUM(#REF!)))","v":{"$error":"#REF!"}},null,{"$f":"IF(X36=\"保留金\",N36*0.1,IF(X36=\"保留金解除\",SUM($Y$7:Y26),\"\"))","v":""}]
["第",22,"回",null,"月",null,null,null,null,null,null,"",null,null,null,null,{"$f":"IF(N37=\"\",\"\",IF(V36=\"0 \",\"\",SUM($N$7:$N$26,$N$36:N36)))","v":""},null,null,null,{"$f":"IF(OR($K$4=\"\",N37=\"\"),\"\",IF(V37/$K$4=0,\"\",ROUNDDOWN(V37/$K$33,3)))","v":""},{"$f":"IF(OR(N37=\"\",$K$4=\"\"),\"\",IF(($K$4-SUM($N$7:$N$26,$N$36:N37))=0,\"0 \",$K$4-SUM($N$7:$N$26,$N$36:N37)))","v":""},{"$f":"IF(#REF!=\"\",\"\",IF(($K$4-SUM(#REF!))=0,\"0 \",$K$4-SUM(#REF!)))","v":{"$error":"#REF!"}},null,{"$f":"IF(X37=\"保留金\",N37*0.1,IF(X37=\"保留金解除\",SUM($Y$7:$Y$26,$Y$36:Y36),\"\"))","v":""}]
["第",23,"回",null,"月",null,null,null,null,null,null,"",null,null,null,null,{"$f":"IF(N38=\"\",\"\",IF(V37=\"0 \",\"\",SUM($N$7:$N$26,$N$36:N37)))","v":""},null,null,null,"",{"$f":"IF(OR(N38=\"\",$K$4=\"\"),\"\",IF(($K$4-SUM($N$7:$N$26,$N$36:N38))=0,\"0 \",$K$4-SUM($N$7:$N$26,$N$36:N38)))","v":""},{"$f":"IF(#REF!=\"\",\"\",IF(($K$4-SUM(#REF!))=0,\"0 \",$K$4-SUM(#REF!)))","v":{"$error":"#REF!"}},null,{"$f":"IF(X38=\"保留金\",N38*0.1,IF(X38=\"保留金解除\",SUM($Y$7:$Y$26,$Y$36:Y37),\"\"))","v":""}]
["第",24,"回",null,"月",null,null,null,null,null,null,"",null,null,null,null,{"$f":"IF(N39=\"\",\"\",IF(V38=\"0 \",\"\",SUM($N$7:$N$26,$N$36:N38)))","v":""},null,null,null,"",{"$f":"IF(OR(N39=\"\",$K$4=\"\"),\"\",IF(($K$4-SUM($N$7:$N$26,$N$36:N39))=0,\"0 \",$K$4-SUM($N$7:$N$26,$N$36:N39)))","v":""},{"$f":"IF(#REF!=\"\",\"\",IF(($K$4-SUM(#REF!))=0,\"0 \",$K$4-SUM(#REF!)))","v":{"$error":"#REF!"}},null,{"$f":"IF(X39=\"保留金\",N39*0.1,IF(X39=\"保留金解除\",SUM($Y$7:$Y$26,$Y$36:Y38),\"\"))","v":""}]
["第",25,"回",null,"月",null,null,null,null,null,null,"",null,null,null,null,{"$f":"IF(N40=\"\",\"\",IF(V39=\"0 \",\"\",SUM($N$7:$N$26,$N$36:N39)))","v":""},null,null,null,"",{"$f":"IF(OR(N40=\"\",$K$4=\"\"),\"\",IF(($K$4-SUM($N$7:$N$26,$N$36:N40))=0,\"0 \",$K$4-SUM($N$7:$N$26,$N$36:N40)))","v":""},{"$f":"IF(#REF!=\"\",\"\",IF(($K$4-SUM(#REF!))=0,\"0 \",$K$4-SUM(#REF!)))","v":{"$error":"#REF!"}},null,{"$f":"IF(X40=\"保留金\",N40*0.1,IF(X40=\"保留金解除\",SUM($Y$7:$Y$26,$Y$36:Y39),\"\"))","v":""}]
["第",26,"回",null,"月",null,null,null,null,null,null,"",null,null,null,null,{"$f":"IF(N41=\"\",\"\",IF(V40=\"0 \",\"\",SUM($N$7:$N$26,$N$36:N40)))","v":""},null,null,null,"",{"$f":"IF(OR(N41=\"\",$K$4=\"\"),\"\",IF(($K$4-SUM($N$7:$N$26,$N$36:N41))=0,\"0 \",$K$4-SUM($N$7:$N$26,$N$36:N41)))","v":""},{"$f":"IF(#REF!=\"\",\"\",IF(($K$4-SUM(#REF!))=0,\"0 \",$K$4-SUM(#REF!)))","v":{"$error":"#REF!"}},null,{"$f":"IF(X41=\"保留金\",N41*0.1,IF(X41=\"保留金解除\",SUM($Y$7:$Y$26,$Y$36:Y40),\"\"))","v":""}]
["第",27,"回",null,"月",null,null,null,null,null,null,"",null,null,null,null,{"$f":"IF(N42=\"\",\"\",IF(V41=\"0 \",\"\",SUM($N$7:$N$26,$N$36:N41)))","v":""},null,null,null,"",{"$f":"IF(OR(N42=\"\",$K$4=\"\"),\"\",IF(($K$4-SUM($N$7:$N$26,$N$36:N42))=0,\"0 \",$K$4-SUM($N$7:$N$26,$N$36:N42)))","v":""},{"$f":"IF(#REF!=\"\",\"\",IF(($K$4-SUM(#REF!))=0,\"0 \",$K$4-SUM(#REF!)))","v":{"$error":"#REF!"}},null,{"$f":"IF(X42=\"保留金\",N42*0.1,IF(X42=\"保留金解除\",SUM($Y$7:$Y$26,$Y$36:Y41),\"\"))","v":""}]
["第",28,"回",null,"月",null,null,null,null,null,null,"",null,null,null,null,{"$f":"IF(N43=\"\",\"\",IF(V42=\"0 \",\"\",SUM($N$7:$N$26,$N$36:N42)))","v":""},null,null,null,"",{"$f":"IF(OR(N43=\"\",$K$4=\"\"),\"\",IF(($K$4-SUM($N$7:$N$26,$N$36:N43))=0,\"0 \",$K$4-SUM($N$7:$N$26,$N$36:N43)))","v":""},{"$f":"IF(#REF!=\"\",\"\",IF(($K$4-SUM(#REF!))=0,\"0 \",$K$4-SUM(#REF!)))","v":{"$error":"#REF!"}},null,{"$f":"IF(X43=\"保留金\",N43*0.1,IF(X43=\"保留金解除\",SUM($Y$7:$Y$26,$Y$36:Y42),\"\"))","v":""}]
["第",29,"回",null,"月",null,null,null,null,null,null,"",null,null,null,null,{"$f":"IF(N44=\"\",\"\",IF(V43=\"0 \",\"\",SUM($N$7:$N$26,$N$36:N43)))","v":""},null,null,null,"",{"$f":"IF(OR(N44=\"\",$K$4=\"\"),\"\",IF(($K$4-SUM($N$7:$N$26,$N$36:N44))=0,\"0 \",$K$4-SUM($N$7:$N$26,$N$36:N44)))","v":""},{"$f":"IF(#REF!=\"\",\"\",IF(($K$4-SUM(#REF!))=0,\"0 \",$K$4-SUM(#REF!)))","v":{"$error":"#REF!"}},null,{"$f":"IF(X44=\"保留金\",N44*0.1,IF(X44=\"保留金解除\",SUM($Y$7:$Y$26,$Y$36:Y43),\"\"))","v":""}]
["第",30,"回",null,"月",null,null,null,null,null,null,"",null,null,null,null,{"$f":"IF(N45=\"\",\"\",IF(V44=\"0 \",\"\",SUM($N$7:$N$26,$N$36:N44)))","v":""},null,null,null,"",{"$f":"IF(OR(N45=\"\",$K$4=\"\"),\"\",IF(($K$4-SUM($N$7:$N$26,$N$36:N45))=0,\"0 \",$K$4-SUM($N$7:$N$26,$N$36:N45)))","v":""},{"$f":"IF(#REF!=\"\",\"\",IF(($K$4-SUM(#REF!))=0,\"0 \",$K$4-SUM(#REF!)))","v":{"$error":"#REF!"}},null,{"$f":"IF(X45=\"保留金\",N45*0.1,IF(X45=\"保留金解除\",SUM($Y$7:$Y$26,$Y$36:Y44),\"\"))","v":""}]
["第",31,"回",null,"月",null,null,null,null,null,null,"",null,null,null,null,{"$f":"IF(N46=\"\",\"\",IF(V45=\"0 \",\"\",SUM($N$7:$N$26,$N$36:N45)))","v":""},null,null,null,"",{"$f":"IF(OR(N46=\"\",$K$4=\"\"),\"\",IF(($K$4-SUM($N$7:$N$26,$N$36:N46))=0,\"0 \",$K$4-SUM($N$7:$N$26,$N$36:N46)))","v":""},{"$f":"IF(#REF!=\"\",\"\",IF(($K$4-SUM(#REF!))=0,\"0 \",$K$4-SUM(#REF!)))","v":{"$error":"#REF!"}},null,{"$f":"IF(X46=\"保留金\",N46*0.1,IF(X46=\"保留金解除\",SUM($Y$7:$Y$26,$Y$36:Y45),\"\"))","v":""}]
["第",32,"回",null,"月",null,null,null,null,null,null,"",null,null,null,null,{"$f":"IF(N47=\"\",\"\",IF(V46=\"0 \",\"\",SUM($N$7:$N$26,$N$36:N46)))","v":""},null,null,null,"",{"$f":"IF(OR(N47=\"\",$K$4=\"\"),\"\",IF(($K$4-SUM($N$7:$N$26,$N$36:N47))=0,\"0 \",$K$4-SUM($N$7:$N$26,$N$36:N47)))","v":""},{"$f":"IF(#REF!=\"\",\"\",IF(($K$4-SUM(#REF!))=0,\"0 \",$K$4-SUM(#REF!)))","v":{"$error":"#REF!"}},null,{"$f":"IF(X47=\"保留金\",N47*0.1,IF(X47=\"保留金解除\",SUM($Y$7:$Y$26,$Y$36:Y46),\"\"))","v":""}]
["第",33,"回",null,"月",null,null,null,null,null,null,"",null,null,null,null,{"$f":"IF(N48=\"\",\"\",IF(V47=\"0 \",\"\",SUM($N$7:$N$26,$N$36:N47)))","v":""},null,null,null,"",{"$f":"IF(OR(N48=\"\",$K$4=\"\"),\"\",IF(($K$4-SUM($N$7:$N$26,$N$36:N48))=0,\"0 \",$K$4-SUM($N$7:$N$26,$N$36:N48)))","v":""},{"$f":"IF(#REF!=\"\",\"\",IF(($K$4-SUM(#REF!))=0,\"0 \",$K$4-SUM(#REF!)))","v":{"$error":"#REF!"}},null,{"$f":"IF(X48=\"保留金\",N48*0.1,IF(X48=\"保留金解除\",SUM($Y$7:$Y$26,$Y$36:Y47),\"\"))","v":""}]
["第",34,"回",null,"月",null,null,null,null,null,null,"",null,null,null,null,{"$f":"IF(N49=\"\",\"\",IF(V48=\"0 \",\"\",SUM($N$7:$N$26,$N$36:N48)))","v":""},null,null,null,"",{"$f":"IF(OR(N49=\"\",$K$4=\"\"),\"\",IF(($K$4-SUM($N$7:$N$26,$N$36:N49))=0,\"0 \",$K$4-SUM($N$7:$N$26,$N$36:N49)))","v":""},{"$f":"IF(#REF!=\"\",\"\",IF(($K$4-SUM(#REF!))=0,\"0 \",$K$4-SUM(#REF!)))","v":{"$error":"#REF!"}},null,{"$f":"IF(X49=\"保留金\",N49*0.1,IF(X49=\"保留金解除\",SUM($Y$7:$Y$26,$Y$36:Y48),\"\"))","v":""}]
["第",35,"回",null,"月",null,null,null,null,null,null,"",null,null,null,null,{"$f":"IF(N50=\"\",\"\",IF(V49=\"0 \",\"\",SUM($N$7:$N$26,$N$36:N49)))","v":""},null,null,null,"",{"$f":"IF(OR(N50=\"\",$K$4=\"\"),\"\",IF(($K$4-SUM($N$7:$N$26,$N$36:N50))=0,\"0 \",$K$4-SUM($N$7:$N$26,$N$36:N50)))","v":""},{"$f":"IF(#REF!=\"\",\"\",IF(($K$4-SUM(#REF!))=0,\"0 \",$K$4-SUM(#REF!)))","v":{"$error":"#REF!"}},null,{"$f":"IF(X50=\"保留金\",N50*0.1,IF(X50=\"保留金解除\",SUM($Y$7:$Y$26,$Y$36:Y49),\"\"))","v":""}]
["第",36,"回",null,"月",null,null,null,null,null,null,"",null,null,null,null,{"$f":"IF(N51=\"\",\"\",IF(V50=\"0 \",\"\",SUM($N$7:$N$26,$N$36:N50)))","v":""},null,null,null,"",{"$f":"IF(OR(N51=\"\",$K$4=\"\"),\"\",IF(($K$4-SUM($N$7:$N$26,$N$36:N51))=0,\"0 \",$K$4-SUM($N$7:$N$26,$N$36:N51)))","v":""},{"$f":"IF(#REF!=\"\",\"\",IF(($K$4-SUM(#REF!))=0,\"0 \",$K$4-SUM(#REF!)))","v":{"$error":"#REF!"}},null,{"$f":"IF(X51=\"保留金\",N51*0.1,IF(X51=\"保留金解除\",SUM($Y$7:$Y$26,$Y$36:Y50),\"\"))","v":""}]
["第",37,"回",null,"月",null,null,null,null,null,null,"",null,null,null,null,{"$f":"IF(N52=\"\",\"\",IF(V51=\"0 \",\"\",SUM($N$7:$N$26,$N$36:N51)))","v":""},null,null,null,"",{"$f":"IF(OR(N52=\"\",$K$4=\"\"),\"\",IF(($K$4-SUM($N$7:$N$26,$N$36:N52))=0,\"0 \",$K$4-SUM($N$7:$N$26,$N$36:N52)))","v":""},{"$f":"IF(#REF!=\"\",\"\",IF(($K$4-SUM(#REF!))=0,\"0 \",$K$4-SUM(#REF!)))","v":{"$error":"#REF!"}},null,{"$f":"IF(X52=\"保留金\",N52*0.1,IF(X52=\"保留金解除\",SUM($Y$7:$Y$26,$Y$36:Y51),\"\"))","v":""}]
["第",38,"回",null,"月",null,null,null,null,null,null,"",null,null,null,null,{"$f":"IF(N53=\"\",\"\",IF(V52=\"0 \",\"\",SUM($N$7:$N$26,$N$36:N52)))","v":""},null,null,null,"",{"$f":"IF(OR(N53=\"\",$K$4=\"\"),\"\",IF(($K$4-SUM($N$7:$N$26,$N$36:N53))=0,\"0 \",$K$4-SUM($N$7:$N$26,$N$36:N53)))","v":""},{"$f":"IF(#REF!=\"\",\"\",IF(($K$4-SUM(#REF!))=0,\"0 \",$K$4-SUM(#REF!)))","v":{"$error":"#REF!"}},null,{"$f":"IF(X53=\"保留金\",N53*0.1,IF(X53=\"保留金解除\",SUM($Y$7:$Y$26,$Y$36:Y52),\"\"))","v":""}]
["第",39,"回",null,"月",null,null,null,null,null,null,"",null,null,null,null,{"$f":"IF(N54=\"\",\"\",IF(V53=\"0 \",\"\",SUM($N$7:$N$26,$N$36:N53)))","v":""},null,null,null,"",{"$f":"IF(OR(N54=\"\",$K$4=\"\"),\"\",IF(($K$4-SUM($N$7:$N$26,$N$36:N54))=0,\"0 \",$K$4-SUM($N$7:$N$26,$N$36:N54)))","v":""},{"$f":"IF(#REF!=\"\",\"\",IF(($K$4-SUM(#REF!))=0,\"0 \",$K$4-SUM(#REF!)))","v":{"$error":"#REF!"}},null,{"$f":"IF(X54=\"保留金\",N54*0.1,IF(X54=\"保留金解除\",SUM($Y$7:$Y$26,$Y$36:Y53),\"\"))","v":""}]
["第",40,"回",null,"月",null,null,null,null,null,null,"",null,null,null,null,{"$f":"IF(N55=\"\",\"\",IF(V54=\"0 \",\"\",SUM($N$7:$N$26,$N$36:N54)))","v":""},null,null,null,"",{"$f":"IF(OR(N55=\"\",$K$4=\"\"),\"\",IF(($K$4-SUM($N$7:$N$26,$N$36:N55))=0,\"0 \",$K$4-SUM($N$7:$N$26,$N$36:N55)))","v":""},{"$f":"IF(#REF!=\"\",\"\",IF(($K$4-SUM(#REF!))=0,\"0 \",$K$4-SUM(#REF!)))","v":{"$error":"#REF!"}},null,{"$f":"IF(X55=\"保留金\",N55*0.1,IF(X55=\"保留金解除\",SUM($Y$7:$Y$26,$Y$36:Y54),\"\"))","v":""}]
[]
[null,null,null,null,null,null,null,null,null,"請求金額累計（税抜）",null,null,null,{"$f":"SUM(N36:N55,N28)","v":0},null,null,null,null,null,"請求後残高金額（税抜）",null,null,{"$f":"IF(K4=\"\",\"\",IF((K4-N57)=0,\"0 \",K4-N57))","v":""}]

{"sheet":"常用内訳書 ","index":7,"n_rows":395,"n_cols":25,"rows_kept":395,"cut":false,"hidden":false,"merged":[[394,3,394,6],[394,7,394,10],[394,11,394,16],[394,17,394,19],[394,20,394,23],[394,24,394,27],[391,2,391,7],[391,10,391,11],[391,12,391,15],[391,17,391,18],[391,20,391,22],[391,23,391,27],[392,22,392,23],[392,24,392,27],[393,11,393,16],[393,17,393,19],[393,20,393,23],[393,24,393,27],[389,2,389,7],[389,10,389,11],[389,12,389,15],[389,17,389,18],[389,20,389,22],[389,23,389,27],[390,2,390,7],[390,10,390,11],[390,12,390,15],[390,17,390,18],[390,20,390,22],[390,23,390,27],[387,2,387,7],[387,10,387,11],[387,12,387,15],[387,17,387,18],[387,20,387,22],[387,23,387,27],[388,2,388,7],[388,10,388,11],[388,12,388,15],[388,17,388,18],[388,20,388,22],[388,23,388,27],[385,2,385,7],[385,10,385,11],[385,12,385,15],[385,17,385,18],[385,20,385,22],[385,23,385,27],[386,2,386,7],[386,10,386,11],[386,12,386,15],[386,17,386,18],[386,20,386,22],[386,23,386,27],[383,2,383,7],[383,10,383,11],[383,12,383,15],[383,17,383,18],[383,20,383,22],[383,23,383,27],[384,2,384,7],[384,10,384,11],[384,12,384,15],[384,17,384,18],[384,20,384,22],[384,23,384,27],[381,2,381,7],[381,10,381,11],[381,12,381,15],[381,17,381,18],[381,20,381,22],[381,23,381,27],[382,2,382,7],[382,10,382,11],[382,12,382,15],[382,17,382,18],[382,20,382,22],[382,23,382,27],[379,2,379,7],[379,10,379,11],[379,12,379,15],[379,17,379,18],[379,20,379,22],[379,23,379,27],[380,2,380,7],[380,10,380,11],[380,12,380,15],[380,17,380,18],[380,20,380,22],[380,23,380,27],[377,2,377,7],[377,10,377,11],[377,12,377,15],[377,17,377,18],[377,20,377,22],[377,23,377,27],[378,2,378,7],[378,10,378,11],[378,12,378,15],[378,17,378,18],[378,20,378,22],[378,23,378,27],[375,2,375,7],[375,10,375,11],[375,12,375,15],[375,17,375,18],[375,20,375,22],[375,23,375,27],[376,2,376,7],[376,10,376,11],[376,12,376,15],[376,17,376,18],[376,20,376,22],[376,23,376,27],[373,2,373,7],[373,10,373,11],[373,12,373,15],[373,17,373,18],[373,20,373,22],[373,23,373,27],[374,2,374,7],[374,10,374,11],[374,12,374,15],[374,17,374,18],[374,20,374,22],[374,23,374,27],[371,2,371,7],[371,10,371,11],[371,12,371,15],[371,17,371,18],[371,20,371,22],[371,23,371,27],[372,2,372,7],[372,10,372,11],[372,12,372,15],[372,17,372,18],[372,20,372,22],[372,23,372,27],[369,2,369,7],[369,10,369,11],[369,12,369,15],[369,17,369,18],[369,20,369,22],[369,23,369,27],[370,2,370,7],[370,10,370,11],[370,12,370,15],[370,17,370,18],[370,20,370,22],[370,23,370,27],[367,2,367,7],[367,10,367,11],[367,12,367,15],[367,17,367,18],[367,20,367,22],[367,23,367,27],[368,2,368,7],[368,10,368,11],[368,12,368,15],[368,17,368,18],[368,20,368,22],[368,23,368,27],[364,16,364,19],[365,2,365,7],[365,10,365,11],[365,12,365,15],[365,17,365,18],[365,20,365,22],[365,23,365,27],[366,2,366,7],[366,10,366,11],[366,12,366,15],[366,17,366,18],[366,20,366,22],[366,23,366,27],[360,0,362,4],[360,5,360,8],[360,9,360,18],[360,24,360,27],[361,5,361,7],[361,22,361,23],[361,24,361,27],[362,5,362,18],[362,22,362,23],[362,24,362,27],[358,3,358,6],[358,7,358,10],[358,11,358,16],[358,17,358,19],[358,20,358,23],[358,24,358,27],[355,2,355,7],[355,10,355,11],[355,12,355,15],[355,17,355,18],[355,20,355,22],[355,23,355,27],[356,22,356,23],[356,24,356,27],[357,11,357,16],[357,17,357,19],[357,20,357,23],[357,24,357,27],[353,2,353,7],[353,10,353,11],[353,12,353,15],[353,17,353,18],[353,20,353,22],[353,23,353,27],[354,2,354,7],[354,10,354,11],[354,12,354,15],[354,17,354,18],[354,20,354,22],[354,23,354,27],[351,2,351,7],[351,10,351,11],[351,12,351,15],[351,17,351,18],[351,20,351,22],[351,23,351,27],[352,2,352,7],[352,10,352,11],[352,12,352,15],[352,17,352,18],[352,20,352,22],[352,23,352,27],[349,2,349,7],[349,10,349,11],[349,12,349,15],[349,17,349,18],[349,20,349,22],[349,23,349,27],[350,2,350,7],[350,10,350,11],[350,12,350,15],[350,17,350,18],[350,20,350,22],[350,23,350,27],[347,2,347,7],[347,10,347,11],[347,12,347,15],[347,17,347,18],[347,20,347,22],[347,23,347,27],[348,2,348,7],[348,10,348,11],[348,12,348,15],[348,17,348,18],[348,20,348,22],[348,23,348,27],[345,2,345,7],[345,10,345,11],[345,12,345,15],[345,17,345,18],[345,20,345,22],[345,23,345,27],[346,2,346,7],[346,10,346,11],[346,12,346,15],[346,17,346,18],[346,20,346,22],[346,23,346,27],[343,2,343,7],[343,10,343,11],[343,12,343,15],[343,17,343,18],[343,20,343,22],[343,23,343,27],[344,2,344,7],[344,10,344,11],[344,12,344,15],[344,17,344,18],[344,20,344,22],[344,23,344,27],[341,2,341,7],[341,10,341,11],[341,12,341,15],[341,17,341,18],[341,20,341,22],[341,23,341,27],[342,2,342,7],[342,10,342,11],[342,12,342,15],[342,17,342,18],[342,20,342,22],[342,23,342,27],[339,2,339,7],[339,10,339,11],[339,12,339,15],[339,17,339,18],[339,20,339,22],[339,23,339,27],[340,2,340,7],[340,10,340,11],[340,12,340,15],[340,17,340,18],[340,20,340,22],[340,23,340,27],[337,2,337,7],[337,10,337,11],[337,12,337,15],[337,17,337,18],[337,20,337,22],[337,23,337,27],[338,2,338,7],[338,10,338,11],[338,12,338,15],[338,17,338,18],[338,20,338,22],[338,23,338,27],[335,2,335,7],[335,10,335,11],[335,12,335,15],[335,17,335,18],[335,20,335,22],[335,23,335,27],[336,2,336,7],[336,10,336,11],[336,12,336,15],[336,17,336,18],[336,20,336,22],[336,23,336,27],[333,2,333,7],[333,10,333,11],[333,12,333,15],[333,17,333,18],[333,20,333,22],[333,23,333,27],[334,2,334,7],[334,10,334,11],[334,12,334,15],[334,17,334,18],[334,20,334,22],[334,23,334,27],[331,2,331,7],[331,10,331,11],[331,12,331,15],[331,17,331,18],[331,20,331,22],[331,23,331,27],[332,2,332,7],[332,10,332,11],[332,12,332,15],[332,17,332,18],[332,20,332,22],[332,23,332,27],[328,16,328,19],[329,2,329,7],[329,10,329,11],[329,12,329,15],[329,17,329,18],[329,20,329,22],[329,23,329,27],[330,2,330,7],[330,10,330,11],[330,12,330,15],[330,17,330,18],[330,20,330,22],[330,23,330,27],[322,3,322,6],[322,7,322,10],[322,11,322,16],[322,17,322,19],[322,20,322,23],[322,24,322,27],[324,0,326,4],[324,5,324,8],[324,9,324,18],[324,24,324,27],[325,5,325,7],[325,22,325,23],[325,24,325,27],[326,5,326,18],[326,22,326,23],[326,24,326,27],[319,2,319,7],[319,10,319,11],[319,12,319,15],[319,17,319,18],[319,20,319,22],[319,23,319,27],[320,22,320,23],[320,24,320,27],[321,11,321,16],[321,17,321,19],[321,20,321,23],[321,24,321,27],[317,2,317,7],[317,10,317,11],[317,12,317,15],[317,17,317,18],[317,20,317,22],[317,23,317,27],[318,2,318,7],[318,10,318,11],[318,12,318,15],[318,17,318,18],[318,20,318,22],[318,23,318,27],[315,2,315,7],[315,10,315,11],[315,12,315,15],[315,17,315,18],[315,20,315,22],[315,23,315,27],[316,2,316,7],[316,10,316,11],[316,12,316,15],[316,17,316,18],[316,20,316,22],[316,23,316,27],[313,2,313,7],[313,10,313,11],[313,12,313,15],[313,17,313,18],[313,20,313,22],[313,23,313,27],[314,2,314,7],[314,10,314,11],[314,12,314,15],[314,17,314,18],[314,20,314,22],[314,23,314,27],[311,2,311,7],[311,10,311,11],[311,12,311,15],[311,17,311,18],[311,20,311,22],[311,23,311,27],[312,2,312,7],[312,10,312,11],[312,12,312,15],[312,17,312,18],[312,20,312,22],[312,23,312,27],[309,2,309,7],[309,10,309,11],[309,12,309,15],[309,17,309,18],[309,20,309,22],[309,23,309,27],[310,2,310,7],[310,10,310,11],[310,12,310,15],[310,17,310,18],[310,20,310,22],[310,23,310,27],[307,2,307,7],[307,10,307,11],[307,12,307,15],[307,17,307,18],[307,20,307,22],[307,23,307,27],[308,2,308,7],[308,10,308,11],[308,12,308,15],[308,17,308,18],[308,20,308,22],[308,23,308,27],[305,2,305,7],[305,10,305,11],[305,12,305,15],[305,17,305,18],[305,20,305,22],[305,23,305,27],[306,2,306,7],[306,10,306,11],[306,12,306,15],[306,17,306,18],[306,20,306,22],[306,23,306,27],[303,2,303,7],[303,10,303,11],[303,12,303,15],[303,17,303,18],[303,20,303,22],[303,23,303,27],[304,2,304,7],[304,10,304,11],[304,12,304,15],[304,17,304,18],[304,20,304,22],[304,23,304,27],[301,2,301,7],[301,10,301,11],[301,12,301,15],[301,17,301,18],[301,20,301,22],[301,23,301,27],[302,2,302,7],[302,10,302,11],[302,12,302,15],[302,17,302,18],[302,20,302,22],[302,23,302,27],[299,2,299,7],[299,10,299,11],[299,12,299,15],[299,17,299,18],[299,20,299,22],[299,23,299,27],[300,2,300,7],[300,10,300,11],[300,12,300,15],[300,17,300,18],[300,20,300,22],[300,23,300,27],[297,2,297,7],[297,10,297,11],[297,12,297,15],[297,17,297,18],[297,20,297,22],[297,23,297,27],[298,2,298,7],[298,10,298,11],[298,12,298,15],[298,17,298,18],[298,20,298,22],[298,23,298,27],[295,2,295,7],[295,10,295,11],[295,12,295,15],[295,17,295,18],[295,20,295,22],[295,23,295,27],[296,2,296,7],[296,10,296,11],[296,12,296,15],[296,17,296,18],[296,20,296,22],[296,23,296,27],[292,16,292,19],[293,2,293,7],[293,10,293,11],[293,12,293,15],[293,17,293,18],[293,20,293,22],[293,23,293,27],[294,2,294,7],[294,10,294,11],[294,12,294,15],[294,17,294,18],[294,20,294,22],[294,23,294,27],[286,3,286,6],[286,7,286,10],[286,11,286,16],[286,17,286,19],[286,20,286,23],[286,24,286,27],[288,0,290,4],[288,5,288,8],[288,9,288,18],[288,24,288,27],[289,5,289,7],[289,22,289,23],[289,24,289,27],[290,5,290,18],[290,22,290,23],[290,24,290,27],[283,2,283,7],[283,10,283,11],[283,12,283,15],[283,17,283,18],[283,20,283,22],[283,23,283,27],[284,22,284,23],[284,24,284,27],[285,11,285,16],[285,17,285,19],[285,20,285,23],[285,24,285,27],[281,2,281,7],[281,10,281,11],[281,12,281,15],[281,17,281,18],[281,20,281,22],[281,23,281,27],[282,2,282,7],[282,10,282,11],[282,12,282,15],[282,17,282,18],[282,20,282,22],[282,23,282,27],[279,2,279,7],[279,10,279,11],[279,12,279,15],[279,17,279,18],[279,20,279,22],[279,23,279,27],[280,2,280,7],[280,10,280,11],[280,12,280,15],[280,17,280,18],[280,20,280,22],[280,23,280,27],[277,2,277,7],[277,10,277,11],[277,12,277,15],[277,17,277,18],[277,20,277,22],[277,23,277,27],[278,2,278,7],[278,10,278,11],[278,12,278,15],[278,17,278,18],[278,20,278,22],[278,23,278,27],[275,2,275,7],[275,10,275,11],[275,12,275,15],[275,17,275,18],[275,20,275,22],[275,23,275,27],[276,2,276,7],[276,10,276,11],[276,12,276,15],[276,17,276,18],[276,20,276,22],[276,23,276,27],[273,2,273,7],[273,10,273,11],[273,12,273,15],[273,17,273,18],[273,20,273,22],[273,23,273,27],[274,2,274,7],[274,10,274,11],[274,12,274,15],[274,17,274,18],[274,20,274,22],[274,23,274,27],[271,2,271,7],[271,10,271,11],[271,12,271,15],[271,17,271,18],[271,20,271,22],[271,23,271,27],[272,2,272,7],[272,10,272,11],[272,12,272,15],[272,17,272,18],[272,20,272,22],[272,23,272,27],[269,2,269,7],[269,10,269,11],[269,12,269,15],[269,17,269,18],[269,20,269,22],[269,23,269,27],[270,2,270,7],[270,10,270,11],[270,12,270,15],[270,17,270,18],[270,20,270,22],[270,23,270,27],[267,2,267,7],[267,10,267,11],[267,12,267,15],[267,17,267,18],[267,20,267,22],[267,23,267,27],[268,2,268,7],[268,10,268,11],[268,12,268,15],[268,17,268,18],[268,20,268,22],[268,23,268,27],[265,2,265,7],[265,10,265,11],[265,12,265,15],[265,17,265,18],[265,20,265,22],[265,23,265,27],[266,2,266,7],[266,10,266,11],[266,12,266,15],[266,17,266,18],[266,20,266,22],[266,23,266,27],[263,2,263,7],[263,10,263,11],[263,12,263,15],[263,17,263,18],[263,20,263,22],[263,23,263,27],[264,2,264,7],[264,10,264,11],[264,12,264,15],[264,17,264,18],[264,20,264,22],[264,23,264,27],[261,2,261,7],[261,10,261,11],[261,12,261,15],[261,17,261,18],[261,20,261,22],[261,23,261,27],[262,2,262,7],[262,10,262,11],[262,12,262,15],[262,17,262,18],[262,20,262,22],[262,23,262,27],[259,2,259,7],[259,10,259,11],[259,12,259,15],[259,17,259,18],[259,20,259,22],[259,23,259,27],[260,2,260,7],[260,10,260,11],[260,12,260,15],[260,17,260,18],[260,20,260,22],[260,23,260,27],[256,16,256,19],[257,2,257,7],[257,10,257,11],[257,12,257,15],[257,17,257,18],[257,20,257,22],[257,23,257,27],[258,2,258,7],[258,10,258,11],[258,12,258,15],[258,17,258,18],[258,20,258,22],[258,23,258,27],[250,3,250,6],[250,7,250,10],[250,11,250,16],[250,17,250,19],[250,20,250,23],[250,24,250,27],[252,0,254,4],[252,5,252,8],[252,9,252,18],[252,24,252,27],[253,5,253,7],[253,22,253,23],[253,24,253,27],[254,5,254,18],[254,22,254,23],[254,24,254,27],[247,2,247,7],[247,10,247,11],[247,12,247,15],[247,17,247,18],[247,20,247,22],[247,23,247,27],[248,22,248,23],[248,24,248,27],[249,11,249,16],[249,17,249,19],[249,20,249,23],[249,24,249,27],[245,2,245,7],[245,10,245,11],[245,12,245,15],[245,17,245,18],[245,20,245,22],[245,23,245,27],[246,2,246,7],[246,10,246,11],[246,12,246,15],[246,17,246,18],[246,20,246,22],[246,23,246,27],[243,2,243,7],[243,10,243,11],[243,12,243,15],[243,17,243,18],[243,20,243,22],[243,23,243,27],[244,2,244,7],[244,10,244,11],[244,12,244,15],[244,17,244,18],[244,20,244,22],[244,23,244,27],[241,2,241,7],[241,10,241,11],[241,12,241,15],[241,17,241,18],[241,20,241,22],[241,23,241,27],[242,2,242,7],[242,10,242,11],[242,12,242,15],[242,17,242,18],[242,20,242,22],[242,23,242,27],[239,2,239,7],[239,10,239,11],[239,12,239,15],[239,17,239,18],[239,20,239,22],[239,23,239,27],[240,2,240,7],[240,10,240,11],[240,12,240,15],[240,17,240,18],[240,20,240,22],[240,23,240,27],[237,2,237,7],[237,10,237,11],[237,12,237,15],[237,17,237,18],[237,20,237,22],[237,23,237,27],[238,2,238,7],[238,10,238,11],[238,12,238,15],[238,17,238,18],[238,20,238,22],[238,23,238,27],[235,2,235,7],[235,10,235,11],[235,12,235,15],[235,17,235,18],[235,20,235,22],[235,23,235,27],[236,2,236,7],[236,10,236,11],[236,12,236,15],[236,17,236,18],[236,20,236,22],[236,23,236,27],[233,2,233,7],[233,10,233,11],[233,12,233,15],[233,17,233,18],[233,20,233,22],[233,23,233,27],[234,2,234,7],[234,10,234,11],[234,12,234,15],[234,17,234,18],[234,20,234,22],[234,23,234,27],[231,2,231,7],[231,10,231,11],[231,12,231,15],[231,17,231,18],[231,20,231,22],[231,23,231,27],[232,2,232,7],[232,10,232,11],[232,12,232,15],[232,17,232,18],[232,20,232,22],[232,23,232,27],[229,2,229,7],[229,10,229,11],[229,12,229,15],[229,17,229,18],[229,20,229,22],[229,23,229,27],[230,2,230,7],[230,10,230,11],[230,12,230,15],[230,17,230,18],[230,20,230,22],[230,23,230,27],[227,2,227,7],[227,10,227,11],[227,12,227,15],[227,17,227,18],[227,20,227,22],[227,23,227,27],[228,2,228,7],[228,10,228,11],[228,12,228,15],[228,17,228,18],[228,20,228,22],[228,23,228,27],[225,2,225,7],[225,10,225,11],[225,12,225,15],[225,17,225,18],[225,20,225,22],[225,23,225,27],[226,2,226,7],[226,10,226,11],[226,12,226,15],[226,17,226,18],[226,20,226,22],[226,23,226,27],[223,2,223,7],[223,10,223,11],[223,12,223,15],[223,17,223,18],[223,20,223,22],[223,23,223,27],[224,2,224,7],[224,10,224,11],[224,12,224,15],[224,17,224,18],[224,20,224,22],[224,23,224,27],[220,16,220,19],[221,2,221,7],[221,10,221,11],[221,12,221,15],[221,17,221,18],[221,20,221,22],[221,23,221,27],[222,2,222,7],[222,10,222,11],[222,12,222,15],[222,17,222,18],[222,20,222,22],[222,23,222,27],[214,3,214,6],[214,7,214,10],[214,11,214,16],[214,17,214,19],[214,20,214,23],[214,24,214,27],[216,0,218,4],[216,5,216,8],[216,9,216,18],[216,24,216,27],[217,5,217,7],[217,22,217,23],[217,24,217,27],[218,5,218,18],[218,22,218,23],[218,24,218,27],[211,2,211,7],[211,10,211,11],[211,12,211,15],[211,17,211,18],[211,20,211,22],[211,23,211,27],[212,22,212,23],[212,24,212,27],[213,11,213,16],[213,17,213,19],[213,20,213,23],[213,24,213,27],[209,2,209,7],[209,10,209,11],[209,12,209,15],[209,17,209,18],[209,20,209,22],[209,23,209,27],[210,2,210,7],[210,10,210,11],[210,12,210,15],[210,17,210,18],[210,20,210,22],[210,23,210,27],[207,2,207,7],[207,10,207,11],[207,12,207,15],[207,17,207,18],[207,20,207,22],[207,23,207,27],[208,2,208,7],[208,10,208,11],[208,12,208,15],[208,17,208,18],[208,20,208,22],[208,23,208,27],[205,2,205,7],[205,10,205,11],[205,12,205,15],[205,17,205,18],[205,20,205,22],[205,23,205,27],[206,2,206,7],[206,10,206,11],[206,12,206,15],[206,17,206,18],[206,20,206,22],[206,23,206,27],[203,2,203,7],[203,10,203,11],[203,12,203,15],[203,17,203,18],[203,20,203,22],[203,23,203,27],[204,2,204,7],[204,10,204,11],[204,12,204,15],[204,17,204,18],[204,20,204,22],[204,23,204,27],[201,2,201,7],[201,10,201,11],[201,12,201,15],[201,17,201,18],[201,20,201,22],[201,23,201,27],[202,2,202,7],[202,10,202,11],[202,12,202,15]],"merged_total":2035,"flags":["merged_cut"]}
["常用工事内訳書"]
[null,null,null,null,null,"現場名称：",null,null,null,null,null,null,null,null,null,null,null,null,null,null,null,null,"請求日",null,{"$f":"合計請求書!$R$2","v":"00:00:00"}]
[null,null,null,null,null,null,null,null,null,null,null,null,null,null,null,null,null,null,null,null,null,null,"会社名",null,{"$f":"合計請求書!$P$7","v":0}]
[]
[null,null,null,null,null,null,null,null,null,null,null,null,null,null,null,null,"法定福利費"]
["月","日","作業内容・品目",null,null,null,null,null,"数量","単位","単価",null,"金額(税抜)",null,null,null,"人数","単価",null,"金額(税抜)","交通費関連(税込）",null,null,"備考"]
[null,null,null,null,null,null,null,null,null,null,null,null,{"$f":"I7*K7","v":0},null,null,null,null,null,null,{"$f":"Q7*R7","v":0}]
[null,null,null,null,null,null,null,null,null,null,null,null,{"$f":"I8*K8","v":0},null,null,null,null,null,null,{"$f":"Q8*R8","v":0}]
[null,null,null,null,null,null,null,null,null,null,null,null,{"$f":"I9*K9","v":0},null,null,null,null,null,null,{"$f":"Q9*R9","v":0}]
[null,null,null,null,null,null,null,null,null,null,null,null,0,null,null,null,null,null,null,0]
[null,null,null,null,null,null,null,null,null,null,null,null,0,null,null,null,null,null,null,0]
[null,null,null,null,null,null,null,null,null,null,null,null,0,null,null,null,null,null,null,0]
[null,null,null,null,null,null,null,null,null,null,null,null,0,null,null,null,null,null,null,0]
[null,null,null,null,null,null,null,null,null,null,null,null,0,null,null,null,null,null,null,{"$f":"Q14*R14","v":0}]
[null,null,null,null,null,null,null,null,null,null,null,null,0,null,null,null,null,null,null,0]
[null,null,null,null,null,null,null,null,null,null,null,null,0,null,null,null,null,null,null,0]
[null,null,null,null,null,null,null,null,null,null,null,null,0,null,null,null,null,null,null,0]
[null,null,null,null,null,null,null,null,null,null,null,null,0,null,null,null,null,null,null,0]
[null,null,null,null,null,null,null,null,null,null,null,null,0,null,null,null,null,null,null,0]
[null,null,null,null,null,null,null,null,null,null,null,null,0,null,null,null,null,null,null,0]
[null,null,null,null,null,null,null,null,null,null,null,null,0,null,null,null,null,null,null,0]
[null,null,null,null,null,null,null,null,null,null,null,null,0,null,null,null,null,null,null,0]
[null,null,null,null,null,null,null,null,null,null,null,null,0,null,null,null,null,null,null,0]
[null,null,null,null,null,null,null,null,null,null,null,null,0,null,null,null,null,null,null,0]
[null,null,null,null,null,null,null,null,null,null,null,null,0,null,null,null,null,null,null,0]
[null,null,null,null,null,null,null,null,null,null,null,null,0,null,null,null,null,null,null,0]
[null,null,null,null,null,null,null,null,null,null,null,null,0,null,null,null,null,null,null,0]
[null,null,null,null,null,null,null,null,null,null,null,null,0,null,null,null,null,null,null,0]
[null,null,null,null,null,null,null,null,null,null,null,null,0,null,null,null,null,null,null,0]
[null,null,null,null,null,null,null,null,null,null,null,null,0,null,null,null,null,null,null,0]
[null,null,null,null,null,null,null,null,null,null,null,null,0,null,null,null,null,null,null,0]
[null,null,null,null,null,null,null,null,null,null,null,null,0,null,null,null,null,null,null,0]
[]
[null,null,null,null,null,null,null,null,null,null,null,"常用金額小計(税抜)①",null,null,null,null,null,"法定福利費小計(税抜)②",null,null,"請求金額計(税抜)①+②",null,null,null,"交通費関連小計(税込)"]
[null,null,null,null,null,null,null,null,null,null,null,{"$f":"SUM(M7:P32)","v":0},null,null,null,null,null,{"$f":"SUM(T7:T32)","v":0},null,null,{"$f":"L35+R35","v":0},null,null,null,{"$f":"SUM(U7:W32)","v":0}]
[]
["常用工事内訳書"]
[null,null,null,null,null,"現場名称：",null,null,null,null,null,null,null,null,null,null,null,null,null,null,null,null,"請求日",null,{"$f":"合計請求書!$R$2","v":"00:00:00"}]
[null,null,null,null,null,null,null,null,null,null,null,null,null,null,null,null,null,null,null,null,null,null,"会社名",null,{"$f":"合計請求書!$P$7","v":0}]
[]
[null,null,null,null,null,null,null,null,null,null,null,null,null,null,null,null,"法定福利費"]
["月","日","作業内容・品目",null,null,null,null,null,"数量","単位","単価",null,"金額(税抜)",null,null,null,"人数","単価",null,"金額(税抜)","交通費関連(税込）",null,null,"備考"]
[null,null,null,null,null,null,null,null,null,null,null,null,{"$f":"I43*K43","v":0},null,null,null,null,null,null,{"$f":"Q43*R43","v":0}]
[null,null,null,null,null,null,null,null,null,null,null,null,{"$f":"I44*K44","v":0},null,null,null,null,null,null,{"$f":"Q44*R44","v":0}]
[null,null,null,null,null,null,null,null,null,null,null,null,{"$f":"I45*K45","v":0},null,null,null,null,null,null,{"$f":"Q45*R45","v":0}]
[null,null,null,null,null,null,null,null,null,null,null,null,0,null,null,null,null,null,null,0]
[null,null,null,null,null,null,null,null,null,null,null,null,0,null,null,null,null,null,null,0]
[null,null,null,null,null,null,null,null,null,null,null,null,0,null,null,null,null,null,null,0]
[null,null,null,null,null,null,null,null,null,null,null,null,0,null,null,null,null,null,null,0]
[null,null,null,null,null,null,null,null,null,null,null,null,0,null,null,null,null,null,null,0]
[null,null,null,null,null,null,null,null,null,null,null,null,0,null,null,null,null,null,null,0]
[null,null,null,null,null,null,null,null,null,null,null,null,0,null,null,null,null,null,null,0]
[null,null,null,null,null,null,null,null,null,null,null,null,0,null,null,null,null,null,null,0]
[null,null,null,null,null,null,null,null,null,null,null,null,0,null,null,null,null,null,null,0]
[null,null,null,null,null,null,null,null,null,null,null,null,0,null,null,null,null,null,null,0]
[null,null,null,null,null,null,null,null,null,null,null,null,0,null,null,null,null,null,null,0]
[null,null,null,null,null,null,null,null,null,null,null,null,0,null,null,null,null,null,null,0]
[null,null,null,null,null,null,null,null,null,null,null,null,0,null,null,null,null,null,null,0]
[null,null,null,null,null,null,null,null,null,null,null,null,0,null,null,null,null,null,null,0]
[null,null,null,null,null,null,null,null,null,null,null,null,0,null,null,null,null,null,null,0]
[null,null,null,null,null,null,null,null,null,null,null,null,0,null,null,null,null,null,null,0]
[null,null,null,null,null,null,null,null,null,null,null,null,0,null,null,null,null,null,null,0]
[null,null,null,null,null,null,null,null,null,null,null,null,0,null,null,null,null,null,null,0]
[null,null,null,null,null,null,null,null,null,null,null,null,0,null,null,null,null,null,null,0]
[null,null,null,null,null,null,null,null,null,null,null,null,0,null,null,null,null,null,null,0]
[null,null,null,null,null,null,null,null,null,null,null,null,0,null,null,null,null,null,null,0]
[null,null,null,null,null,null,null,null,null,null,null,null,0,null,null,null,null,null,null,0]
[null,null,null,null,null,null,null,null,null,null,null,null,0,null,null,null,null,null,null,0]
[]
[null,null,null,null,null,null,null,null,null,null,null,"常用金額小計(税抜)①",null,null,null,null,null,"法定福利費小計(税抜)②",null,null,"請求金額計(税抜)①+②",null,null,null,"交通費関連小計(税込)"]
[null,null,null,null,null,null,null,null,null,null,null,{"$f":"SUM(M43:P68)","v":0},null,null,null,null,null,{"$f":"SUM(T43:T68)","v":0},null,null,{"$f":"L71+R71","v":0},null,null,null,{"$f":"SUM(U43:W68)","v":0}]
[]
["常用工事内訳書"]
[null,null,null,null,null,"現場名称：",null,null,null,null,null,null,null,null,null,null,null,null,null,null,null,null,"請求日",null,{"$f":"合計請求書!$R$2","v":"00:00:00"}]
[null,null,null,null,null,null,null,null,null,null,null,null,null,null,null,null,null,null,null,null,null,null,"会社名",null,{"$f":"合計請求書!$P$7","v":0}]
[]
[null,null,null,null,null,null,null,null,null,null,null,null,null,null,null,null,"法定福利費"]
["月","日","作業内容・品目",null,null,null,null,null,"数量","単位","単価",null,"金額(税抜)",null,null,null,"人数","単価",null,"金額(税抜)","交通費関連(税込）",null,null,"備考"]
[null,null,null,null,null,null,null,null,null,null,null,null,{"$f":"I79*K79","v":0},null,null,null,null,null,null,{"$f":"Q79*R79","v":0}]
[null,null,null,null,null,null,null,null,null,null,null,null,{"$f":"I80*K80","v":0},null,null,null,null,null,null,{"$f":"Q80*R80","v":0}]
[null,null,null,null,null,null,null,null,null,null,null,null,{"$f":"I81*K81","v":0},null,null,null,null,null,null,{"$f":"Q81*R81","v":0}]
[null,null,null,null,null,null,null,null,null,null,null,null,0,null,null,null,null,null,null,0]
[null,null,null,null,null,null,null,null,null,null,null,null,0,null,null,null,null,null,null,0]
[null,null,null,null,null,null,null,null,null,null,null,null,0,null,null,null,null,null,null,0]
[null,null,null,null,null,null,null,null,null,null,null,null,0,null,null,null,null,null,null,0]
[null,null,null,null,null,null,null,null,null,null,null,null,0,null,null,null,null,null,null,0]
[null,null,null,null,null,null,null,null,null,null,null,null,0,null,null,null,null,null,null,0]
[null,null,null,null,null,null,null,null,null,null,null,null,0,null,null,null,null,null,null,0]
[null,null,null,null,null,null,null,null,null,null,null,null,0,null,null,null,null,null,null,0]
[null,null,null,null,null,null,null,null,null,null,null,null,0,null,null,null,null,null,null,0]
[null,null,null,null,null,null,null,null,null,null,null,null,0,null,null,null,null,null,null,0]
[null,null,null,null,null,null,null,null,null,null,null,null,0,null,null,null,null,null,null,0]
[null,null,null,null,null,null,null,null,null,null,null,null,0,null,null,null,null,null,null,0]
[null,null,null,null,null,null,null,null,null,null,null,null,0,null,null,null,null,null,null,0]
[null,null,null,null,null,null,null,null,null,null,null,null,0,null,null,null,null,null,null,0]
[null,null,null,null,null,null,null,null,null,null,null,null,0,null,null,null,null,null,null,0]
[null,null,null,null,null,null,null,null,null,null,null,null,0,null,null,null,null,null,null,0]
[null,null,null,null,null,null,null,null,null,null,null,null,0,null,null,null,null,null,null,0]
[null,null,null,null,null,null,null,null,null,null,null,null,0,null,null,null,null,null,null,0]
[null,null,null,null,null,null,null,null,null,null,null,null,0,null,null,null,null,null,null,0]
[null,null,null,null,null,null,null,null,null,null,null,null,0,null,null,null,null,null,null,0]
[null,null,null,null,null,null,null,null,null,null,null,null,0,null,null,null,null,null,null,0]
[null,null,null,null,null,null,null,null,null,null,null,null,0,null,null,null,null,null,null,0]
[null,null,null,null,null,null,null,null,null,null,null,null,0,null,null,null,null,null,null,0]
[]
[null,null,null,null,null,null,null,null,null,null,null,"常用金額小計(税抜)①",null,null,null,null,null,"法定福利費小計(税抜)②",null,null,"請求金額計(税抜)①+②",null,null,null,"交通費関連小計(税込)"]
[null,null,null,null,null,null,null,null,null,null,null,{"$f":"SUM(M79:P104)","v":0},null,null,null,null,null,{"$f":"SUM(T79:T104)","v":0},null,null,{"$f":"L107+R107","v":0},null,null,null,{"$f":"SUM(U79:W104)","v":0}]
[]
["常用工事内訳書"]
[null,null,null,null,null,"現場名称：",null,null,null,null,null,null,null,null,null,null,null,null,null,null,null,null,"請求日",null,{"$f":"合計請求書!$R$2","v":"00:00:00"}]
[null,null,null,null,null,null,null,null,null,null,null,null,null,null,null,null,null,null,null,null,null,null,"会社名",null,{"$f":"合計請求書!$P$7","v":0}]
[]
[null,null,null,null,null,null,null,null,null,null,null,null,null,null,null,null,"法定福利費"]
["月","日","作業内容・品目",null,null,null,null,null,"数量","単位","単価",null,"金額(税抜)",null,null,null,"人数","単価",null,"金額(税抜)","交通費関連(税込）",null,null,"備考"]
[null,null,null,null,null,null,null,null,null,null,null,null,{"$f":"I115*K115","v":0},null,null,null,null,null,null,{"$f":"Q115*R115","v":0}]
[null,null,null,null,null,null,null,null,null,null,null,null,{"$f":"I116*K116","v":0},null,null,null,null,null,null,{"$f":"Q116*R116","v":0}]
[null,null,null,null,null,null,null,null,null,null,null,null,{"$f":"I117*K117","v":0},null,null,null,null,null,null,{"$f":"Q117*R117","v":0}]
[null,null,null,null,null,null,null,null,null,null,null,null,0,null,null,null,null,null,null,0]
[null,null,null,null,null,null,null,null,null,null,null,null,0,null,null,null,null,null,null,0]
[null,null,null,null,null,null,null,null,null,null,null,null,0,null,null,null,null,null,null,0]
[null,null,null,null,null,null,null,null,null,null,null,null,0,null,null,null,null,null,null,0]
[null,null,null,null,null,null,null,null,null,null,null,null,0,null,null,null,null,null,null,0]
[null,null,null,null,null,null,null,null,null,null,null,null,0,null,null,null,null,null,null,0]
[null,null,null,null,null,null,null,null,null,null,null,null,0,null,null,null,null,null,null,0]
[null,null,null,null,null,null,null,null,null,null,null,null,0,null,null,null,null,null,null,0]
[null,null,null,null,null,null,null,null,null,null,null,null,0,null,null,null,null,null,null,0]
[null,null,null,null,null,null,null,null,null,null,null,null,0,null,null,null,null,null,null,0]
[null,null,null,null,null,null,null,null,null,null,null,null,0,null,null,null,null,null,null,0]
[null,null,null,null,null,null,null,null,null,null,null,null,0,null,null,null,null,null,null,0]
[null,null,null,null,null,null,null,null,null,null,null,null,0,null,null,null,null,null,null,0]
[null,null,null,null,null,null,null,null,null,null,null,null,0,null,null,null,null,null,null,0]
[null,null,null,null,null,null,null,null,null,null,null,null,0,null,null,null,null,null,null,0]
[null,null,null,null,null,null,null,null,null,null,null,null,0,null,null,null,null,null,null,0]
[null,null,null,null,null,null,null,null,null,null,null,null,0,null,null,null,null,null,null,0]
[null,null,null,null,null,null,null,null,null,null,null,null,0,null,null,null,null,null,null,0]
[null,null,null,null,null,null,null,null,null,null,null,null,0,null,null,null,null,null,null,0]
[null,null,null,null,null,null,null,null,null,null,null,null,0,null,null,null,null,null,null,0]
[null,null,null,null,null,null,null,null,null,null,null,null,0,null,null,null,null,null,null,0]
[null,null,null,null,null,null,null,null,null,null,null,null,0,null,null,null,null,null,null,0]
[null,null,null,null,null,null,null,null,null,null,null,null,0,null,null,null,null,null,null,0]
[]
[null,null,null,null,null,null,null,null,null,null,null,"常用金額小計(税抜)①",null,null,null,null,null,"法定福利費小計(税抜)②",null,null,"請求金額計(税抜)①+②",null,null,null,"交通費関連小計(税込)"]
[null,null,null,null,null,null,null,null,null,null,null,{"$f":"SUM(M115:P140)","v":0},null,null,null,null,null,{"$f":"SUM(T115:T140)","v":0},null,null,{"$f":"L143+R143","v":0},null,null,null,{"$f":"SUM(U115:W140)","v":0}]
[]
["常用工事内訳書"]
[null,null,null,null,null,"現場名称：",null,null,null,null,null,null,null,null,null,null,null,null,null,null,null,null,"請求日",null,{"$f":"合計請求書!$R$2","v":"00:00:00"}]
[null,null,null,null,null,null,null,null,null,null,null,null,null,null,null,null,null,null,null,null,null,null,"会社名",null,{"$f":"合計請求書!$P$7","v":0}]
[]
[null,null,null,null,null,null,null,null,null,null,null,null,null,null,null,null,"法定福利費"]
["月","日","作業内容・品目",null,null,null,null,null,"数量","単位","単価",null,"金額(税抜)",null,null,null,"人数","単価",null,"金額(税抜)","交通費関連(税込）",null,null,"備考"]
[null,null,null,null,null,null,null,null,null,null,null,null,{"$f":"I151*K151","v":0},null,null,null,null,null,null,{"$f":"Q151*R151","v":0}]
[null,null,null,null,null,null,null,null,null,null,null,null,{"$f":"I152*K152","v":0},null,null,null,null,null,null,{"$f":"Q152*R152","v":0}]
[null,null,null,null,null,null,null,null,null,null,null,null,{"$f":"I153*K153","v":0},null,null,null,null,null,null,{"$f":"Q153*R153","v":0}]
[null,null,null,null,null,null,null,null,null,null,null,null,0,null,null,null,null,null,null,0]
[null,null,null,null,null,null,null,null,null,null,null,null,0,null,null,null,null,null,null,0]
[null,null,null,null,null,null,null,null,null,null,null,null,0,null,null,null,null,null,null,0]
[null,null,null,null,null,null,null,null,null,null,null,null,0,null,null,null,null,null,null,0]
[null,null,null,null,null,null,null,null,null,null,null,null,0,null,null,null,null,null,null,0]
[null,null,null,null,null,null,null,null,null,null,null,null,0,null,null,null,null,null,null,0]
[null,null,null,null,null,null,null,null,null,null,null,null,0,null,null,null,null,null,null,0]
[null,null,null,null,null,null,null,null,null,null,null,null,0,null,null,null,null,null,null,0]
[null,null,null,null,null,null,null,null,null,null,null,null,0,null,null,null,null,null,null,0]
[null,null,null,null,null,null,null,null,null,null,null,null,0,null,null,null,null,null,null,0]
[null,null,null,null,null,null,null,null,null,null,null,null,0,null,null,null,null,null,null,0]
[null,null,null,null,null,null,null,null,null,null,null,null,0,null,null,null,null,null,null,0]
[null,null,null,null,null,null,null,null,null,null,null,null,0,null,null,null,null,null,null,0]
[null,null,null,null,null,null,null,null,null,null,null,null,0,null,null,null,null,null,null,0]
[null,null,null,null,null,null,null,null,null,null,null,null,0,null,null,null,null,null,null,0]
[null,null,null,null,null,null,null,null,null,null,null,null,0,null,null,null,null,null,null,0]
[null,null,null,null,null,null,null,null,null,null,null,null,0,null,null,null,null,null,null,0]
[null,null,null,null,null,null,null,null,null,null,null,null,0,null,null,null,null,null,null,0]
[null,null,null,null,null,null,null,null,null,null,null,null,0,null,null,null,null,null,null,0]
[null,null,null,null,null,null,null,null,null,null,null,null,0,null,null,null,null,null,null,0]
[null,null,null,null,null,null,null,null,null,null,null,null,0,null,null,null,null,null,null,0]
[null,null,null,null,null,null,null,null,null,null,null,null,0,null,null,null,null,null,null,0]
[null,null,null,null,null,null,null,null,null,null,null,null,0,null,null,null,null,null,null,0]
[]
[null,null,null,null,null,null,null,null,null,null,null,"常用金額小計(税抜)①",null,null,null,null,null,"法定福利費小計(税抜)②",null,null,"請求金額計(税抜)①+②",null,null,null,"交通費関連小計(税込)"]
[null,null,null,null,null,null,null,null,null,null,null,{"$f":"SUM(M151:P176)","v":0},null,null,null,null,null,{"$f":"SUM(T151:T176)","v":0},null,null,{"$f":"L179+R179","v":0},null,null,null,{"$f":"SUM(U151:W176)","v":0}]
[]
["常用工事内訳書"]
[null,null,null,null,null,"現場名称：",null,null,null,null,null,null,null,null,null,null,null,null,null,null,null,null,"請求日",null,{"$f":"合計請求書!$R$2","v":"00:00:00"}]
[null,null,null,null,null,null,null,null,null,null,null,null,null,null,null,null,null,null,null,null,null,null,"会社名",null,{"$f":"合計請求書!$P$7","v":0}]
[]
[null,null,null,null,null,null,null,null,null,null,null,null,null,null,null,null,"法定福利費"]
["月","日","作業内容・品目",null,null,null,null,null,"数量","単位","単価",null,"金額(税抜)",null,null,null,"人数","単価",null,"金額(税抜)","交通費関連(税込）",null,null,"備考"]
[null,null,null,null,null,null,null,null,null,null,null,null,{"$f":"I187*K187","v":0},null,null,null,null,null,null,{"$f":"Q187*R187","v":0}]
[null,null,null,null,null,null,null,null,null,null,null,null,{"$f":"I188*K188","v":0},null,null,null,null,null,null,{"$f":"Q188*R188","v":0}]
[null,null,null,null,null,null,null,null,null,null,null,null,{"$f":"I189*K189","v":0},null,null,null,null,null,null,{"$f":"Q189*R189","v":0}]
[null,null,null,null,null,null,null,null,null,null,null,null,0,null,null,null,null,null,null,0]
[null,null,null,null,null,null,null,null,null,null,null,null,0,null,null,null,null,null,null,0]
[null,null,null,null,null,null,null,null,null,null,null,null,0,null,null,null,null,null,null,0]
[null,null,null,null,null,null,null,null,null,null,null,null,0,null,null,null,null,null,null,0]
[null,null,null,null,null,null,null,null,null,null,null,null,0,null,null,null,null,null,null,0]
[null,null,null,null,null,null,null,null,null,null,null,null,0,null,null,null,null,null,null,0]
[null,null,null,null,null,null,null,null,null,null,null,null,0,null,null,null,null,null,null,0]
[null,null,null,null,null,null,null,null,null,null,null,null,0,null,null,null,null,null,null,0]
[null,null,null,null,null,null,null,null,null,null,null,null,0,null,null,null,null,null,null,0]
[null,null,null,null,null,null,null,null,null,null,null,null,0,null,null,null,null,null,null,0]
[null,null,null,null,null,null,null,null,null,null,null,null,0,null,null,null,null,null,null,0]
[null,null,null,null,null,null,null,null,null,null,null,null,0,null,null,null,null,null,null,0]
[null,null,null,null,null,null,null,null,null,null,null,null,0,null,null,null,null,null,null,0]
[null,null,null,null,null,null,null,null,null,null,null,null,0,null,null,null,null,null,null,0]
[null,null,null,null,null,null,null,null,null,null,null,null,0,null,null,null,null,null,null,0]
[null,null,null,null,null,null,null,null,null,null,null,null,0,null,null,null,null,null,null,0]
[null,null,null,null,null,null,null,null,null,null,null,null,0,null,null,null,null,null,null,0]
[null,null,null,null,null,null,null,null,null,null,null,null,0,null,null,null,null,null,null,0]
[null,null,null,null,null,null,null,null,null,null,null,null,0,null,null,null,null,null,null,0]
[null,null,null,null,null,null,null,null,null,null,null,null,0,null,null,null,null,null,null,0]
[null,null,null,null,null,null,null,null,null,null,null,null,0,null,null,null,null,null,null,0]
[null,null,null,null,null,null,null,null,null,null,null,null,0,null,null,null,null,null,null,0]
[null,null,null,null,null,null,null,null,null,null,null,null,0,null,null,null,null,null,null,0]
[]
[null,null,null,null,null,null,null,null,null,null,null,"常用金額小計(税抜)①",null,null,null,null,null,"法定福利費小計(税抜)②",null,null,"請求金額計(税抜)①+②",null,null,null,"交通費関連小計(税込)"]
[null,null,null,null,null,null,null,null,null,null,null,{"$f":"SUM(M187:P212)","v":0},null,null,null,null,null,{"$f":"SUM(T187:T212)","v":0},null,null,{"$f":"L215+R215","v":0},null,null,null,{"$f":"SUM(U187:W212)","v":0}]
[]
["常用工事内訳書"]
[null,null,null,null,null,"現場名称：",null,null,null,null,null,null,null,null,null,null,null,null,null,null,null,null,"請求日",null,{"$f":"合計請求書!$R$2","v":"00:00:00"}]
[null,null,null,null,null,null,null,null,null,null,null,null,null,null,null,null,null,null,null,null,null,null,"会社名",null,{"$f":"合計請求書!$P$7","v":0}]
[]
[null,null,null,null,null,null,null,null,null,null,null,null,null,null,null,null,"法定福利費"]
["月","日","作業内容・品目",null,null,null,null,null,"数量","単位","単価",null,"金額(税抜)",null,null,null,"人数","単価",null,"金額(税抜)","交通費関連(税込）",null,null,"備考"]
[null,null,null,null,null,null,null,null,null,null,null,null,{"$f":"I223*K223","v":0},null,null,null,null,null,null,{"$f":"Q223*R223","v":0}]
[null,null,null,null,null,null,null,null,null,null,null,null,{"$f":"I224*K224","v":0},null,null,null,null,null,null,{"$f":"Q224*R224","v":0}]
[null,null,null,null,null,null,null,null,null,null,null,null,{"$f":"I225*K225","v":0},null,null,null,null,null,null,{"$f":"Q225*R225","v":0}]
[null,null,null,null,null,null,null,null,null,null,null,null,0,null,null,null,null,null,null,0]
[null,null,null,null,null,null,null,null,null,null,null,null,0,null,null,null,null,null,null,0]
[null,null,null,null,null,null,null,null,null,null,null,null,0,null,null,null,null,null,null,0]
[null,null,null,null,null,null,null,null,null,null,null,null,0,null,null,null,null,null,null,0]
[null,null,null,null,null,null,null,null,null,null,null,null,0,null,null,null,null,null,null,0]
[null,null,null,null,null,null,null,null,null,null,null,null,0,null,null,null,null,null,null,0]
[null,null,null,null,null,null,null,null,null,null,null,null,0,null,null,null,null,null,null,0]
[null,null,null,null,null,null,null,null,null,null,null,null,0,null,null,null,null,null,null,0]
[null,null,null,null,null,null,null,null,null,null,null,null,0,null,null,null,null,null,null,0]
[null,null,null,null,null,null,null,null,null,null,null,null,0,null,null,null,null,null,null,0]
[null,null,null,null,null,null,null,null,null,null,null,null,0,null,null,null,null,null,null,0]
[null,null,null,null,null,null,null,null,null,null,null,null,0,null,null,null,null,null,null,0]
[null,null,null,null,null,null,null,null,null,null,null,null,0,null,null,null,null,null,null,0]
[null,null,null,null,null,null,null,null,null,null,null,null,0,null,null,null,null,null,null,0]
[null,null,null,null,null,null,null,null,null,null,null,null,0,null,null,null,null,null,null,0]
[null,null,null,null,null,null,null,null,null,null,null,null,0,null,null,null,null,null,null,0]
[null,null,null,null,null,null,null,null,null,null,null,null,0,null,null,null,null,null,null,0]
[null,null,null,null,null,null,null,null,null,null,null,null,0,null,null,null,null,null,null,0]
[null,null,null,null,null,null,null,null,null,null,null,null,0,null,null,null,null,null,null,0]
[null,null,null,null,null,null,null,null,null,null,null,null,0,null,null,null,null,null,null,0]
[null,null,null,null,null,null,null,null,null,null,null,null,0,null,null,null,null,null,null,0]
[null,null,null,null,null,null,null,null,null,null,null,null,0,null,null,null,null,null,null,0]
[null,null,null,null,null,null,null,null,null,null,null,null,0,null,null,null,null,null,null,0]
[]
[null,null,null,null,null,null,null,null,null,null,null,"常用金額小計(税抜)①",null,null,null,null,null,"法定福利費小計(税抜)②",null,null,"請求金額計(税抜)①+②",null,null,null,"交通費関連小計(税込)"]
[null,null,null,null,null,null,null,null,null,null,null,{"$f":"SUM(M223:P248)","v":0},null,null,null,null,null,{"$f":"SUM(T223:T248)","v":0},null,null,{"$f":"L251+R251","v":0},null,null,null,{"$f":"SUM(U223:W248)","v":0}]
[]
["常用工事内訳書"]
[null,null,null,null,null,"現場名称：",null,null,null,null,null,null,null,null,null,null,null,null,null,null,null,null,"請求日",null,{"$f":"合計請求書!$R$2","v":"00:00:00"}]
[null,null,null,null,null,null,null,null,null,null,null,null,null,null,null,null,null,null,null,null,null,null,"会社名",null,{"$f":"合計請求書!$P$7","v":0}]
[]
[null,null,null,null,null,null,null,null,null,null,null,null,null,null,null,null,"法定福利費"]
["月","日","作業内容・品目",null,null,null,null,null,"数量","単位","単価",null,"金額(税抜)",null,null,null,"人数","単価",null,"金額(税抜)","交通費関連(税込）",null,null,"備考"]
[null,null,null,null,null,null,null,null,null,null,null,null,{"$f":"I259*K259","v":0},null,null,null,null,null,null,{"$f":"Q259*R259","v":0}]
[null,null,null,null,null,null,null,null,null,null,null,null,{"$f":"I260*K260","v":0},null,null,null,null,null,null,{"$f":"Q260*R260","v":0}]
[null,null,null,null,null,null,null,null,null,null,null,null,{"$f":"I261*K261","v":0},null,null,null,null,null,null,{"$f":"Q261*R261","v":0}]
[null,null,null,null,null,null,null,null,null,null,null,null,0,null,null,null,null,null,null,0]
[null,null,null,null,null,null,null,null,null,null,null,null,0,null,null,null,null,null,null,0]
[null,null,null,null,null,null,null,null,null,null,null,null,0,null,null,null,null,null,null,0]
[null,null,null,null,null,null,null,null,null,null,null,null,0,null,null,null,null,null,null,0]
[null,null,null,null,null,null,null,null,null,null,null,null,0,null,null,null,null,null,null,0]
[null,null,null,null,null,null,null,null,null,null,null,null,0,null,null,null,null,null,null,0]
[null,null,null,null,null,null,null,null,null,null,null,null,0,null,null,null,null,null,null,0]
[null,null,null,null,null,null,null,null,null,null,null,null,0,null,null,null,null,null,null,0]
[null,null,null,null,null,null,null,null,null,null,null,null,0,null,null,null,null,null,null,0]
[null,null,null,null,null,null,null,null,null,null,null,null,0,null,null,null,null,null,null,0]
[null,null,null,null,null,null,null,null,null,null,null,null,0,null,null,null,null,null,null,0]
[null,null,null,null,null,null,null,null,null,null,null,null,0,null,null,null,null,null,null,0]
[null,null,null,null,null,null,null,null,null,null,null,null,0,null,null,null,null,null,null,0]
[null,null,null,null,null,null,null,null,null,null,null,null,0,null,null,null,null,null,null,0]
[null,null,null,null,null,null,null,null,null,null,null,null,0,null,null,null,null,null,null,0]
[null,null,null,null,null,null,null,null,null,null,null,null,0,null,null,null,null,null,null,0]
[null,null,null,null,null,null,null,null,null,null,null,null,0,null,null,null,null,null,null,0]
[null,null,null,null,null,null,null,null,null,null,null,null,0,null,null,null,null,null,null,0]
[null,null,null,null,null,null,null,null,null,null,null,null,0,null,null,null,null,null,null,0]
[null,null,null,null,null,null,null,null,null,null,null,null,0,null,null,null,null,null,null,0]
[null,null,null,null,null,null,null,null,null,null,null,null,0,null,null,null,null,null,null,0]
[null,null,null,null,null,null,null,null,null,null,null,null,0,null,null,null,null,null,null,0]
[null,null,null,null,null,null,null,null,null,null,null,null,0,null,null,null,null,null,null,0]
[]
[null,null,null,null,null,null,null,null,null,null,null,"常用金額小計(税抜)①",null,null,null,null,null,"法定福利費小計(税抜)②",null,null,"請求金額計(税抜)①+②",null,null,null,"交通費関連小計(税込)"]
[null,null,null,null,null,null,null,null,null,null,null,{"$f":"SUM(M259:P284)","v":0},null,null,null,null,null,{"$f":"SUM(T259:T284)","v":0},null,null,{"$f":"L287+R287","v":0},null,null,null,{"$f":"SUM(U259:W284)","v":0}]
[]
["常用工事内訳書"]
[null,null,null,null,null,"現場名称：",null,null,null,null,null,null,null,null,null,null,null,null,null,null,null,null,"請求日",null,{"$f":"合計請求書!$R$2","v":"00:00:00"}]
[null,null,null,null,null,null,null,null,null,null,null,null,null,null,null,null,null,null,null,null,null,null,"会社名",null,{"$f":"合計請求書!$P$7","v":0}]
[]
[null,null,null,null,null,null,null,null,null,null,null,null,null,null,null,null,"法定福利費"]
["月","日","作業内容・品目",null,null,null,null,null,"数量","単位","単価",null,"金額(税抜)",null,null,null,"人数","単価",null,"金額(税抜)","交通費関連(税込）",null,null,"備考"]
[null,null,null,null,null,null,null,null,null,null,null,null,{"$f":"I295*K295","v":0},null,null,null,null,null,null,{"$f":"Q295*R295","v":0}]
[null,null,null,null,null,null,null,null,null,null,null,null,{"$f":"I296*K296","v":0},null,null,null,null,null,null,{"$f":"Q296*R296","v":0}]
[null,null,null,null,null,null,null,null,null,null,null,null,{"$f":"I297*K297","v":0},null,null,null,null,null,null,{"$f":"Q297*R297","v":0}]
[null,null,null,null,null,null,null,null,null,null,null,null,0,null,null,null,null,null,null,0]
[null,null,null,null,null,null,null,null,null,null,null,null,0,null,null,null,null,null,null,0]
[null,null,null,null,null,null,null,null,null,null,null,null,0,null,null,null,null,null,null,0]
[null,null,null,null,null,null,null,null,null,null,null,null,0,null,null,null,null,null,null,0]
[null,null,null,null,null,null,null,null,null,null,null,null,0,null,null,null,null,null,null,0]
[null,null,null,null,null,null,null,null,null,null,null,null,0,null,null,null,null,null,null,0]
[null,null,null,null,null,null,null,null,null,null,null,null,0,null,null,null,null,null,null,0]
[null,null,null,null,null,null,null,null,null,null,null,null,0,null,null,null,null,null,null,0]
[null,null,null,null,null,null,null,null,null,null,null,null,0,null,null,null,null,null,null,0]
[null,null,null,null,null,null,null,null,null,null,null,null,0,null,null,null,null,null,null,0]
[null,null,null,null,null,null,null,null,null,null,null,null,0,null,null,null,null,null,null,0]
[null,null,null,null,null,null,null,null,null,null,null,null,0,null,null,null,null,null,null,0]
[null,null,null,null,null,null,null,null,null,null,null,null,0,null,null,null,null,null,null,0]
[null,null,null,null,null,null,null,null,null,null,null,null,0,null,null,null,null,null,null,0]
[null,null,null,null,null,null,null,null,null,null,null,null,0,null,null,null,null,null,null,0]
[null,null,null,null,null,null,null,null,null,null,null,null,0,null,null,null,null,null,null,0]
[null,null,null,null,null,null,null,null,null,null,null,null,0,null,null,null,null,null,null,0]
[null,null,null,null,null,null,null,null,null,null,null,null,0,null,null,null,null,null,null,0]
[null,null,null,null,null,null,null,null,null,null,null,null,0,null,null,null,null,null,null,0]
[null,null,null,null,null,null,null,null,null,null,null,null,0,null,null,null,null,null,null,0]
[null,null,null,null,null,null,null,null,null,null,null,null,0,null,null,null,null,null,null,0]
[null,null,null,null,null,null,null,null,null,null,null,null,0,null,null,null,null,null,null,0]
[null,null,null,null,null,null,null,null,null,null,null,null,0,null,null,null,null,null,null,0]
[]
[null,null,null,null,null,null,null,null,null,null,null,"常用金額小計(税抜)①",null,null,null,null,null,"法定福利費小計(税抜)②",null,null,"請求金額計(税抜)①+②",null,null,null,"交通費関連小計(税込)"]
[null,null,null,null,null,null,null,null,null,null,null,{"$f":"SUM(M295:P320)","v":0},null,null,null,null,null,{"$f":"SUM(T295:T320)","v":0},null,null,{"$f":"L323+R323","v":0},null,null,null,{"$f":"SUM(U295:W320)","v":0}]
[]
["常用工事内訳書"]
[null,null,null,null,null,"現場名称：",null,null,null,null,null,null,null,null,null,null,null,null,null,null,null,null,"請求日",null,{"$f":"合計請求書!$R$2","v":"00:00:00"}]
[null,null,null,null,null,null,null,null,null,null,null,null,null,null,null,null,null,null,null,null,null,null,"会社名",null,{"$f":"合計請求書!$P$7","v":0}]
[]
[null,null,null,null,null,null,null,null,null,null,null,null,null,null,null,null,"法定福利費"]
["月","日","作業内容・品目",null,null,null,null,null,"数量","単位","単価",null,"金額(税抜)",null,null,null,"人数","単価",null,"金額(税抜)","交通費関連(税込）",null,null,"備考"]
[null,null,null,null,null,null,null,null,null,null,null,null,{"$f":"I331*K331","v":0},null,null,null,null,null,null,{"$f":"Q331*R331","v":0}]
[null,null,null,null,null,null,null,null,null,null,null,null,{"$f":"I332*K332","v":0},null,null,null,null,null,null,{"$f":"Q332*R332","v":0}]
[null,null,null,null,null,null,null,null,null,null,null,null,{"$f":"I333*K333","v":0},null,null,null,null,null,null,{"$f":"Q333*R333","v":0}]
[null,null,null,null,null,null,null,null,null,null,null,null,0,null,null,null,null,null,null,0]
[null,null,null,null,null,null,null,null,null,null,null,null,0,null,null,null,null,null,null,0]
[null,null,null,null,null,null,null,null,null,null,null,null,0,null,null,null,null,null,null,0]
[null,null,null,null,null,null,null,null,null,null,null,null,0,null,null,null,null,null,null,0]
[null,null,null,null,null,null,null,null,null,null,null,null,0,null,null,null,null,null,null,0]
[null,null,null,null,null,null,null,null,null,null,null,null,0,null,null,null,null,null,null,0]
[null,null,null,null,null,null,null,null,null,null,null,null,0,null,null,null,null,null,null,0]
[null,null,null,null,null,null,null,null,null,null,null,null,0,null,null,null,null,null,null,0]
[null,null,null,null,null,null,null,null,null,null,null,null,0,null,null,null,null,null,null,0]
[null,null,null,null,null,null,null,null,null,null,null,null,0,null,null,null,null,null,null,0]
[null,null,null,null,null,null,null,null,null,null,null,null,0,null,null,null,null,null,null,0]
[null,null,null,null,null,null,null,null,null,null,null,null,0,null,null,null,null,null,null,0]
[null,null,null,null,null,null,null,null,null,null,null,null,0,null,null,null,null,null,null,0]
[null,null,null,null,null,null,null,null,null,null,null,null,0,null,null,null,null,null,null,0]
[null,null,null,null,null,null,null,null,null,null,null,null,0,null,null,null,null,null,null,0]
[null,null,null,null,null,null,null,null,null,null,null,null,0,null,null,null,null,null,null,0]
[null,null,null,null,null,null,null,null,null,null,null,null,0,null,null,null,null,null,null,0]
[null,null,null,null,null,null,null,null,null,null,null,null,0,null,null,null,null,null,null,0]
[null,null,null,null,null,null,null,null,null,null,null,null,0,null,null,null,null,null,null,0]
[null,null,null,null,null,null,null,null,null,null,null,null,0,null,null,null,null,null,null,0]
[null,null,null,null,null,null,null,null,null,null,null,null,0,null,null,null,null,null,null,0]
[null,null,null,null,null,null,null,null,null,null,null,null,0,null,null,null,null,null,null,0]
[null,null,null,null,null,null,null,null,null,null,null,null,0,null,null,null,null,null,null,0]
[]
[null,null,null,null,null,null,null,null,null,null,null,"常用金額小計(税抜)①",null,null,null,null,null,"法定福利費小計(税抜)②",null,null,"請求金額計(税抜)①+②",null,null,null,"交通費関連小計(税込)"]
[null,null,null,null,null,null,null,null,null,null,null,{"$f":"SUM(M331:P356)","v":0},null,null,null,null,null,{"$f":"SUM(T331:T356)","v":0},null,null,{"$f":"L359+R359","v":0},null,null,null,{"$f":"SUM(U331:W356)","v":0}]
[]
["常用工事内訳書"]
[null,null,null,null,null,"現場名称：",null,null,null,null,null,null,null,null,null,null,null,null,null,null,null,null,"請求日",null,{"$f":"合計請求書!$R$2","v":"00:00:00"}]
[null,null,null,null,null,null,null,null,null,null,null,null,null,null,null,null,null,null,null,null,null,null,"会社名",null,{"$f":"合計請求書!$P$7","v":0}]
[]
[null,null,null,null,null,null,null,null,null,null,null,null,null,null,null,null,"法定福利費"]
["月","日","作業内容・品目",null,null,null,null,null,"数量","単位","単価",null,"金額(税抜)",null,null,null,"人数","単価",null,"金額(税抜)","交通費関連(税込）",null,null,"備考"]
[null,null,null,null,null,null,null,null,null,null,null,null,{"$f":"I367*K367","v":0},null,null,null,null,null,null,{"$f":"Q367*R367","v":0}]
[null,null,null,null,null,null,null,null,null,null,null,null,{"$f":"I368*K368","v":0},null,null,null,null,null,null,{"$f":"Q368*R368","v":0}]
[null,null,null,null,null,null,null,null,null,null,null,null,{"$f":"I369*K369","v":0},null,null,null,null,null,null,{"$f":"Q369*R369","v":0}]
[null,null,null,null,null,null,null,null,null,null,null,null,0,null,null,null,null,null,null,0]
[null,null,null,null,null,null,null,null,null,null,null,null,0,null,null,null,null,null,null,0]
[null,null,null,null,null,null,null,null,null,null,null,null,0,null,null,null,null,null,null,0]
[null,null,null,null,null,null,null,null,null,null,null,null,0,null,null,null,null,null,null,0]
[null,null,null,null,null,null,null,null,null,null,null,null,0,null,null,null,null,null,null,0]
[null,null,null,null,null,null,null,null,null,null,null,null,0,null,null,null,null,null,null,0]
[null,null,null,null,null,null,null,null,null,null,null,null,0,null,null,null,null,null,null,0]
[null,null,null,null,null,null,null,null,null,null,null,null,0,null,null,null,null,null,null,0]
[null,null,null,null,null,null,null,null,null,null,null,null,0,null,null,null,null,null,null,0]
[null,null,null,null,null,null,null,null,null,null,null,null,0,null,null,null,null,null,null,0]
[null,null,null,null,null,null,null,null,null,null,null,null,0,null,null,null,null,null,null,0]
[null,null,null,null,null,null,null,null,null,null,null,null,0,null,null,null,null,null,null,0]
[null,null,null,null,null,null,null,null,null,null,null,null,0,null,null,null,null,null,null,0]
[null,null,null,null,null,null,null,null,null,null,null,null,0,null,null,null,null,null,null,0]
[null,null,null,null,null,null,null,null,null,null,null,null,0,null,null,null,null,null,null,0]
[null,null,null,null,null,null,null,null,null,null,null,null,0,null,null,null,null,null,null,0]
[null,null,null,null,null,null,null,null,null,null,null,null,0,null,null,null,null,null,null,0]
[null,null,null,null,null,null,null,null,null,null,null,null,0,null,null,null,null,null,null,0]
[null,null,null,null,null,null,null,null,null,null,null,null,0,null,null,null,null,null,null,0]
[null,null,null,null,null,null,null,null,null,null,null,null,0,null,null,null,null,null,null,0]
[null,null,null,null,null,null,null,null,null,null,null,null,0,null,null,null,null,null,null,0]
[null,null,null,null,null,null,null,null,null,null,null,null,0,null,null,null,null,null,null,0]
[null,null,null,null,null,null,null,null,null,null,null,null,0,null,null,null,null,null,null,0]
[]
[null,null,null,null,null,null,null,null,null,null,null,"常用金額小計(税抜)①",null,null,null,null,null,"法定福利費小計(税抜)②",null,null,"請求金額計(税抜)①+②",null,null,null,"交通費関連小計(税込)"]
[null,null,null,null,null,null,null,null,null,null,null,{"$f":"SUM(M367:P392)","v":0},null,null,null,null,null,{"$f":"SUM(T367:T392)","v":0},null,null,{"$f":"L395+R395","v":0},null,null,null,{"$f":"SUM(U367:W392)","v":0}]